BEGIN:VCALENDAR
VERSION:2.0
PRODID:-//Explore Beaufort SC - ECPv6.15.20//NONSGML v1.0//EN
CALSCALE:GREGORIAN
METHOD:PUBLISH
X-WR-CALNAME:Explore Beaufort SC
X-ORIGINAL-URL:https://explorebeaufortsc.com
X-WR-CALDESC:Events for Explore Beaufort SC
REFRESH-INTERVAL;VALUE=DURATION:PT1H
X-Robots-Tag:noindex
X-PUBLISHED-TTL:PT1H
BEGIN:VTIMEZONE
TZID:America/New_York
BEGIN:DAYLIGHT
TZOFFSETFROM:-0500
TZOFFSETTO:-0400
TZNAME:EDT
DTSTART:20250309T070000
END:DAYLIGHT
BEGIN:STANDARD
TZOFFSETFROM:-0400
TZOFFSETTO:-0500
TZNAME:EST
DTSTART:20251102T060000
END:STANDARD
BEGIN:DAYLIGHT
TZOFFSETFROM:-0500
TZOFFSETTO:-0400
TZNAME:EDT
DTSTART:20260308T070000
END:DAYLIGHT
BEGIN:STANDARD
TZOFFSETFROM:-0400
TZOFFSETTO:-0500
TZNAME:EST
DTSTART:20261101T060000
END:STANDARD
BEGIN:DAYLIGHT
TZOFFSETFROM:-0500
TZOFFSETTO:-0400
TZNAME:EDT
DTSTART:20270314T070000
END:DAYLIGHT
BEGIN:STANDARD
TZOFFSETFROM:-0400
TZOFFSETTO:-0500
TZNAME:EST
DTSTART:20271107T060000
END:STANDARD
END:VTIMEZONE
BEGIN:VEVENT
DTSTART;TZID=America/New_York:20260124T074500
DTEND;TZID=America/New_York:20260124T104500
DTSTAMP:20260425T140230
CREATED:20260110T183133Z
LAST-MODIFIED:20260110T183133Z
UID:25384-1769240700-1769251500@explorebeaufortsc.com
SUMMARY:Bird walk
DESCRIPTION:We meet in the Wild Birds Unlimited parking lot at 7:45\, decide on a location\, and the walk begins at 8:00am! We look forward to finding birds with you!  \n$5 per person\, stop by the store to sign up soon!
URL:https://explorebeaufortsc.com/event/bird-walk-2/
LOCATION:2139 Boundary St. Suite 106\, Beaufort\, SC 29902\, 2139 Boundary St. Suite 106\, Beaufort\, SC 29902
END:VEVENT
BEGIN:VEVENT
DTSTART;TZID=America/New_York:20260124T090000
DTEND;TZID=America/New_York:20260124T120000
DTSTAMP:20260425T140230
CREATED:20251116T174514Z
LAST-MODIFIED:20260110T183134Z
UID:24944-1769245200-1769256000@explorebeaufortsc.com
SUMMARY:BEAST MODE: Obstacle Course Event
DESCRIPTION:Fun for all ages! Walk\, Run\, or Crawl in our Obstacle Course Event through obstacles including monkey bars\, rope climb\, hurdles\, scaling wall\, sandbag pulls\, spear throws\, and tire flips. All skill levels are welcome! \nJanuary 24\, 2026 \nAdult 5k starts at 9amTween 3k starts at 9amKids 1.5k starts at 10am \nRegister by December 15th for early bird pricing and guaranteed Tshirt! \nRegister here: https://www.adventuresignup.com/Race/SC/PortRoyal/obsticles
URL:https://explorebeaufortsc.com/event/beast-mode-obstacle-course-event/
LOCATION:1801 Richmond Ave\, Port Royal\, SC\, United States\, South Carolina 29935\, 1801 Richmond Ave\, Port Royal\, SC\, United States\, South Carolina 29935
ORGANIZER;CN="Wardle Family YMCA":MAILTO:noreply@facebookmail.com
END:VEVENT
BEGIN:VEVENT
DTSTART;TZID=America/New_York:20260124T093000
DTEND;TZID=America/New_York:20260124T123000
DTSTAMP:20260425T140230
CREATED:20260110T183134Z
LAST-MODIFIED:20260110T183134Z
UID:25385-1769247000-1769257800@explorebeaufortsc.com
SUMMARY:Painting Classes in Expressionism.  Be Bold.
DESCRIPTION:Paint unbound\, without limits and have FUN. \nWinter Abstract Classes set us free to express ourselves and loosen up the neurons!Book early – it’s easy at www.theartsportroyal.com #artforfun #create2026 #artinspires #AbstractExpressionism #artclassesarefun #Abstractart#paintbold
URL:https://explorebeaufortsc.com/event/painting-classes-in-expressionism-be-bold/
LOCATION:The Arts Port Royal & Stone Wilson Gallery  1404 Paris Ave\, Port Royal\, SC\, The Arts Port Royal & Stone Wilson Gallery 1404 Paris Ave\, Port Royal\, SC
ORGANIZER;CN="McCall Wilson Art":MAILTO:noreply@facebookmail.com
END:VEVENT
BEGIN:VEVENT
DTSTART;TZID=America/New_York:20260124T100000
DTEND;TZID=America/New_York:20260124T113000
DTSTAMP:20260425T140230
CREATED:20260110T183134Z
LAST-MODIFIED:20260110T183134Z
UID:25387-1769248800-1769254200@explorebeaufortsc.com
SUMMARY:Grassroots Marketing for Authors: Workshop Led by Helen P. Bradley
DESCRIPTION:GRASSROOTS MARKETING FOR AUTHORSA Writers Workshop Led by Helen P. Bradley\, Author of Breach of Trust \nToday’s social media landscape is more saturated than ever\, making it hard for new writers to stand out\, connect with their target readers\, and sell more books. In this writers workshop\, instructor Helen P. Bradley will share how she promoted her debut novel Breach of Trust on a tight budget by using tried-and-true old school marketing. \nYou’ll learn how to: create community\, find book clubs and events\, write an elevator pitch\, organize a book launch\, create a mailing list\, and more. Even if you’re an introvert and marketing sounds more painful than a sunburn\, you can promote your book to your ideal audience with these authentic\, ethical marketing tools. \nThis workshop is for published authors as well as those still on the writing journey. It’s never too early to think about marketing. Come hang out with other writers and bring something to write with like old school pen and paper or your favorite device. \nLocation and CostThis is an in-person writers workshop\, held at the Pat Conroy Literary Center (601 Bladen St\, Beaufort). Limited to 15 participants with advance registration required; $50/person. \nAbout Our InstructorHelen P. Bradley’s debut novel\, Breach of Trust\, was released in April 2023. It draws from her experiences during twenty-seven years heading a nationally-recognized crime victim advocacy program. It’s about one woman’s fight to protect crime victims and expose corruption within the district attorney’s office that leads her on a harrowing and life-changing journey. \nHelen was nominated for 2024 Georgia Author of the Year for a debut novel. She recently was voted Best Local Author and Breach of Trust Best New Local Book in Connect Savannah’s Best Of contest. More than 100 people attended her book launch and broke all sales records for the bookstore selling her books. In August 2022\, she won first place in NextTribe’s essay contest. The essay about raising her grandson was selected out of a field of 55 entries from across the country. \nFor a decade (pre-Covid) she mentored middle school student writers through the Deep program which was recognized by First Lady Michelle Obama (www.deepcenter.org). She helped young people write their powerful stories and they\, in turn\, inspired her to write hers. \nShe’s written curricula\, essays\, and articles for The National Organization for Victim Assistance\, The National Victim Center\, and the Georgia Victim Assistance Academy. She was a journalist at two daily South Carolina newspapers and has had essays published in The Savannah Anthology\, Savannah Magazine\, The Savannah Morning News\, and Law Enforcement Magazine.After her victim advocacy career\, she started a wedding officiant business\, Savannah Simple Weddings. \nHelen has a degree in English from Clemson University and earned a master’s in public administration from Georgia Southern University. She served as a trainer for the National Organization for Victim Assistance\, The National Victim Center\, and numerous other organizations. She lives in Savannah\, Georgia\, with her husband\, teen grandson\, and an antisocial rescue cat. She enjoys practicing yoga\, gobbling chocolate\, and reading obituaries.
URL:https://explorebeaufortsc.com/event/grassroots-marketing-for-authors-workshop-led-by-helen-p-bradley/
LOCATION:Pat Conroy Literary Center
ORGANIZER;CN="Pat Conroy Literary Center":MAILTO:noreply@facebookmail.com
END:VEVENT
BEGIN:VEVENT
DTSTART;TZID=America/New_York:20260124T100000
DTEND;TZID=America/New_York:20260124T120000
DTSTAMP:20260425T140230
CREATED:20260110T183134Z
LAST-MODIFIED:20260110T183134Z
UID:25388-1769248800-1769256000@explorebeaufortsc.com
SUMMARY:Dollar General Low Cost Rabies Vaccine Clinic 180 Sea Island PKWY Lady's Island
DESCRIPTION:One year Rabies $12. Three year Rabies $22. DHPP/FVRCP $13. FeLV/Bordetella $22. Heartworm test $25. Microchips $24.Come see us for your dog and/or cat’s vaccinations\, heartworm test and microchip\, services provided by a local veterinarian. We would love to see you! For more info check out our website. www.lowcountrypetvaccineclinic.com.
URL:https://explorebeaufortsc.com/event/dollar-general-low-cost-rabies-vaccine-clinic-180-sea-island-pkwy-ladys-island-18/
LOCATION:180 Sea Island Pkwy Ladys Island SC 29907
ORGANIZER;CN="Lowcountry Pet Vaccine Clinic":MAILTO:noreply@facebookmail.com
END:VEVENT
BEGIN:VEVENT
DTSTART;TZID=America/New_York:20260124T100000
DTEND;TZID=America/New_York:20260124T130000
DTSTAMP:20260425T140230
CREATED:20260110T183134Z
LAST-MODIFIED:20260110T183134Z
UID:25389-1769248800-1769259600@explorebeaufortsc.com
SUMMARY:Artisan Market at New Leaf Produce Farm
DESCRIPTION:Come spend your Saturday with us! Our Artisan Market returns to New Leaf Produce Farm on 1/24/26 from 10–1 PM at 119 Scott Hill Road\, St. Helena. Fresh hydroponic veggies\, local art\, good vibes — all the things that make this island shine. 🌿🎨 \nSee you at our farm!
URL:https://explorebeaufortsc.com/event/artisan-market-at-new-leaf-produce-farm/
LOCATION:119 Scott Hill Road\, Beaufort\, SC\, United States\, South Carolina 29920\, 119 Scott Hill Road\, Beaufort\, SC\, United States\, South Carolina 29920
END:VEVENT
END:VCALENDAR