BEGIN:VCALENDAR
VERSION:2.0
PRODID:-//Explore Beaufort SC - ECPv6.15.20//NONSGML v1.0//EN
CALSCALE:GREGORIAN
METHOD:PUBLISH
X-WR-CALNAME:Explore Beaufort SC
X-ORIGINAL-URL:https://explorebeaufortsc.com
X-WR-CALDESC:Events for Explore Beaufort SC
REFRESH-INTERVAL;VALUE=DURATION:PT1H
X-Robots-Tag:noindex
X-PUBLISHED-TTL:PT1H
BEGIN:VTIMEZONE
TZID:America/New_York
BEGIN:DAYLIGHT
TZOFFSETFROM:-0500
TZOFFSETTO:-0400
TZNAME:EDT
DTSTART:20250309T070000
END:DAYLIGHT
BEGIN:STANDARD
TZOFFSETFROM:-0400
TZOFFSETTO:-0500
TZNAME:EST
DTSTART:20251102T060000
END:STANDARD
BEGIN:DAYLIGHT
TZOFFSETFROM:-0500
TZOFFSETTO:-0400
TZNAME:EDT
DTSTART:20260308T070000
END:DAYLIGHT
BEGIN:STANDARD
TZOFFSETFROM:-0400
TZOFFSETTO:-0500
TZNAME:EST
DTSTART:20261101T060000
END:STANDARD
BEGIN:DAYLIGHT
TZOFFSETFROM:-0500
TZOFFSETTO:-0400
TZNAME:EDT
DTSTART:20270314T070000
END:DAYLIGHT
BEGIN:STANDARD
TZOFFSETFROM:-0400
TZOFFSETTO:-0500
TZNAME:EST
DTSTART:20271107T060000
END:STANDARD
END:VTIMEZONE
BEGIN:VEVENT
DTSTART;TZID=America/New_York:20260128T180000
DTEND;TZID=America/New_York:20260128T210000
DTSTAMP:20260425T121657
CREATED:20260110T183134Z
LAST-MODIFIED:20260110T183134Z
UID:25391-1769623200-1769634000@explorebeaufortsc.com
SUMMARY:ABC Boating Class
DESCRIPTION:Start off the New Year by learning how to boat safely. We will be having the NASBLA certified basic boating class starting soon. This class is taught by certified instructors who live and boat here in Beaufort\, SC. We understand the challenges that come with 8 to 9 foot tides. See you in class.#beaufortsc #portroyalsc #sthelena #cityofbeaufort#boatingsafety #fishing #safeharbormarinas
URL:https://explorebeaufortsc.com/event/abc-boating-class/
LOCATION:1201 North St\, Beaufort\, SC 29902-4905\, United States\, 1201 North St\, Beaufort\, SC 29902-4905\, United States
END:VEVENT
BEGIN:VEVENT
DTSTART;TZID=America/New_York:20260128T180000
DTEND;TZID=America/New_York:20260128T210000
DTSTAMP:20260425T121657
CREATED:20260110T183134Z
LAST-MODIFIED:20260110T183134Z
UID:25393-1769623200-1769634000@explorebeaufortsc.com
SUMMARY:2026 BIFF Wine Dinner
DESCRIPTION:Sip\, Savor & Celebrate at the 2026 Beaufort International Film Festival Wine Dinner! 🍷 \nhttps://www.eatlocalbft.com/product/2026-biff-wine-dinner/NHCH5O22XRWYMKWXLJQRQ3RC \nGet ready for an unforgettable evening of culinary delight and fine vintages! Join us on Wednesday\, January 28th\, 2026\, at Saltus River Grill for the 2026 Beaufort International Film Festival Wine Dinner. This exquisite dining experience kicks off the 20th Annual Beaufort International Film Festival in charming Historic Downtown Beaufort\, South Carolina. \nIndulge your senses as we pair delectable dishes with a selection of high-end wines in a beautifully curated menu.  \nEvening Highlights:– 6 PM: Cocktails served on the waterfront patio by the fire– 7 PM: Dinner begins \nTicket Details: \n– $160 per person (including gratuity and tax) \n– Reserve your spot now: Purchase Tickets (https://saltusrivergrill.com) \nTaste an Exclusive Preview of the Wine Dinner Menu: \n– Grilled Havarti Salad \nMixed greens\, apples\, pistachios\, tobacco onions\, cider vinaigrette \nWine Pairing: TBD \n– Three Fish Crudo \nBluefin tuna\, salmon\, hamachi\, black vinegar ponzu\, mizuna\, citrus supreme\, smoked trout roe \nWine Pairing: TBD \n– Red Wine Braised Short Rib \nParsnip and sweet potato puree\, Brussels slaw\, short rib demi\, crispy parsnip \nWine Pairing: TBD \n– Apple Tartine \nSpiced caramel\, cardamom ice cream\, apple chips \nWine Pairing: TBD \nJoin us for a delightful evening filled with exquisite flavors and exceptional wines\, all while supporting the Beaufort Film Society! 🎬❤️ A portion of the proceeds from the dinner will benefit this wonderful organization. \nSpace is limited\, so be sure to reserve your spot today! Looking forward to celebrating with you! \n#beaufortsc #filmfestival #eatlocalbft #supportlocal #biff2026
URL:https://explorebeaufortsc.com/event/2026-biff-wine-dinner/
LOCATION:Saltus River Grill\, Saltus River Grill
ORGANIZER;CN="Saltus River Grill":MAILTO:noreply@facebookmail.com
END:VEVENT
END:VCALENDAR