BEGIN:VCALENDAR
VERSION:2.0
PRODID:-//Explore Beaufort SC - ECPv6.15.20//NONSGML v1.0//EN
CALSCALE:GREGORIAN
METHOD:PUBLISH
X-WR-CALNAME:Explore Beaufort SC
X-ORIGINAL-URL:https://explorebeaufortsc.com
X-WR-CALDESC:Events for Explore Beaufort SC
REFRESH-INTERVAL;VALUE=DURATION:PT1H
X-Robots-Tag:noindex
X-PUBLISHED-TTL:PT1H
BEGIN:VTIMEZONE
TZID:America/New_York
BEGIN:DAYLIGHT
TZOFFSETFROM:-0500
TZOFFSETTO:-0400
TZNAME:EDT
DTSTART:20250309T070000
END:DAYLIGHT
BEGIN:STANDARD
TZOFFSETFROM:-0400
TZOFFSETTO:-0500
TZNAME:EST
DTSTART:20251102T060000
END:STANDARD
BEGIN:DAYLIGHT
TZOFFSETFROM:-0500
TZOFFSETTO:-0400
TZNAME:EDT
DTSTART:20260308T070000
END:DAYLIGHT
BEGIN:STANDARD
TZOFFSETFROM:-0400
TZOFFSETTO:-0500
TZNAME:EST
DTSTART:20261101T060000
END:STANDARD
BEGIN:DAYLIGHT
TZOFFSETFROM:-0500
TZOFFSETTO:-0400
TZNAME:EDT
DTSTART:20270314T070000
END:DAYLIGHT
BEGIN:STANDARD
TZOFFSETFROM:-0400
TZOFFSETTO:-0500
TZNAME:EST
DTSTART:20271107T060000
END:STANDARD
END:VTIMEZONE
BEGIN:VEVENT
DTSTART;TZID=America/New_York:20260130T190000
DTEND;TZID=America/New_York:20260130T200000
DTSTAMP:20260425T122522
CREATED:20251116T174514Z
LAST-MODIFIED:20260110T183134Z
UID:24947-1769799600-1769803200@explorebeaufortsc.com
SUMMARY:Beaufort Children's Theatre Presents: Newsies Jr.
DESCRIPTION:Get ready to ignite your imagination with Beaufort Children’s Theatre’s Newsies Jr.! This spirited adaptation of the Tony‑nominated musical follows a group of plucky newsboys who stand up for fairness and justice\, singing their hearts out to unforgettable anthems like “Seize the Day” and “King of New York.” Full of acrobatic dance routines\, youthful energy\, and a message about believing in your voice\, Newsies Jr. is an uplifting\, family‑friendly performance that’ll have everyone cheering for change—and for these brave young stars!​Tickets:Adult $24Senior/Military $20Student $16 \nhttps://www.facebook.com/events/1363161665817704/?event_time_id=1363161679151036
URL:https://explorebeaufortsc.com/event/beaufort-childrens-theatre-presents-newsies-jr/
LOCATION:801 Carteret St\, Beaufort\, SC\, United States\, South Carolina 29902\, 801 Carteret St\, Beaufort\, SC\, United States\, South Carolina 29902
ORGANIZER;CN="USCB Center for the Arts":MAILTO:noreply@facebookmail.com
END:VEVENT
END:VCALENDAR