BEGIN:VCALENDAR
VERSION:2.0
PRODID:-//Explore Beaufort SC - ECPv6.15.20//NONSGML v1.0//EN
CALSCALE:GREGORIAN
METHOD:PUBLISH
X-WR-CALNAME:Explore Beaufort SC
X-ORIGINAL-URL:https://explorebeaufortsc.com
X-WR-CALDESC:Events for Explore Beaufort SC
REFRESH-INTERVAL;VALUE=DURATION:PT1H
X-Robots-Tag:noindex
X-PUBLISHED-TTL:PT1H
BEGIN:VTIMEZONE
TZID:America/New_York
BEGIN:DAYLIGHT
TZOFFSETFROM:-0500
TZOFFSETTO:-0400
TZNAME:EDT
DTSTART:20250309T070000
END:DAYLIGHT
BEGIN:STANDARD
TZOFFSETFROM:-0400
TZOFFSETTO:-0500
TZNAME:EST
DTSTART:20251102T060000
END:STANDARD
BEGIN:DAYLIGHT
TZOFFSETFROM:-0500
TZOFFSETTO:-0400
TZNAME:EDT
DTSTART:20260308T070000
END:DAYLIGHT
BEGIN:STANDARD
TZOFFSETFROM:-0400
TZOFFSETTO:-0500
TZNAME:EST
DTSTART:20261101T060000
END:STANDARD
BEGIN:DAYLIGHT
TZOFFSETFROM:-0500
TZOFFSETTO:-0400
TZNAME:EDT
DTSTART:20270314T070000
END:DAYLIGHT
BEGIN:STANDARD
TZOFFSETFROM:-0400
TZOFFSETTO:-0500
TZNAME:EST
DTSTART:20271107T060000
END:STANDARD
END:VTIMEZONE
BEGIN:VEVENT
DTSTART;TZID=America/New_York:20260131T103000
DTEND;TZID=America/New_York:20260131T120000
DTSTAMP:20260425T122522
CREATED:20260110T183134Z
LAST-MODIFIED:20260110T183134Z
UID:25394-1769855400-1769860800@explorebeaufortsc.com
SUMMARY:Indigo Dye Workshop - RSVP Required
DESCRIPTION:Click the orange “Book A Program” button on our website to RSVPportroyalsoundfoundation.org \n$15 per participant (Plus fees) \nLearn about the history of indigo usage and how to dye fabrics using “Shibori” techniques. All participants will be provided one flour sack towel to dye. \nYou may bring in one t-shirt per participant. This shirt must be made of 100% cotton and pre-washed with no fabric softener prior to the program. If these directions are not followed\, your shirt will not be dyed. \nThis activity will be hosted partially outdoors and may be cancelled due to weather. Please wear clothes fit for the weather conditions and that can be stained\, as you will be working with dye. \nAge: 10+ ONLY\, children must be accompanied by an adult. \nhttps://www.facebook.com/events/25825906613671217/?event_time_id=25825906617004550
URL:https://explorebeaufortsc.com/event/indigo-dye-workshop-rsvp-required-2/
LOCATION:310 Okatie Hwy\, Okatie\, SC\, United States\, South Carolina 29909\, 310 Okatie Hwy\, Okatie\, SC\, United States\, South Carolina 29909
ORGANIZER;CN="Port Royal Sound Foundation":MAILTO:noreply@facebookmail.com
END:VEVENT
BEGIN:VEVENT
DTSTART;TZID=America/New_York:20260131T140000
DTEND;TZID=America/New_York:20260131T160000
DTSTAMP:20260425T122522
CREATED:20260110T183135Z
LAST-MODIFIED:20260110T183135Z
UID:25395-1769868000-1769875200@explorebeaufortsc.com
SUMMARY:Blacksmith Workshop
DESCRIPTION:Discover the joy of creativity in this hands-on Beginner Blacksmith Workshop as we welcome James Irving of Pirate’s Forge from his studio in Charleston\, SC.. Designed for those new to the craft\, this experience invites you to explore the fundamentals of blacksmithing\, express your creativity\, and connect with a community of makers. Under James’s guidance\, you’ll learn essential forging techniques while shaping raw metal into a handcrafted metal rose—a meaningful keepsake and a memorable introduction to the art of blacksmithing.
URL:https://explorebeaufortsc.com/event/blacksmith-workshop/
LOCATION:809 Paris Ave\, Port Royal\, SC\, United States\, South Carolina\, 809 Paris Ave\, Port Royal\, SC\, United States\, South Carolina
ORGANIZER;CN="Windhorse Gallery & Marketplace":MAILTO:noreply@facebookmail.com
END:VEVENT
END:VCALENDAR