BEGIN:VCALENDAR
VERSION:2.0
PRODID:-//Explore Beaufort SC - ECPv6.15.20//NONSGML v1.0//EN
CALSCALE:GREGORIAN
METHOD:PUBLISH
X-WR-CALNAME:Explore Beaufort SC
X-ORIGINAL-URL:https://explorebeaufortsc.com
X-WR-CALDESC:Events for Explore Beaufort SC
REFRESH-INTERVAL;VALUE=DURATION:PT1H
X-Robots-Tag:noindex
X-PUBLISHED-TTL:PT1H
BEGIN:VTIMEZONE
TZID:America/New_York
BEGIN:DAYLIGHT
TZOFFSETFROM:-0500
TZOFFSETTO:-0400
TZNAME:EDT
DTSTART:20250309T070000
END:DAYLIGHT
BEGIN:STANDARD
TZOFFSETFROM:-0400
TZOFFSETTO:-0500
TZNAME:EST
DTSTART:20251102T060000
END:STANDARD
BEGIN:DAYLIGHT
TZOFFSETFROM:-0500
TZOFFSETTO:-0400
TZNAME:EDT
DTSTART:20260308T070000
END:DAYLIGHT
BEGIN:STANDARD
TZOFFSETFROM:-0400
TZOFFSETTO:-0500
TZNAME:EST
DTSTART:20261101T060000
END:STANDARD
BEGIN:DAYLIGHT
TZOFFSETFROM:-0500
TZOFFSETTO:-0400
TZNAME:EDT
DTSTART:20270314T070000
END:DAYLIGHT
BEGIN:STANDARD
TZOFFSETFROM:-0400
TZOFFSETTO:-0500
TZNAME:EST
DTSTART:20271107T060000
END:STANDARD
END:VTIMEZONE
BEGIN:VEVENT
DTSTART;TZID=America/New_York:20260206T170000
DTEND;TZID=America/New_York:20260206T200000
DTSTAMP:20260425T121708
CREATED:20260205T015304Z
LAST-MODIFIED:20260205T015304Z
UID:25545-1770397200-1770408000@explorebeaufortsc.com
SUMMARY:Love Local - First Friday
DESCRIPTION:Love\, Local is coming to Downtown Beaufort for February’s First Friday. \nJoin us on Friday\, February 6\, from 5–8 PM as Downtown fills with love for the place we call home. Enjoy musicthroughout the district while you stroll\, shop\, and dine downtown. \nBe sure to check out our Valentine’s Day Window Decorating Contest\, where Main Street businesses will be showing off their creativity. Cast your vote for your favorite decorated window during the evening and help spread the love. \nBecause loving where you live starts with supporting local—come out and celebrate community\, creativity\, and all things local in Downtown Beaufort.
URL:https://explorebeaufortsc.com/event/love-local-first-friday/
LOCATION:Downtown Beaufort\, Beaufort\, South Carolina
END:VEVENT
END:VCALENDAR