BEGIN:VCALENDAR
VERSION:2.0
PRODID:-//Explore Beaufort SC - ECPv6.15.20//NONSGML v1.0//EN
CALSCALE:GREGORIAN
METHOD:PUBLISH
X-ORIGINAL-URL:https://explorebeaufortsc.com
X-WR-CALDESC:Events for Explore Beaufort SC
REFRESH-INTERVAL;VALUE=DURATION:PT1H
X-Robots-Tag:noindex
X-PUBLISHED-TTL:PT1H
BEGIN:VTIMEZONE
TZID:America/New_York
BEGIN:DAYLIGHT
TZOFFSETFROM:-0500
TZOFFSETTO:-0400
TZNAME:EDT
DTSTART:20250309T070000
END:DAYLIGHT
BEGIN:STANDARD
TZOFFSETFROM:-0400
TZOFFSETTO:-0500
TZNAME:EST
DTSTART:20251102T060000
END:STANDARD
BEGIN:DAYLIGHT
TZOFFSETFROM:-0500
TZOFFSETTO:-0400
TZNAME:EDT
DTSTART:20260308T070000
END:DAYLIGHT
BEGIN:STANDARD
TZOFFSETFROM:-0400
TZOFFSETTO:-0500
TZNAME:EST
DTSTART:20261101T060000
END:STANDARD
BEGIN:DAYLIGHT
TZOFFSETFROM:-0500
TZOFFSETTO:-0400
TZNAME:EDT
DTSTART:20270314T070000
END:DAYLIGHT
BEGIN:STANDARD
TZOFFSETFROM:-0400
TZOFFSETTO:-0500
TZNAME:EST
DTSTART:20271107T060000
END:STANDARD
END:VTIMEZONE
BEGIN:VEVENT
DTSTART;TZID=America/New_York:20260208T100000
DTEND;TZID=America/New_York:20260208T140000
DTSTAMP:20260425T122001
CREATED:20260205T015304Z
LAST-MODIFIED:20260205T015304Z
UID:25551-1770544800-1770559200@explorebeaufortsc.com
SUMMARY:Salsa In The Park : Super Bowl Sunday
DESCRIPTION:Join us to celebrate our Puerto Rican culture at Salsa In The Park!🇵🇷💃🏽 \nSavor delicious Boricua dishes made with love by Una Jaltera and cafecito and specialty drinks crafted by Grounded Cafecito!☕️🥟
URL:https://explorebeaufortsc.com/event/salsa-in-the-park-super-bowl-sunday/
LOCATION:Naval Heritage Park\, Naval Heritage Park
END:VEVENT
BEGIN:VEVENT
DTSTART;TZID=America/New_York:20260208T120000
DTEND;TZID=America/New_York:20260208T140000
DTSTAMP:20260425T122001
CREATED:20260111T225009Z
LAST-MODIFIED:20260205T020845Z
UID:25460-1770552000-1770559200@explorebeaufortsc.com
SUMMARY:Valentine's Day Love Letters: Beginner Needle Felting Class at Marshview Mercantile
DESCRIPTION:Valentine’s Day Love Letters: Beginner Needle Felting Class \nSome people write love letters.\nSome people buy chocolate.\nAnd some people… needle felt a tiny mouse popping out of a Valentine envelope ready to deliver a message of love and friendship.  \n\n What’s included:\n• Full lesson with Tracy Winslow\n• Complete kit with all materials\n• Guidance\, encouragement\, and zero judgment \nSpots are limited\, hearts are plentiful\, and this mouse is ready to steal yours.\nFebruary 8\, 12-2pm \nMarshview Mercantile\n2631 Boundary St.\, Beaufort\, \nSign up: https://marshviewmercantile.commentsold.com/products/lovey-mouse-needle-felting-feb-8-12-2p?variant=9312
URL:https://explorebeaufortsc.com/event/valentines-day-love-letters-beginner-needle-felting-class-at-marshview-mercantile/
LOCATION:Marshview Mercantile\, 2631 Boundary St\, Beaufort\, SC\, 29906\, US
ATTACH;FMTTYPE=image/jpeg:https://explorebeaufortsc.com/wp-content/uploads/2026/01/marshviewneedle.jpg
END:VEVENT
BEGIN:VEVENT
DTSTART;TZID=America/New_York:20260208T150000
DTEND;TZID=America/New_York:20260208T180000
DTSTAMP:20260425T122001
CREATED:20260205T015304Z
LAST-MODIFIED:20260205T015304Z
UID:25553-1770562800-1770573600@explorebeaufortsc.com
SUMMARY:Fuel and Fire Super Bowl Party
DESCRIPTION:We will be starting the day at 11:00 a.m. as part of the Port Royal Galentine’s Day celebration. but then at 3:00 we turn to tailgating for the big game…. Trust us you don’t want to miss this one. This is the Party people are going to be talking about!!! \nMuch more info to come!!! But we will be the place to be for the game!!!
URL:https://explorebeaufortsc.com/event/fuel-and-fire-super-bowl-party/
LOCATION:705 Paris avenue\, Port Royal\, SC\, 705 Paris avenue\, Port Royal\, SC
END:VEVENT
BEGIN:VEVENT
DTSTART;TZID=America/New_York:20260208T170000
DTEND;TZID=America/New_York:20260208T200000
DTSTAMP:20260425T122001
CREATED:20260205T015304Z
LAST-MODIFIED:20260205T015304Z
UID:25556-1770570000-1770580800@explorebeaufortsc.com
SUMMARY:🏈🍲 Super Bowl Party & Soup Cook-Off! 🍲🏈
DESCRIPTION:Join us at AMVETS Post 70 in Port Royal\, SC on Sunday\, February 8\, 2026\, for an exciting Super Bowl Party & Homemade Soup Cook-Off! \n🎉 Party starts at 5:00 PM📺 Big Game on the big screen🍲 Bring your best homemade soup🏆 Cook-off judging during halftime🍔 Food\, drinks\, and great company all night \nCome for the football\, stay for the food\, and enjoy an unforgettable Super Bowl Sunday with friends and community. Don’t miss it!
URL:https://explorebeaufortsc.com/event/%f0%9f%8f%88%f0%9f%8d%b2-super-bowl-party-soup-cook-off-%f0%9f%8d%b2%f0%9f%8f%88/
LOCATION:Amvets Post 70\, Amvets Post 70
END:VEVENT
BEGIN:VEVENT
DTSTART;TZID=America/New_York:20260208T170000
DTEND;TZID=America/New_York:20260208T200000
DTSTAMP:20260425T122001
CREATED:20260205T015305Z
LAST-MODIFIED:20260205T015305Z
UID:25557-1770570000-1770580800@explorebeaufortsc.com
SUMMARY:🎻 MOZART AND FRIENDS - Beaufort Symphony Orchestra
DESCRIPTION:Join the Beaufort Symphony Orchestra for an evening of drama\, brilliance\, and pure musical joy – featuring beloved works by Mozart\, plus powerful selections by Handel\, Arne\, and Beethoven. \nWe’re thrilled to welcome Sophie Thompson\, soprano as our featured guest artist for a sparkling set of vocal favorites\, including Mozart’s Exsultate\, Jubilate.  \n📍 USCB Center for the Arts805 Carteret Street\, Beaufort\, SC 29902 \n🗓 Sunday\, February 8\, 2026 \n🕔 5:00 PM \n🎟 $45 / $15 Student RateActive military tickets $35 at the door with ID (if available) \n🎼 Program Highlights:• Handel – Alcina Overture + arias• Mozart – Don Giovanni Overture• Mozart – Exsultate\, Jubilate• Arne – Soldier Tired of War’s Alarms• Beethoven – Symphony No. 7🎫 Tickets: www.beaufortorchestra.org📞 Or call (800) 595-4TIX (4849) \nRemaining tickets may be available at the door.  \nMozart\, Handel\, Beethoven – and a voice you won’t forget.
URL:https://explorebeaufortsc.com/event/%f0%9f%8e%bb-mozart-and-friends-beaufort-symphony-orchestra/
LOCATION:USCB Center for the Arts
ORGANIZER;CN="Beaufort Symphony Orchestra%2C Inc.":MAILTO:noreply@facebookmail.com
END:VEVENT
END:VCALENDAR