BEGIN:VCALENDAR
VERSION:2.0
PRODID:-//Explore Beaufort SC - ECPv6.15.20//NONSGML v1.0//EN
CALSCALE:GREGORIAN
METHOD:PUBLISH
X-ORIGINAL-URL:https://explorebeaufortsc.com
X-WR-CALDESC:Events for Explore Beaufort SC
REFRESH-INTERVAL;VALUE=DURATION:PT1H
X-Robots-Tag:noindex
X-PUBLISHED-TTL:PT1H
BEGIN:VTIMEZONE
TZID:America/New_York
BEGIN:DAYLIGHT
TZOFFSETFROM:-0500
TZOFFSETTO:-0400
TZNAME:EDT
DTSTART:20250309T070000
END:DAYLIGHT
BEGIN:STANDARD
TZOFFSETFROM:-0400
TZOFFSETTO:-0500
TZNAME:EST
DTSTART:20251102T060000
END:STANDARD
BEGIN:DAYLIGHT
TZOFFSETFROM:-0500
TZOFFSETTO:-0400
TZNAME:EDT
DTSTART:20260308T070000
END:DAYLIGHT
BEGIN:STANDARD
TZOFFSETFROM:-0400
TZOFFSETTO:-0500
TZNAME:EST
DTSTART:20261101T060000
END:STANDARD
BEGIN:DAYLIGHT
TZOFFSETFROM:-0500
TZOFFSETTO:-0400
TZNAME:EDT
DTSTART:20270314T070000
END:DAYLIGHT
BEGIN:STANDARD
TZOFFSETFROM:-0400
TZOFFSETTO:-0500
TZNAME:EST
DTSTART:20271107T060000
END:STANDARD
END:VTIMEZONE
BEGIN:VEVENT
DTSTART;TZID=America/New_York:20260211T133000
DTEND;TZID=America/New_York:20260211T153000
DTSTAMP:20260425T122102
CREATED:20251125T154128Z
LAST-MODIFIED:20260205T015305Z
UID:25084-1770816600-1770823800@explorebeaufortsc.com
SUMMARY:Beaufort County Veterans Affairs - Life Planning Seminar
DESCRIPTION:Planning for the future isn’t easy\, but you don’t have to do it alone. \nJoin Beaufort County Veterans Affairs for a free Life Planning Seminar where we’ll walk you through the benefits you’ve earned for yourself and your loved ones. \nWe’ll cover:VBA – Compensation\, pensions\, and survivor benefitsVHA – Healthcare benefitsNCA – Burial benefits\, headstones\, and memorial programs \nThis event is open to all veterans and their families. Come get the info and resources you deserve in a relaxed\, supportive setting. \nQuestions? Call us at (843) 255-6880 \nOr email: csnowden@bcgov.net
URL:https://explorebeaufortsc.com/event/beaufort-county-veterans-affairs-life-planning-seminar/
LOCATION:Burton Wells Recreation Complex\, Burton Wells Recreation Complex
END:VEVENT
BEGIN:VEVENT
DTSTART;TZID=America/New_York:20260211T180000
DTEND;TZID=America/New_York:20260211T200000
DTSTAMP:20260425T122102
CREATED:20260205T005147Z
LAST-MODIFIED:20260205T005147Z
UID:25529-1770832800-1770840000@explorebeaufortsc.com
SUMMARY:Crushed Glass Sun Catcher Workshop at Marshview Mercantile
DESCRIPTION:Get in on the fun in one of the Lowcountry’s most popular workshops\, our Crushed Glass Sun Catcher!\n\nInvite the sunshine in! Choose from a large 12” coastal favorite- Mermaid\, Sea Turtle\, Crab\, Light House\, or Palmetto State. OR\, choose a new spring design! These crushed glass sun-catchers will bring a splash of magic to your window.\n\nYou can also create your own design in a windowpane using our glass and you can bring your own favorite shells or trinkets. Windows are 8×10.\n\nFebruary 11\, 6-8p\nMarshview Mercantile\n2631 Boundary Street\, Beaufort\, SC\nView designs and Register:\n\nhttps://marshviewmercantile.commentsold.com/products/crushed-glass-suncatcher-feb-11-6-8p
URL:https://explorebeaufortsc.com/event/crushed-glass-sun-catcher-workshop-at-marshview-mercantile/
LOCATION:Marshview Mercantile\, 2631 Boundary St\, Beaufort\, SC\, 29906\, US
ATTACH;FMTTYPE=image/jpeg:https://explorebeaufortsc.com/wp-content/uploads/2026/02/marshviewsuncatcher5.jpg
END:VEVENT
END:VCALENDAR