BEGIN:VCALENDAR
VERSION:2.0
PRODID:-//Explore Beaufort SC - ECPv6.15.20//NONSGML v1.0//EN
CALSCALE:GREGORIAN
METHOD:PUBLISH
X-ORIGINAL-URL:https://explorebeaufortsc.com
X-WR-CALDESC:Events for Explore Beaufort SC
REFRESH-INTERVAL;VALUE=DURATION:PT1H
X-Robots-Tag:noindex
X-PUBLISHED-TTL:PT1H
BEGIN:VTIMEZONE
TZID:America/New_York
BEGIN:DAYLIGHT
TZOFFSETFROM:-0500
TZOFFSETTO:-0400
TZNAME:EDT
DTSTART:20250309T070000
END:DAYLIGHT
BEGIN:STANDARD
TZOFFSETFROM:-0400
TZOFFSETTO:-0500
TZNAME:EST
DTSTART:20251102T060000
END:STANDARD
BEGIN:DAYLIGHT
TZOFFSETFROM:-0500
TZOFFSETTO:-0400
TZNAME:EDT
DTSTART:20260308T070000
END:DAYLIGHT
BEGIN:STANDARD
TZOFFSETFROM:-0400
TZOFFSETTO:-0500
TZNAME:EST
DTSTART:20261101T060000
END:STANDARD
BEGIN:DAYLIGHT
TZOFFSETFROM:-0500
TZOFFSETTO:-0400
TZNAME:EDT
DTSTART:20270314T070000
END:DAYLIGHT
BEGIN:STANDARD
TZOFFSETFROM:-0400
TZOFFSETTO:-0500
TZNAME:EST
DTSTART:20271107T060000
END:STANDARD
END:VTIMEZONE
BEGIN:VEVENT
DTSTART;TZID=America/New_York:20260212T100000
DTEND;TZID=America/New_York:20260212T130000
DTSTAMP:20260425T122103
CREATED:20260110T183136Z
LAST-MODIFIED:20260205T015305Z
UID:25400-1770890400-1770901200@explorebeaufortsc.com
SUMMARY:J.Mills Studio at Beverly's Off Bay
DESCRIPTION:✨ Join Us at Beverly’s for a Trunk Show with J. Mills Studio! ✨ \nBring your Galentine\, or even drop a hint to your Valentine- because we’re hosting a special trunk show with jewelry designer Juli Mills of J. Mills Studio!  \n📅 February 12th | 10:00-5:00📍 Beverly’s Off Bay | 219 Scott Street\, Beaufort SC \nMeet Juli Mills\, the creative heart behind J. Mills Studio\, and explore her beautifully handcrafted jewelry! Pieces designed with care and timeless elegance in mind. Each item is made by hand in Murphy\, North Carolina\, and reflects a classic-yet-versatile style that’s perfect for everyday wear or meaningful gifts.  \nTake the time to treat yourself or find the perfect gift\, this is the moment to discover jewelry with heart while you sip\, shop\, and make a day of it with someone special.
URL:https://explorebeaufortsc.com/event/j-mills-studio-at-beverlys-off-bay/
LOCATION:219 Scott St\, Beaufort\, SC\, United States\, South Carolina\, 219 Scott St\, Beaufort\, SC\, United States\, South Carolina
ORGANIZER;CN="Beverly's Off Bay":MAILTO:noreply@facebookmail.com
END:VEVENT
BEGIN:VEVENT
DTSTART;TZID=America/New_York:20260212T160000
DTEND;TZID=America/New_York:20260212T200000
DTSTAMP:20260425T122103
CREATED:20260205T015305Z
LAST-MODIFIED:20260205T015305Z
UID:25560-1770912000-1770926400@explorebeaufortsc.com
SUMMARY:Sip & Stroll for the Stars
DESCRIPTION:💖✨ Sip & Stroll for the Stars – A Galentine’s Event ✨💖 \nDowntown Beaufort is coming together to support a beloved local event—CAPA’s Dancing With Our Stars! 💃⭐ \nThis incredible event is powered by 12 amazing teams who are dedicating countless hours\, hard work\, and heart to raise funds for a cause that means so much to our community. Now it’s our turn to give back! \nJoin us for our First Annual “Sip & Stroll for the Stars” Galentine’s Party on📅 Thursday\, 2/12⏰ 4–8pm \n✨ How it works:Stroll through downtown and visit 12 participating businesses\, each proudly sponsoring one Dancing With Our Stars team. As you Sip & Stroll\, you’ll enjoy:• A delicious drink at each stop• Possibly a sweet treat 🍬• Fabulous shopping finds• And the chance to give back—each business will donate 10% of their evening sales to support CAPA’s Dancing With Our Stars! \n🎟 Raffle Basket:We’ll also be raffling off an incredible basket filled with gift cards\, unique finds\, tasty treats\, and fun surprises!• Tickets are $25• 100% of proceeds go directly to CAPA \nGrab your girlfriends\, wear your Galentine’s spirit\, and come dance (and sip!) the night away with us while supporting an amazing cause. 💕 (P.S. We know there are a few amazing hubbies out there who are expert support shoppers\, so we’ll absolutely allow an exception or two 😉 For everyone else\, they can happily hold down the fort at Beaufort Wine Bar\, Hearth\, Hop Dog\, or Lost Local while the ladies Sip & Stroll! 🍷🌭🍔) \nWe truly can’t do this without you—and we can’t wait to celebrate\, support\, and stroll with you! ✨💃
URL:https://explorebeaufortsc.com/event/sip-stroll-for-the-stars/
LOCATION:Downtown Beaufort\, Downtown Beaufort
END:VEVENT
BEGIN:VEVENT
DTSTART;TZID=America/New_York:20260212T170000
DTEND;TZID=America/New_York:20260212T190000
DTSTAMP:20260425T122103
CREATED:20260205T015305Z
LAST-MODIFIED:20260205T015305Z
UID:25561-1770915600-1770922800@explorebeaufortsc.com
SUMMARY:The Celadon Club Annual Open House
DESCRIPTION:Just a little less than two weeks to our Annual Open House! We can’t wait to open our doors to you!  \nNot a member yet? Come see all the ways The Celadon Club can support you in your health and wellness journey\, visit our vendors\, attend a wellness chat and fill your visitors card with hearts for a chance to win some amazing giveaways!  \nMembers come see new programs and opportunities for 2026\, enjoy live music with The Alibis and bring friends to take advantage of our new members referral program. You dont want to miss it!!  \nRSVP to rsvp@celadonclub.com to add your name to the Open House VIP list! Don’t forget to Share the Love 💕
URL:https://explorebeaufortsc.com/event/the-celadon-club-annual-open-house/
LOCATION:Celadon Club Wellness Center
ORGANIZER;CN="Celadon Club Wellness Center":MAILTO:noreply@facebookmail.com
END:VEVENT
BEGIN:VEVENT
DTSTART;TZID=America/New_York:20260212T180000
DTEND;TZID=America/New_York:20260212T193000
DTSTAMP:20260425T122103
CREATED:20260110T183136Z
LAST-MODIFIED:20260205T015305Z
UID:25401-1770919200-1770924600@explorebeaufortsc.com
SUMMARY:Open Mic Night--Featuring Ifetayo J. White\, Author of Reiki Heart and Soul
DESCRIPTION:The Pat Conroy Literary Center’s monthly Open Mic Night will be held at the Conroy Center (601 Bladen St.) on Thursday\, February 12\, from 6:00 to 7:30 p.m. Our featured author will be Ifetayo J. White\, author of Reiki Heart and Soul. Open Mic will also include short readings of 3 to 5 minutes each by other writers in many genres. \nInterested in reading as part of Open Mic? Let us know at contact@patconroyliterarycenter.org. \nAbout Our Featured AuthorIfetayo J. White\, an influential figure in the realm of Reiki and wellness\, hails from Washington\, DC\, but now calls St. Helena Island her home. She established the Lowcountry School of Reiki and CHOICES Birthing and Wellness Support\, contributing significantly to healing practices in the area since 2000. A Howard University graduate\, she pursued diverse paths before dedicating herself to healing modalities such as reflexology\, Jin Shin Do Acupressure\, and massage therapy. As a Usui Reiki Master Teacher since 1999\, Ifetayo continues to share her expertise through sessions\, workshops\, and her own Reiki certification program. Her heart is also filled with love for her family\, crafting\, cooking\, and beach walks.  \nAbout the Book:REIKI HEART and SOUL: Many Stories\, One Bright Light is an enlightening anthology\, presenting the narratives of U.S. Reiki Teachers and Practitioners whose family and spiritual backgrounds expand the globe. This collection of experiences offers a distinctive rhythm and tone\, contributing to the expanding Reiki community. This body of individuals is as diverse as humanity itself\, encompassing various races\, cultures\, locations\, and Reiki lineages. \nFrom urban to rural\, from ministers to retirees\, from the African American to the Jewish and Ifa communities\, each story shines a unique light on the practice of Reiki. These narratives are the lifeblood of a global community\, united in their commitment to Reiki’s powerful healing energy. They echo a singular\, potent message – We are ONE. This mantra encapsulates the unity within diversity that is the essence of the Reiki community.
URL:https://explorebeaufortsc.com/event/open-mic-night-featuring-ifetayo-j-white-author-of-reiki-heart-and-soul/
LOCATION:601 Bladen Street\, Beaufort\, SC\, United States\, South Carolina 29902\, 601 Bladen Street\, Beaufort\, SC\, United States\, South Carolina 29902
ORGANIZER;CN="Pat Conroy Literary Center":MAILTO:noreply@facebookmail.com
END:VEVENT
END:VCALENDAR