BEGIN:VCALENDAR
VERSION:2.0
PRODID:-//Explore Beaufort SC - ECPv6.15.20//NONSGML v1.0//EN
CALSCALE:GREGORIAN
METHOD:PUBLISH
X-WR-CALNAME:Explore Beaufort SC
X-ORIGINAL-URL:https://explorebeaufortsc.com
X-WR-CALDESC:Events for Explore Beaufort SC
REFRESH-INTERVAL;VALUE=DURATION:PT1H
X-Robots-Tag:noindex
X-PUBLISHED-TTL:PT1H
BEGIN:VTIMEZONE
TZID:America/New_York
BEGIN:DAYLIGHT
TZOFFSETFROM:-0500
TZOFFSETTO:-0400
TZNAME:EDT
DTSTART:20250309T070000
END:DAYLIGHT
BEGIN:STANDARD
TZOFFSETFROM:-0400
TZOFFSETTO:-0500
TZNAME:EST
DTSTART:20251102T060000
END:STANDARD
BEGIN:DAYLIGHT
TZOFFSETFROM:-0500
TZOFFSETTO:-0400
TZNAME:EDT
DTSTART:20260308T070000
END:DAYLIGHT
BEGIN:STANDARD
TZOFFSETFROM:-0400
TZOFFSETTO:-0500
TZNAME:EST
DTSTART:20261101T060000
END:STANDARD
BEGIN:DAYLIGHT
TZOFFSETFROM:-0500
TZOFFSETTO:-0400
TZNAME:EDT
DTSTART:20270314T070000
END:DAYLIGHT
BEGIN:STANDARD
TZOFFSETFROM:-0400
TZOFFSETTO:-0500
TZNAME:EST
DTSTART:20271107T060000
END:STANDARD
END:VTIMEZONE
BEGIN:VEVENT
DTSTART;TZID=America/New_York:20260213T090000
DTEND;TZID=America/New_York:20260213T120000
DTSTAMP:20260425T121733
CREATED:20260110T183136Z
LAST-MODIFIED:20260205T015305Z
UID:25402-1770973200-1770984000@explorebeaufortsc.com
SUMMARY:For the Love of Coffee ☕💖
DESCRIPTION:Celebrate Valentine’s Day early with us at For the Love of Coffee! 💕☕ \nJoin us for a morning full of coffee\, community\, and fun\, and let us show our appreciation for our amazing clients\, friends\, and neighbors. \nWhat’s Happening:• FREE coffee for all guests• Beautiful roses for attendees• Exciting scratch-off prizes• Raffle giveaways  \nValentine’s Day vibes with hearts\, flowers\, and fun surprises \n💖 Why You Should Come:This is a family-friendly\, drop-in event — a perfect way to connect with your community and enjoy a morning of treats and laughter. Come for the coffee\, stay for the fun! \nSponsors:Thank you to our event sponsors for helping us make this day special. Your support ensures a memorable experience for everyone. \nShare the Love:Invite your friends and family! Don’t forget to bring your smiles and your love of coffee. 💖 \n🌊 Hosted by:Love Coastal Living Team | REAL Broker LLC🌐 www.lovecoastalliving.net \n📧 theloves@lclteam.com | 📞 (843) 310-6062
URL:https://explorebeaufortsc.com/event/for-the-love-of-coffee-%e2%98%95%f0%9f%92%96/
LOCATION:Urban Brew + Co.\, Urban Brew + Co.
END:VEVENT
END:VCALENDAR