BEGIN:VCALENDAR
VERSION:2.0
PRODID:-//Explore Beaufort SC - ECPv6.15.20//NONSGML v1.0//EN
CALSCALE:GREGORIAN
METHOD:PUBLISH
X-ORIGINAL-URL:https://explorebeaufortsc.com
X-WR-CALDESC:Events for Explore Beaufort SC
REFRESH-INTERVAL;VALUE=DURATION:PT1H
X-Robots-Tag:noindex
X-PUBLISHED-TTL:PT1H
BEGIN:VTIMEZONE
TZID:America/New_York
BEGIN:DAYLIGHT
TZOFFSETFROM:-0500
TZOFFSETTO:-0400
TZNAME:EDT
DTSTART:20250309T070000
END:DAYLIGHT
BEGIN:STANDARD
TZOFFSETFROM:-0400
TZOFFSETTO:-0500
TZNAME:EST
DTSTART:20251102T060000
END:STANDARD
BEGIN:DAYLIGHT
TZOFFSETFROM:-0500
TZOFFSETTO:-0400
TZNAME:EDT
DTSTART:20260308T070000
END:DAYLIGHT
BEGIN:STANDARD
TZOFFSETFROM:-0400
TZOFFSETTO:-0500
TZNAME:EST
DTSTART:20261101T060000
END:STANDARD
BEGIN:DAYLIGHT
TZOFFSETFROM:-0500
TZOFFSETTO:-0400
TZNAME:EDT
DTSTART:20270314T070000
END:DAYLIGHT
BEGIN:STANDARD
TZOFFSETFROM:-0400
TZOFFSETTO:-0500
TZNAME:EST
DTSTART:20271107T060000
END:STANDARD
END:VTIMEZONE
BEGIN:VEVENT
DTSTART;TZID=America/New_York:20260214T080000
DTEND;TZID=America/New_York:20260214T110000
DTSTAMP:20260425T122135
CREATED:20260205T004538Z
LAST-MODIFIED:20260205T004538Z
UID:25525-1771056000-1771066800@explorebeaufortsc.com
SUMMARY:Beaufort Lions Club Annual Sweetheart Valentine's Breakfast
DESCRIPTION:Bring the kids and join the Beaufort Lions Club for its annual Sweetheart Valentine’s Pancake Breakfast at Sea Island Presbyterian Church on Lady’s Island on Saturday\, February 14th from 8am to 11am. \nIn order to assist in raising funds to help those in need of vision services in Northern Beaufort County\, members and volunteers with the Beaufort Lions Club will be cooking up and serving pancakes\, waffles\, sausage\, cheese grits\, scrambled eggs\, sausage gravy and biscuits\, coffee\, tea\, and juice all morning long. \nCost is only $15 per adult and $10 per child under 12 years old.
URL:https://explorebeaufortsc.com/event/beaufort-lions-club-annual-sweetheart-valentines-breakfast/
LOCATION:Sea Island Presbyterian Church\, 81 Lady's Island Drive\, Beaufort\, SC\, 29907\, United States
ATTACH;FMTTYPE=image/jpeg:https://explorebeaufortsc.com/wp-content/uploads/2026/02/lionsclubpancakebreakfast.jpg
END:VEVENT
BEGIN:VEVENT
DTSTART;TZID=America/New_York:20260214T100000
DTEND;TZID=America/New_York:20260214T113000
DTSTAMP:20260425T122135
CREATED:20260205T015305Z
LAST-MODIFIED:20260205T015305Z
UID:25564-1771063200-1771068600@explorebeaufortsc.com
SUMMARY:FREE Master Naturalist Tour
DESCRIPTION:Take a tour of the Port Royal Cypress Wetlands with Master Naturalist Jill Moore. Jill\, a certified master naturalist and founder of Moore2Life\, provides nature-based programs to local residents\, communities\, and tourists here in the magnificent Lowcountry – a setting unlike any place on Earth. With research showing that people function best when they have access to and a connection with nature\, Jill is committed to helping people discover a passion and appreciation for the unique area that surrounds us. \nTours are free to the public! Please RSVP here: https://friendsofportroyalcypresswetlands.org/tours/  \nhttps://www.facebook.com/events/1267325138570748/?event_time_id=1268761661760429
URL:https://explorebeaufortsc.com/event/free-master-naturalist-tour-18/
LOCATION:1700 Paris Ave\, Port Royal\, SC\, United States\, South Carolina 29935\, 1700 Paris Ave\, Port Royal\, SC\, United States\, South Carolina 29935
ORGANIZER;CN="Friends of Port Royal Cypress Wetlands":MAILTO:noreply@facebookmail.com
END:VEVENT
BEGIN:VEVENT
DTSTART;TZID=America/New_York:20260214T160000
DTEND;TZID=America/New_York:20260214T190000
DTSTAMP:20260425T122135
CREATED:20260110T183136Z
LAST-MODIFIED:20260215T230150Z
UID:25403-1771084800-1771095600@explorebeaufortsc.com
SUMMARY:Chocolate Valentine Mixology with Lorri
DESCRIPTION:💕🍫🍓 \nValentine’s Chocolate & Cocktail Mixology Class \nFall in love with flavor at this hands-on Valentine’s mixology experience inspired by dark chocolate and white-chocolate-covered strawberries. You’ll learn to craft decadent cocktails\, plus tips on pairing chocolate with spirits for maximum indulgence. Whether you’re coming with a partner\, friends\, or treating yourself\, this class is all about sipping\, stirring\, and savoring something a little luxurious—because Valentine’s Day deserves a cocktail as sweet as the moment.
URL:https://explorebeaufortsc.com/event/chocolate-valentine-mixology-with-lorri/
LOCATION:2139 Boundary Street Unit 102\, Beaufort\, SC\, United States\, South Carolina 29902\, 2139 Boundary Street Unit 102\, Beaufort\, SC\, United States\, South Carolina 29902
ORGANIZER;CN="Rotten Little Bastard Distillery":MAILTO:noreply@facebookmail.com
END:VEVENT
BEGIN:VEVENT
DTSTART;TZID=America/New_York:20260214T190000
DTEND;TZID=America/New_York:20260214T220000
DTSTAMP:20260425T122135
CREATED:20260110T183136Z
LAST-MODIFIED:20260215T230150Z
UID:25404-1771095600-1771106400@explorebeaufortsc.com
SUMMARY:Revolution Ballroom Valentine Dance Party 💖
DESCRIPTION:Join us for our Valentine Dance Party on Saturday\, February 14th. This sweet celebration is for everyone – singles and couples are welcome! \nValentine Dance Party 💖〰️ Saturday\, February 14th 〰️ \n◽️7:00 – 7:30 PM Beginner Rumba lesson◽️7:30 – 10:00 PM Social Dancing◽️8:00 PM – SPECIAL PERFORMANCES◽️Our playlist features a mix of Ballroom\, Latin\, Swing\, Salsa\, Bachata\, and Argentine Tango◽️Light refreshments & sweet treats◽️Admission: $20 (online or at the door)◽️Open to the public (ages 18+)◽️Singles & couples welcome. We rotate partners during the beginner lesson so you can come solo or bring a friend!◽️Attire: Wear Red\, Pink\, White\, or Black (Dressy or Cocktail) \n➡️ Sign up here: https://www.revolutionballroom.com/valentine-party \nEvent Location:Revolution Ballroom2121 Boundary StSuite 207Beaufort\, SC 29902
URL:https://explorebeaufortsc.com/event/revolution-ballroom-valentine-dance-party-%f0%9f%92%96/
LOCATION:2121 Boundary St\, Suite 207\, Beaufort\, SC\, United States\, South Carolina 29902\, 2121 Boundary St\, Suite 207\, Beaufort\, SC\, United States\, South Carolina 29902
ORGANIZER;CN="Revolution Ballroom":MAILTO:noreply@facebookmail.com
END:VEVENT
END:VCALENDAR