BEGIN:VCALENDAR
VERSION:2.0
PRODID:-//Explore Beaufort SC - ECPv6.15.20//NONSGML v1.0//EN
CALSCALE:GREGORIAN
METHOD:PUBLISH
X-WR-CALNAME:Explore Beaufort SC
X-ORIGINAL-URL:https://explorebeaufortsc.com
X-WR-CALDESC:Events for Explore Beaufort SC
REFRESH-INTERVAL;VALUE=DURATION:PT1H
X-Robots-Tag:noindex
X-PUBLISHED-TTL:PT1H
BEGIN:VTIMEZONE
TZID:America/New_York
BEGIN:DAYLIGHT
TZOFFSETFROM:-0500
TZOFFSETTO:-0400
TZNAME:EDT
DTSTART:20250309T070000
END:DAYLIGHT
BEGIN:STANDARD
TZOFFSETFROM:-0400
TZOFFSETTO:-0500
TZNAME:EST
DTSTART:20251102T060000
END:STANDARD
BEGIN:DAYLIGHT
TZOFFSETFROM:-0500
TZOFFSETTO:-0400
TZNAME:EDT
DTSTART:20260308T070000
END:DAYLIGHT
BEGIN:STANDARD
TZOFFSETFROM:-0400
TZOFFSETTO:-0500
TZNAME:EST
DTSTART:20261101T060000
END:STANDARD
BEGIN:DAYLIGHT
TZOFFSETFROM:-0500
TZOFFSETTO:-0400
TZNAME:EDT
DTSTART:20270314T070000
END:DAYLIGHT
BEGIN:STANDARD
TZOFFSETFROM:-0400
TZOFFSETTO:-0500
TZNAME:EST
DTSTART:20271107T060000
END:STANDARD
END:VTIMEZONE
BEGIN:VEVENT
DTSTART;TZID=America/New_York:20260215T170000
DTEND;TZID=America/New_York:20260215T210000
DTSTAMP:20260425T121820
CREATED:20260205T015305Z
LAST-MODIFIED:20260215T230150Z
UID:25567-1771174800-1771189200@explorebeaufortsc.com
SUMMARY:Boots & Bling
DESCRIPTION:Great music\, great food\, great cause—Boots & Bling is back! \n🤠 Boots & Bling is back on February 15 | 5–9 PM (President’s Day Weekend!) at our NEW location: the Maritime Center🍖 Delicious BBQ dinner🎶 Live music by local favorite Deas Guyz🛍️ Silent auction🚗 Golf cart raffle🎟️ 50/50 raffle🍸 Cash bar featuring fun specialty cocktails & mocktails🍹 Tickets include two drink tickets \n💙 Best of all\, 100% of proceeds support the Wardle Family YMCA Lobby Remodel Project\, helping us create a more welcoming space for our entire community. \n🚐 Parking is easy! You can park at the Y and hop on our free shuttle to and from the event. \n🎟️ Get your tickets now at the front desk or online 👉https://operations.daxko.com/online/5153/ProgramsV2/Events.mvc/offering?guid=1a00b08f-d20e-11f0-99dc-0050569286b7 \nThank you to our presenting sponsor Schiller & Hamilton Law Firm!
URL:https://explorebeaufortsc.com/event/boots-bling/
LOCATION:Port Royal Sound Maritime Center\, Port Royal Sound Maritime Center
ORGANIZER;CN="Wardle Family YMCA":MAILTO:noreply@facebookmail.com
END:VEVENT
END:VCALENDAR