BEGIN:VCALENDAR
VERSION:2.0
PRODID:-//Explore Beaufort SC - ECPv6.15.20//NONSGML v1.0//EN
CALSCALE:GREGORIAN
METHOD:PUBLISH
X-ORIGINAL-URL:https://explorebeaufortsc.com
X-WR-CALDESC:Events for Explore Beaufort SC
REFRESH-INTERVAL;VALUE=DURATION:PT1H
X-Robots-Tag:noindex
X-PUBLISHED-TTL:PT1H
BEGIN:VTIMEZONE
TZID:America/New_York
BEGIN:DAYLIGHT
TZOFFSETFROM:-0500
TZOFFSETTO:-0400
TZNAME:EDT
DTSTART:20250309T070000
END:DAYLIGHT
BEGIN:STANDARD
TZOFFSETFROM:-0400
TZOFFSETTO:-0500
TZNAME:EST
DTSTART:20251102T060000
END:STANDARD
BEGIN:DAYLIGHT
TZOFFSETFROM:-0500
TZOFFSETTO:-0400
TZNAME:EDT
DTSTART:20260308T070000
END:DAYLIGHT
BEGIN:STANDARD
TZOFFSETFROM:-0400
TZOFFSETTO:-0500
TZNAME:EST
DTSTART:20261101T060000
END:STANDARD
BEGIN:DAYLIGHT
TZOFFSETFROM:-0500
TZOFFSETTO:-0400
TZNAME:EDT
DTSTART:20270314T070000
END:DAYLIGHT
BEGIN:STANDARD
TZOFFSETFROM:-0400
TZOFFSETTO:-0500
TZNAME:EST
DTSTART:20271107T060000
END:STANDARD
END:VTIMEZONE
BEGIN:VEVENT
DTSTART;TZID=America/New_York:20260217T100000
DTEND;TZID=America/New_York:20260220T170000
DTSTAMP:20260425T122102
CREATED:20260215T230151Z
LAST-MODIFIED:20260215T230151Z
UID:25669-1771322400-1771606800@explorebeaufortsc.com
SUMMARY:Great Estate Buying Event - The Jeweler's Bench
DESCRIPTION:If you’ve been thinking about selling your valuables\, we’re hosting our Great Estate Buying Event at: \nThe Jeweler’s Bench603 Carteret St.Beaufort\, SC 29902 \nFebruary 17-20Tuesday-Thursday 10am-5pmFriday 10am-3pm \nWe are purchasing estate jewelry\, diamonds\, watches\, gold\, silver\, coins and more! \nOur experienced staff will evaluate any item\, no matter how small\, and make you an offer. If you decide to sell\, we will pay you on the spot! \nMake appointments here: https://www.julesestatebuyers.com/event/beaufort-sc
URL:https://explorebeaufortsc.com/event/great-estate-buying-event-the-jewelers-bench-3/
LOCATION:603 Carteret St.\, Beaufort\, SC 29902\, 603 Carteret St.\, Beaufort\, SC 29902
ORGANIZER;CN="Jules Estate Buyers%2C Inc.":MAILTO:noreply@facebookmail.com
END:VEVENT
BEGIN:VEVENT
DTSTART;TZID=America/New_York:20260217T173000
DTEND;TZID=America/New_York:20260222T230000
DTSTAMP:20260425T122102
CREATED:20260215T230151Z
LAST-MODIFIED:20260215T230151Z
UID:25670-1771349400-1771801200@explorebeaufortsc.com
SUMMARY:20th Annual Beaufort International Film Festival
DESCRIPTION:Come celebrate the 20th Annual Beaufort International Film Festival. Full schedule and screening times found on our website at www.beaufortfilmfestival.com.
URL:https://explorebeaufortsc.com/event/20th-annual-beaufort-international-film-festival/
LOCATION:USCB Center for the Arts
END:VEVENT
BEGIN:VEVENT
DTSTART;TZID=America/New_York:20260220T080000
DTEND;TZID=America/New_York:20260220T130000
DTSTAMP:20260425T122102
CREATED:20260215T230151Z
LAST-MODIFIED:20260215T230151Z
UID:25673-1771574400-1771592400@explorebeaufortsc.com
SUMMARY:Blood Drive @ Lady's Island Internal Medicine
DESCRIPTION:Beaufort Memorial is proud to host the OneBlood Big Red Bus for a community blood drive at Lady’s Island Internal Medicine on Friday\, February 20. \n📍 117 Sea Island Parkway\, Beaufort🗓️ Friday\, 2/20⌚8:00 a.m. – 1:00 p.m. \nSchedule an appointment: https://donor.oneblood.org/donor/schedules/drive_schedule/1624418 \nOne pint of blood can help save up to three lives. Give the gift of life. \nAll donors receive:• $20 eGift card• Long-sleeved t-shirt• Wellness checkup
URL:https://explorebeaufortsc.com/event/blood-drive-ladys-island-internal-medicine/
LOCATION:Beaufort Memorial Lady’s Island Internal Medicine\, Beaufort Memorial Lady's Island Internal Medicine
ORGANIZER;CN="Beaufort Memorial Hospital":MAILTO:noreply@facebookmail.com
END:VEVENT
END:VCALENDAR