BEGIN:VCALENDAR
VERSION:2.0
PRODID:-//Explore Beaufort SC - ECPv6.15.20//NONSGML v1.0//EN
CALSCALE:GREGORIAN
METHOD:PUBLISH
X-ORIGINAL-URL:https://explorebeaufortsc.com
X-WR-CALDESC:Events for Explore Beaufort SC
REFRESH-INTERVAL;VALUE=DURATION:PT1H
X-Robots-Tag:noindex
X-PUBLISHED-TTL:PT1H
BEGIN:VTIMEZONE
TZID:America/New_York
BEGIN:DAYLIGHT
TZOFFSETFROM:-0500
TZOFFSETTO:-0400
TZNAME:EDT
DTSTART:20250309T070000
END:DAYLIGHT
BEGIN:STANDARD
TZOFFSETFROM:-0400
TZOFFSETTO:-0500
TZNAME:EST
DTSTART:20251102T060000
END:STANDARD
BEGIN:DAYLIGHT
TZOFFSETFROM:-0500
TZOFFSETTO:-0400
TZNAME:EDT
DTSTART:20260308T070000
END:DAYLIGHT
BEGIN:STANDARD
TZOFFSETFROM:-0400
TZOFFSETTO:-0500
TZNAME:EST
DTSTART:20261101T060000
END:STANDARD
BEGIN:DAYLIGHT
TZOFFSETFROM:-0500
TZOFFSETTO:-0400
TZNAME:EDT
DTSTART:20270314T070000
END:DAYLIGHT
BEGIN:STANDARD
TZOFFSETFROM:-0400
TZOFFSETTO:-0500
TZNAME:EST
DTSTART:20271107T060000
END:STANDARD
END:VTIMEZONE
BEGIN:VEVENT
DTSTART;TZID=America/New_York:20260225T110000
DTEND;TZID=America/New_York:20260225T160000
DTSTAMP:20260425T105719
CREATED:20260225T004311Z
LAST-MODIFIED:20260225T004311Z
UID:25839-1772017200-1772035200@explorebeaufortsc.com
SUMMARY:Blood Drive @ Lowcountry Medical Group
DESCRIPTION:Beaufort Memorial is proud to host the OneBlood Big Red Bus for a community blood drive at Lowcountry Medical Group on Wednesday\, February 25. \n📍 300 Midtown Drive\, Beaufort🗓️ Wednesday\, 2/25⌚11:00 a.m. – 4:00 p.m. \nBook an appointment:https://www.oneblood.org/donate-now/scheduler.html?locationId=1756244 \nOne pint of blood can help save up to three lives. Give the gift of life. \nAll donors receive:• $20 eGift card• Long-sleeved t-shirt• Wellness checkup
URL:https://explorebeaufortsc.com/event/blood-drive-lowcountry-medical-group/
LOCATION:Beaufort Memorial Lowcountry Medical Group\, Beaufort Memorial Lowcountry Medical Group
ORGANIZER;CN="Beaufort Memorial Hospital":MAILTO:noreply@facebookmail.com
END:VEVENT
BEGIN:VEVENT
DTSTART;TZID=America/New_York:20260225T173000
DTEND;TZID=America/New_York:20260225T203000
DTSTAMP:20260425T105719
CREATED:20260225T004312Z
LAST-MODIFIED:20260225T004312Z
UID:25841-1772040600-1772051400@explorebeaufortsc.com
SUMMARY:Litter Clean-up With Beaufort Litter Patrol
DESCRIPTION:We’re back with another Community cleanup! \nAll supplies will be provided. Please where comfortable shoes and bring your own water. \nIn our continued efforts to serve members of our community in need\, we are collecting donations of individually packaged snacks for the children of CAPA. These small comforts can help make an unfamiliar and often difficult time feel a little more welcoming and secure for the children they serve. \nHelp us give a warm welcome to GRAYSON!! Grayson will be leading this months cleanup. >>  \n“Grayson Spurlock is a proud Beaufort native who has supported Beaufort Litter Patrol since its founding in 2020. After forming a friendship with Ashton in 2019 and watching her vision come to life\, Grayson was inspired not only to participate\, but to step in and serve. Keeping Beaufort clean and beautiful has always been close to her heart\, and joining the committee allows her to give back in a meaningful way. \nA Realtor with Keller Williams and an active member of the Junior Service League\, Grayson is passionate about serving families and strengthening the community she calls home. In her free time\, she enjoys boating with her husband Dustin\, their three-year-old Shem\, and their German Shepherd Dwight\, soaking up all that the CLEAN Lowcountry has to offer. “ \nJoin us for a cheers well-done following the clean-up at Shellring Aleworks!Be sure to share and invite! There is power in numbers!
URL:https://explorebeaufortsc.com/event/litter-clean-up-with-beaufort-litter-patrol/
LOCATION:Broad River Boat Landing\, Broad River Boat Landing
ORGANIZER;CN="Beaufort Litter Patrol":MAILTO:noreply@facebookmail.com
END:VEVENT
BEGIN:VEVENT
DTSTART;TZID=America/New_York:20260225T180000
DTEND;TZID=America/New_York:20260225T200000
DTSTAMP:20260425T105719
CREATED:20260205T005812Z
LAST-MODIFIED:20260205T005812Z
UID:25535-1772042400-1772049600@explorebeaufortsc.com
SUMMARY:Beginner Watercolor Painting Workshop at Marshview Mercantile
DESCRIPTION:Discover the art of watercolor in this super beginner-friendly workshop. Perfect for first-time painters or anyone looking for a relaxing creative experience.\nEach participant will choose from our curated collection of designer\, lightly sketched ready-to-paint templates. No artistic experience needed—just bring your curiosity and willingness to have fun. \nWhat’s Included:\nDuring this 2-hour\, hands-on workshop\, participants will:\n* Learn essential watercolor techniques (blending\, layering\, brush control)\n* Follow guided instruction in a relaxed\, supportive environment\n* Paint a ready-to-paint 5×8 watercolor design\n* Take home a personal watercolor set to keep\, so creativity can continue at home \n\nFebruary 25\, 6-8p\n\nMarshview Mercantile\n2631 Boundary Street\, Beaufort\, SC\nJoin Us:\n\nhttps://marshviewmercantile.commentsold.com/products/beginner-watercolor-painting-workshop-feb-25-6-8p
URL:https://explorebeaufortsc.com/event/beginner-watercolor-painting-workshop-at-marshview-mercantile/
LOCATION:Marshview Mercantile\, 2631 Boundary St\, Beaufort\, SC\, 29906\, US
ATTACH;FMTTYPE=image/jpeg:https://explorebeaufortsc.com/wp-content/uploads/2026/02/marshviewwatercolor1.jpg
END:VEVENT
END:VCALENDAR