BEGIN:VCALENDAR
VERSION:2.0
PRODID:-//Explore Beaufort SC - ECPv6.15.20//NONSGML v1.0//EN
CALSCALE:GREGORIAN
METHOD:PUBLISH
X-WR-CALNAME:Explore Beaufort SC
X-ORIGINAL-URL:https://explorebeaufortsc.com
X-WR-CALDESC:Events for Explore Beaufort SC
REFRESH-INTERVAL;VALUE=DURATION:PT1H
X-Robots-Tag:noindex
X-PUBLISHED-TTL:PT1H
BEGIN:VTIMEZONE
TZID:America/New_York
BEGIN:DAYLIGHT
TZOFFSETFROM:-0500
TZOFFSETTO:-0400
TZNAME:EDT
DTSTART:20250309T070000
END:DAYLIGHT
BEGIN:STANDARD
TZOFFSETFROM:-0400
TZOFFSETTO:-0500
TZNAME:EST
DTSTART:20251102T060000
END:STANDARD
BEGIN:DAYLIGHT
TZOFFSETFROM:-0500
TZOFFSETTO:-0400
TZNAME:EDT
DTSTART:20260308T070000
END:DAYLIGHT
BEGIN:STANDARD
TZOFFSETFROM:-0400
TZOFFSETTO:-0500
TZNAME:EST
DTSTART:20261101T060000
END:STANDARD
BEGIN:DAYLIGHT
TZOFFSETFROM:-0500
TZOFFSETTO:-0400
TZNAME:EDT
DTSTART:20270314T070000
END:DAYLIGHT
BEGIN:STANDARD
TZOFFSETFROM:-0400
TZOFFSETTO:-0500
TZNAME:EST
DTSTART:20271107T060000
END:STANDARD
END:VTIMEZONE
BEGIN:VEVENT
DTSTART;TZID=America/New_York:20260302T140000
DTEND;TZID=America/New_York:20260308T153000
DTSTAMP:20260425T110910
CREATED:20260110T183137Z
LAST-MODIFIED:20260307T223333Z
UID:25419-1772460000-1772983800@explorebeaufortsc.com
SUMMARY:Tenth Annual March Forth
DESCRIPTION:Save the Dates! \nCommemorating the anniversary of Pat Conroy’s passing on March 4\, 2016\, by engaging with major themes of his writing and teaching life\, the nonprofit Pat Conroy Literary Center’s tenth annual March Forth will be a week long series of educational programs and experiences\, spanning Monday\, March 2\, to Sunday\, March 8–including events in Beaufort\, Bluffton\, Charleston\, Daufuskie Island\, Port Royal\, and St. Helena Island. \nDetails and registration information will be announced in mid January: https://marchforth2026.eventbrite.com \n~ SCHEDULED TO APPEAR “~Coming Soon \n~EVENTS SCHEDULE~Coming Soon
URL:https://explorebeaufortsc.com/event/tenth-annual-march-forth/
LOCATION:601 Bladen Street\, Beaufort\, SC\, United States\, South Carolina 29902\, 601 Bladen Street\, Beaufort\, SC\, United States\, South Carolina 29902
ORGANIZER;CN="Pat Conroy Literary Center":MAILTO:noreply@facebookmail.com
END:VEVENT
BEGIN:VEVENT
DTSTART;TZID=America/New_York:20260303T140000
DTEND;TZID=America/New_York:20260303T151500
DTSTAMP:20260425T110910
CREATED:20260110T183137Z
LAST-MODIFIED:20260225T004314Z
UID:25420-1772546400-1772550900@explorebeaufortsc.com
SUMMARY:The Rhythm of the Dance
DESCRIPTION:Experience the heartbeat of Ireland with Rhythm of the Dance! This high-energy production by the National Dance Company of Ireland features world-class step dancers\, live musicians\, and stunning visuals. Journey through Irish history and culture in a breathtaking celebration of dance\, music\, and tradition. A must-see for fans of Celtic heritage and spectacular live performance!Two must see performances! \nTickets:Adult $48Senior/Military $45Student $35 \nhttps://www.facebook.com/events/1437347757284579/?event_time_id=1437347767284578
URL:https://explorebeaufortsc.com/event/the-rhythm-of-the-dance/
LOCATION:801 Carteret St\, Beaufort\, SC\, United States\, South Carolina 29902\, 801 Carteret St\, Beaufort\, SC\, United States\, South Carolina 29902
ORGANIZER;CN="USCB Center for the Arts":MAILTO:noreply@facebookmail.com
END:VEVENT
BEGIN:VEVENT
DTSTART;TZID=America/New_York:20260303T173000
DTEND;TZID=America/New_York:20260303T190000
DTSTAMP:20260425T110910
CREATED:20260225T004314Z
LAST-MODIFIED:20260225T004314Z
UID:25852-1772559000-1772564400@explorebeaufortsc.com
SUMMARY:Your Greendrinks Beaufort March 2026 Gathering
DESCRIPTION:Meet Cole Ruch\, a Wildlife Biologist with the SCDNR SCORE team. Cole will let us know about the biology of oysters\, shell recycling\, and living shorelines projects\, as well as upcoming volunteer opportunities throughout the summer.  \nThe South Carolina Oyster Recycling and Enhancement Program (SCORE) is a community-based habitat restoration and monitoring program of the South Carolina Department of Natural Resources. https://score.dnr.sc.gov/ \nWhy Recycle Oyster Shells? https://score.dnr.sc.gov/deepc306.html \n~ Brought to you by your Friends ~Paul Nurnberg\, Burton Sauls\, Heather Kraus\, Jessie White\, Caylor Romines\, Annie Boyd\, Grant McClure\, & Valentina Palacio Ruiz. \nSubscribe to our email list for meetings\, go to:No Spam.Just a notice of the monthly meetings.
URL:https://explorebeaufortsc.com/event/your-greendrinks-beaufort-march-2026-gathering/
LOCATION:Shellring Ale Works\, 1111 11th street\, Port Royal\, SC\, 29935\, US
ORGANIZER;CN="Greendrinks Beaufort":MAILTO:noreply@facebookmail.com
END:VEVENT
BEGIN:VEVENT
DTSTART;TZID=America/New_York:20260303T190000
DTEND;TZID=America/New_York:20260303T201500
DTSTAMP:20260425T110910
CREATED:20260110T183137Z
LAST-MODIFIED:20260225T004314Z
UID:25421-1772564400-1772568900@explorebeaufortsc.com
SUMMARY:The Rhythm of the Dance
DESCRIPTION:Experience the heartbeat of Ireland with Rhythm of the Dance! This high-energy production by the National Dance Company of Ireland features world-class step dancers\, live musicians\, and stunning visuals. Journey through Irish history and culture in a breathtaking celebration of dance\, music\, and tradition. A must-see for fans of Celtic heritage and spectacular live performance!Two must see performances! \nTickets:Adult $48Senior/Military $45Student $35 \nhttps://www.facebook.com/events/1437347757284579/?event_time_id=1437347763951245
URL:https://explorebeaufortsc.com/event/the-rhythm-of-the-dance-2/
LOCATION:801 Carteret St\, Beaufort\, SC\, United States\, South Carolina 29902\, 801 Carteret St\, Beaufort\, SC\, United States\, South Carolina 29902
ORGANIZER;CN="USCB Center for the Arts":MAILTO:noreply@facebookmail.com
END:VEVENT
END:VCALENDAR