BEGIN:VCALENDAR
VERSION:2.0
PRODID:-//Explore Beaufort SC - ECPv6.15.20//NONSGML v1.0//EN
CALSCALE:GREGORIAN
METHOD:PUBLISH
X-WR-CALNAME:Explore Beaufort SC
X-ORIGINAL-URL:https://explorebeaufortsc.com
X-WR-CALDESC:Events for Explore Beaufort SC
REFRESH-INTERVAL;VALUE=DURATION:PT1H
X-Robots-Tag:noindex
X-PUBLISHED-TTL:PT1H
BEGIN:VTIMEZONE
TZID:America/New_York
BEGIN:DAYLIGHT
TZOFFSETFROM:-0500
TZOFFSETTO:-0400
TZNAME:EDT
DTSTART:20250309T070000
END:DAYLIGHT
BEGIN:STANDARD
TZOFFSETFROM:-0400
TZOFFSETTO:-0500
TZNAME:EST
DTSTART:20251102T060000
END:STANDARD
BEGIN:DAYLIGHT
TZOFFSETFROM:-0500
TZOFFSETTO:-0400
TZNAME:EDT
DTSTART:20260308T070000
END:DAYLIGHT
BEGIN:STANDARD
TZOFFSETFROM:-0400
TZOFFSETTO:-0500
TZNAME:EST
DTSTART:20261101T060000
END:STANDARD
BEGIN:DAYLIGHT
TZOFFSETFROM:-0500
TZOFFSETTO:-0400
TZNAME:EDT
DTSTART:20270314T070000
END:DAYLIGHT
BEGIN:STANDARD
TZOFFSETFROM:-0400
TZOFFSETTO:-0500
TZNAME:EST
DTSTART:20271107T060000
END:STANDARD
END:VTIMEZONE
BEGIN:VEVENT
DTSTART;TZID=America/New_York:20260302T140000
DTEND;TZID=America/New_York:20260308T153000
DTSTAMP:20260425T105314
CREATED:20260110T183137Z
LAST-MODIFIED:20260307T223333Z
UID:25419-1772460000-1772983800@explorebeaufortsc.com
SUMMARY:Tenth Annual March Forth
DESCRIPTION:Save the Dates! \nCommemorating the anniversary of Pat Conroy’s passing on March 4\, 2016\, by engaging with major themes of his writing and teaching life\, the nonprofit Pat Conroy Literary Center’s tenth annual March Forth will be a week long series of educational programs and experiences\, spanning Monday\, March 2\, to Sunday\, March 8–including events in Beaufort\, Bluffton\, Charleston\, Daufuskie Island\, Port Royal\, and St. Helena Island. \nDetails and registration information will be announced in mid January: https://marchforth2026.eventbrite.com \n~ SCHEDULED TO APPEAR “~Coming Soon \n~EVENTS SCHEDULE~Coming Soon
URL:https://explorebeaufortsc.com/event/tenth-annual-march-forth/
LOCATION:601 Bladen Street\, Beaufort\, SC\, United States\, South Carolina 29902\, 601 Bladen Street\, Beaufort\, SC\, United States\, South Carolina 29902
ORGANIZER;CN="Pat Conroy Literary Center":MAILTO:noreply@facebookmail.com
END:VEVENT
BEGIN:VEVENT
DTSTART;TZID=America/New_York:20260306T170000
DTEND;TZID=America/New_York:20260306T200000
DTSTAMP:20260425T105314
CREATED:20260225T004315Z
LAST-MODIFIED:20260307T223325Z
UID:25858-1772816400-1772827200@explorebeaufortsc.com
SUMMARY:Strings of Storytelling: Author Talk & Book Signing with Brendan Slocumb
DESCRIPTION:Step into the captivating world of storytelling with award-winning novelist and bestselling author Brendan Slocumb. \nJoin Us for an Evening with Brendan Slocumb!Step into the captivating world of storytelling with award-winning novelist and bestselling author Brendan Slocumb. Known for his compelling novels\, including The Violin Conspiracy\, Symphony of Secrets\, and The Dark Maestro\, Brendan will engage attendees in an enlightening discussion about his writing process\, inspirations\, and the power of music in literature. \nAbout the Author:Hailing from Fayetteville\, North Carolina\, Brendan Slocumb is not only a talented author but also a dedicated music educator with over two decades of experience teaching students from kindergarten to twelfth grade. A proud graduate of the University of North Carolina at Greensboro\, he holds a degree in music education with concentrations in Violin and Viola. His debut novel\, The Violin Conspiracy\, was published in 2022 and garnered significant acclaim as a GMA Book Club Pick. Following its success\, he released Symphony of Secrets and The Dark Maestro\, further establishing his voice in contemporary fiction.Don’t miss this opportunity to meet Brendan Slocumb\, get your books signed\, and immerse yourself in the stories that intertwine music and the human experience.
URL:https://explorebeaufortsc.com/event/strings-of-storytelling-author-talk-book-signing-with-brendan-slocumb/
LOCATION:711 Bladen St\, Beaufort\, SC 29902-4968\, United States\, 711 Bladen St\, Beaufort\, SC 29902-4968\, United States
ORGANIZER;CN="Pat Conroy Literary Center":MAILTO:noreply@facebookmail.com
END:VEVENT
BEGIN:VEVENT
DTSTART;TZID=America/New_York:20260306T170000
DTEND;TZID=America/New_York:20260306T200000
DTSTAMP:20260425T105314
CREATED:20260215T230154Z
LAST-MODIFIED:20260307T223320Z
UID:25694-1772816400-1772827200@explorebeaufortsc.com
SUMMARY:Lucky in Beaufort - First Friday
DESCRIPTION:Lucky in Beaufort is coming to Downtown Beaufort for February’s First Friday! \nJoin us on Friday\, March 6\, from 5–8 PM as downtown turns a little green and a lot festive. Enjoy music throughout the district while you stroll\, shop\, and dine at your favorite local spots. \nKeep an eye out for fun\, themed touches from our Main Street businesses and plenty of ways to celebrate being lucky to live\, work\, and shop right here in Beaufort. \nBecause feeling lucky starts with supporting local—come out and celebrate community\, small businesses\, and all things Downtown Beaufort with us!
URL:https://explorebeaufortsc.com/event/lucky-in-beaufort-first-friday/
LOCATION:Downtown Beaufort\, SC\, Beaufort\, SC\, 29902\, US
END:VEVENT
BEGIN:VEVENT
DTSTART;TZID=America/New_York:20260306T180000
DTEND;TZID=America/New_York:20260307T230000
DTSTAMP:20260425T105314
CREATED:20260110T183137Z
LAST-MODIFIED:20260307T223330Z
UID:25422-1772820000-1772924400@explorebeaufortsc.com
SUMMARY:NEW Update: All ages welcome! Beaufort Charities Oyster Roast
DESCRIPTION:Get ready for the 21st annual Beaufort Charities Oyster Roast Festival! 🦪🎶 \nOnline tickets are NOW AVAILABLE for the biggest\, most shuckin’ good event of the year! 🎉 \nJoin us at Live Oaks Park in Port Royal on March 6th and 7th for a fantastic weekend of fun for a great cause: \nALL AGES are welcome both Friday and Saturday! 👨‍👩‍👧‍👦 \nOysters are available both Friday AND Saturday! 😋 \nLive Music featuring a Jon Bon Jovi tribute band and more! 🎸 \nSaturday includes a FREE Kids Zone and 2 Live Auctions! 🔨 \nAll proceeds go right back into Northern Beaufort County to help those in need! \nGet your online tickets today and skip the line! 👇  \nhttps://www.tickettailor.com/events/beaufortcharities1/1885930 \nWant to support your favorite local non-profit and get your tickets? Ask them for their unique QR code! Your ticket purchase makes a difference! ❤️ \n#BeaufortCharities #OysterRoast #PortRoyalSC #LiveOaksPark #Lowcountry #CommunityLove #TicketsOnSale \nFriday Ticket $40Saturday Ticket $50﻿﻿Weekend Pass $85 ﻿(Includes Entry For Both Days) \nALSO New\, You can Make a Donation using the Buy Tickets Button! \nDon’t miss the one they talk about all year long. The Beaufort Charities Festival!  \nFriday\, March 5th \n5:00 PM – 10:00 PM﻿ \nEntertainment:  \nLynn Avenue (Opener) \nJupiter Coyote (Headliner) \nFriday’s ticket price includes entertainment Frogmore Stew and Steamed Oysters\, plus the unlimited beer and wine souvenir cups available for purchase. NEW UPDATE: All ages welcome!  \nSaturday\, March 6th \n12:30 PM – 10:00 PM \nEntertainment:  \nBurnt Church Revival (Day) \nShot Through The Heart (Afternoon) Bon Jovi Tribute Band \nFour Piece And a Biscuit (Evening) \nSaturday is the Annual Oyster Roast\, plus the unlimited beer and wine souvenir cups available for purchase\, two live auctions (3pm & 6pm)\, and a FREE Kids Zone
URL:https://explorebeaufortsc.com/event/new-update-all-ages-welcome-beaufort-charities-oyster-roast/
LOCATION:Live Oak Park\, Live Oak Park
ORGANIZER;CN="The Beaufort Charities":MAILTO:noreply@facebookmail.com
END:VEVENT
END:VCALENDAR