BEGIN:VCALENDAR
VERSION:2.0
PRODID:-//Explore Beaufort SC - ECPv6.15.20//NONSGML v1.0//EN
CALSCALE:GREGORIAN
METHOD:PUBLISH
X-ORIGINAL-URL:https://explorebeaufortsc.com
X-WR-CALDESC:Events for Explore Beaufort SC
REFRESH-INTERVAL;VALUE=DURATION:PT1H
X-Robots-Tag:noindex
X-PUBLISHED-TTL:PT1H
BEGIN:VTIMEZONE
TZID:America/New_York
BEGIN:DAYLIGHT
TZOFFSETFROM:-0500
TZOFFSETTO:-0400
TZNAME:EDT
DTSTART:20250309T070000
END:DAYLIGHT
BEGIN:STANDARD
TZOFFSETFROM:-0400
TZOFFSETTO:-0500
TZNAME:EST
DTSTART:20251102T060000
END:STANDARD
BEGIN:DAYLIGHT
TZOFFSETFROM:-0500
TZOFFSETTO:-0400
TZNAME:EDT
DTSTART:20260308T070000
END:DAYLIGHT
BEGIN:STANDARD
TZOFFSETFROM:-0400
TZOFFSETTO:-0500
TZNAME:EST
DTSTART:20261101T060000
END:STANDARD
BEGIN:DAYLIGHT
TZOFFSETFROM:-0500
TZOFFSETTO:-0400
TZNAME:EDT
DTSTART:20270314T070000
END:DAYLIGHT
BEGIN:STANDARD
TZOFFSETFROM:-0400
TZOFFSETTO:-0500
TZNAME:EST
DTSTART:20271107T060000
END:STANDARD
END:VTIMEZONE
BEGIN:VEVENT
DTSTART;TZID=America/New_York:20260313T100000
DTEND;TZID=America/New_York:20260313T220000
DTSTAMP:20260425T105610
CREATED:20260307T223420Z
LAST-MODIFIED:20260312T021610Z
UID:25939-1773396000-1773439200@explorebeaufortsc.com
SUMMARY:Black Moss Tattoo March Friday 13th Flash Event
DESCRIPTION:Friday the 13th Flash event at Black Moss Tattoo! We’ll be starting at 10am\, and we’ll be accepting our last walk ins at 10pm! We’ll also be hosting a giveaway for a tattoo voucher for all who participate in the day with us!
URL:https://explorebeaufortsc.com/event/black-moss-tattoo-march-friday-13th-flash-event/
LOCATION:1808 Boundary St. Suite C\, Beaufort\, SC\, United States\, South Carolina 29902\, 1808 Boundary St. Suite C\, Beaufort\, SC\, United States\, South Carolina 29902
END:VEVENT
BEGIN:VEVENT
DTSTART;TZID=America/New_York:20260313T110000
DTEND;TZID=America/New_York:20260314T160000
DTSTAMP:20260425T105610
CREATED:20260306T185618Z
LAST-MODIFIED:20260306T185618Z
UID:25930-1773399600-1773504000@explorebeaufortsc.com
SUMMARY:Spring Gathering at Marshview Mercantile
DESCRIPTION:It’s time to celebrate spring at Marshview! \nJoin us for our Spring Gathering — a joyful weekend filled with hidden gold coins\, surprises\, live marsh painting\, sparkling lemonade\, pantry tastings\, and our Community Bloom coming to life right in the shop. \nBring a friend\, wander the store\, watch art unfold on the deck\, and be part of something beautiful as we welcome a new season together. \nWe can’t wait to celebrate with you! \n\nMarch 13/ 11-5\nMarch 14/ 11-4\n2631 Boundary Street\, Beaufort
URL:https://explorebeaufortsc.com/event/spring-gathering-at-marshview-mercantile/
LOCATION:Marshview Mercantile\, 2631 Boundary St\, Beaufort\, SC\, 29906\, US
ATTACH;FMTTYPE=image/png:https://explorebeaufortsc.com/wp-content/uploads/2026/03/marshviewspringgathering.png
END:VEVENT
BEGIN:VEVENT
DTSTART;TZID=America/New_York:20260313T173000
DTEND;TZID=America/New_York:20260313T203000
DTSTAMP:20260425T105610
CREATED:20260205T015309Z
LAST-MODIFIED:20260312T021612Z
UID:25597-1773423000-1773433800@explorebeaufortsc.com
SUMMARY:2026 FFF Oyster Roast
DESCRIPTION:Our annual Oyster Roast\, sponsored by the Friends of Fort Fremont and the SC Native Plant Society\, will be held March 13\, 2026\, in Port Royal at Live Oak Park from 5:30 to 8:00 PM. Again\, music will be by the “Sweet Ferns\,” Oysters & Chili by Sea Eagle Catering\, and desserts & appetizers contributed by The Friends. Please BYOB and chairs. No walk-ins on the day of the event. Go to our website to purchase tickets and view this year’s items in our famous Friends of Fort Fremont Silent Auction.
URL:https://explorebeaufortsc.com/event/2026-fff-oyster-roast/
LOCATION:Live Oaks Park\, Port Royal\, Port Royal\, SC\, US
ORGANIZER;CN="Friends of Fort Fremont":MAILTO:noreply@facebookmail.com
END:VEVENT
END:VCALENDAR