BEGIN:VCALENDAR
VERSION:2.0
PRODID:-//Explore Beaufort SC - ECPv6.15.20//NONSGML v1.0//EN
CALSCALE:GREGORIAN
METHOD:PUBLISH
X-ORIGINAL-URL:https://explorebeaufortsc.com
X-WR-CALDESC:Events for Explore Beaufort SC
REFRESH-INTERVAL;VALUE=DURATION:PT1H
X-Robots-Tag:noindex
X-PUBLISHED-TTL:PT1H
BEGIN:VTIMEZONE
TZID:America/New_York
BEGIN:DAYLIGHT
TZOFFSETFROM:-0500
TZOFFSETTO:-0400
TZNAME:EDT
DTSTART:20250309T070000
END:DAYLIGHT
BEGIN:STANDARD
TZOFFSETFROM:-0400
TZOFFSETTO:-0500
TZNAME:EST
DTSTART:20251102T060000
END:STANDARD
BEGIN:DAYLIGHT
TZOFFSETFROM:-0500
TZOFFSETTO:-0400
TZNAME:EDT
DTSTART:20260308T070000
END:DAYLIGHT
BEGIN:STANDARD
TZOFFSETFROM:-0400
TZOFFSETTO:-0500
TZNAME:EST
DTSTART:20261101T060000
END:STANDARD
BEGIN:DAYLIGHT
TZOFFSETFROM:-0500
TZOFFSETTO:-0400
TZNAME:EDT
DTSTART:20270314T070000
END:DAYLIGHT
BEGIN:STANDARD
TZOFFSETFROM:-0400
TZOFFSETTO:-0500
TZNAME:EST
DTSTART:20271107T060000
END:STANDARD
END:VTIMEZONE
BEGIN:VEVENT
DTSTART;TZID=America/New_York:20260313T110000
DTEND;TZID=America/New_York:20260314T160000
DTSTAMP:20260425T105719
CREATED:20260306T185618Z
LAST-MODIFIED:20260306T185618Z
UID:25930-1773399600-1773504000@explorebeaufortsc.com
SUMMARY:Spring Gathering at Marshview Mercantile
DESCRIPTION:It’s time to celebrate spring at Marshview! \nJoin us for our Spring Gathering — a joyful weekend filled with hidden gold coins\, surprises\, live marsh painting\, sparkling lemonade\, pantry tastings\, and our Community Bloom coming to life right in the shop. \nBring a friend\, wander the store\, watch art unfold on the deck\, and be part of something beautiful as we welcome a new season together. \nWe can’t wait to celebrate with you! \n\nMarch 13/ 11-5\nMarch 14/ 11-4\n2631 Boundary Street\, Beaufort
URL:https://explorebeaufortsc.com/event/spring-gathering-at-marshview-mercantile/
LOCATION:Marshview Mercantile\, 2631 Boundary St\, Beaufort\, SC\, 29906\, US
ATTACH;FMTTYPE=image/png:https://explorebeaufortsc.com/wp-content/uploads/2026/03/marshviewspringgathering.png
END:VEVENT
BEGIN:VEVENT
DTSTART;TZID=America/New_York:20260314T080000
DTEND;TZID=America/New_York:20260314T220000
DTSTAMP:20260425T105719
CREATED:20260311T175925Z
LAST-MODIFIED:20260312T021615Z
UID:26003-1773475200-1773525600@explorebeaufortsc.com
SUMMARY:31st Hilton Head Shamrock Run
DESCRIPTION:Celebrate St. Patrick’s Day during Hilton Head Island’s Running of the Green. The 5K Run / Walk will start at 8:00am from Celebration Park. It’s Fun to Run in Green. Fast & Flat 5K. We encourage everyone to run or walk in St. Patty’s Colors.
URL:https://explorebeaufortsc.com/event/31st-hilton-head-shamrock-run/
LOCATION:Pope Ave\, Hilton Head Island\, SC 29928\, United States
ORGANIZER;CN="Bear Foot Sports":MAILTO:noreply@facebookmail.com
END:VEVENT
BEGIN:VEVENT
DTSTART;TZID=America/New_York:20260314T100000
DTEND;TZID=America/New_York:20260314T113000
DTSTAMP:20260425T105719
CREATED:20260205T015309Z
LAST-MODIFIED:20260312T021620Z
UID:25598-1773482400-1773487800@explorebeaufortsc.com
SUMMARY:FREE Master Naturalist Tour
DESCRIPTION:Take a tour of the Port Royal Cypress Wetlands with Master Naturalist Jill Moore. Jill\, a certified master naturalist and founder of Moore2Life\, provides nature-based programs to local residents\, communities\, and tourists here in the magnificent Lowcountry – a setting unlike any place on Earth. With research showing that people function best when they have access to and a connection with nature\, Jill is committed to helping people discover a passion and appreciation for the unique area that surrounds us. \nTours are free to the public! Please RSVP here: https://friendsofportroyalcypresswetlands.org/tours/  \nhttps://www.facebook.com/events/1267325138570748/?event_time_id=1268761641760431
URL:https://explorebeaufortsc.com/event/free-master-naturalist-tour-20/
LOCATION:1700 Paris Ave\, Port Royal\, SC\, United States\, South Carolina 29935\, 1700 Paris Ave\, Port Royal\, SC\, United States\, South Carolina 29935
ORGANIZER;CN="Friends of Port Royal Cypress Wetlands":MAILTO:noreply@facebookmail.com
END:VEVENT
BEGIN:VEVENT
DTSTART;TZID=America/New_York:20260314T110000
DTEND;TZID=America/New_York:20260314T160000
DTSTAMP:20260425T105719
CREATED:20260311T180013Z
LAST-MODIFIED:20260312T021621Z
UID:26004-1773486000-1773504000@explorebeaufortsc.com
SUMMARY:Ole Fashioned Gullah Oyster Roast
DESCRIPTION:Gullah Museum of Hilton Head Island’s Old Fashioned Gullah Oyster Roast CelebratingCulture\, Community\, and Tradition \nThis annual cultural event brings together community members\, families\, and visitors to celebrate the richheritage\, history\, and culinary traditions of the Gullah Geechee people. Attendees will enjoy a day filledwith fellowship\, storytelling\, and authentic Gullah cuisine in a welcoming and family-friendlyatmosphere.
URL:https://explorebeaufortsc.com/event/ole-fashioned-gullah-oyster-roast-2/
LOCATION:Hilton Head Island SC\, Hilton Head Island SC
ORGANIZER;CN="Gullah Museum of Hilton Head Island":MAILTO:noreply@facebookmail.com
END:VEVENT
BEGIN:VEVENT
DTSTART;TZID=America/New_York:20260314T190000
DTEND;TZID=America/New_York:20260314T220000
DTSTAMP:20260425T105719
CREATED:20260205T015309Z
LAST-MODIFIED:20260312T021623Z
UID:25599-1773514800-1773525600@explorebeaufortsc.com
SUMMARY:Revolution Ballroom St. Patrick’s Day Dance Party 🍀
DESCRIPTION:You’re invited to our Revolution Ballroom St. Patrick’s Dance Party 🍀 Wear green and experience the luck ‘o the Irish 💚✨ \nRevolution Ballroom St. Patrick’s Day Dance Party 🍀〰️ Saturday\, March 14th 〰️ \n◽️7:00 – 7:30 PM Beginner Bachata lesson◽️7:30 – 10:00 PM Social Dancing◽️Our playlist features a mix of Ballroom\, Latin\, Swing\, Salsa\, Bachata\, and Argentine Tango◽️Light refreshments & green punch◽️Admission: $20 (online or at the door)◽️Open to the public (ages 18+)◽️Singles & couples welcome◽️Attire: Wear green (dressy or cocktail) \n➡️ Sign up here: https://www.revolutionballroom.com/st-patricks \nEvent Location:Revolution Ballroom2121 Boundary StSuite 207Beaufort\, SC 29902
URL:https://explorebeaufortsc.com/event/revolution-ballroom-st-patricks-day-dance-party-%f0%9f%8d%80/
LOCATION:2121 Boundary St\, Suite 207\, Beaufort\, SC\, United States\, South Carolina 29902\, 2121 Boundary St\, Suite 207\, Beaufort\, SC\, United States\, South Carolina 29902
ORGANIZER;CN="Revolution Ballroom":MAILTO:noreply@facebookmail.com
END:VEVENT
END:VCALENDAR