BEGIN:VCALENDAR
VERSION:2.0
PRODID:-//Explore Beaufort SC - ECPv6.15.20//NONSGML v1.0//EN
CALSCALE:GREGORIAN
METHOD:PUBLISH
X-ORIGINAL-URL:https://explorebeaufortsc.com
X-WR-CALDESC:Events for Explore Beaufort SC
REFRESH-INTERVAL;VALUE=DURATION:PT1H
X-Robots-Tag:noindex
X-PUBLISHED-TTL:PT1H
BEGIN:VTIMEZONE
TZID:America/New_York
BEGIN:DAYLIGHT
TZOFFSETFROM:-0500
TZOFFSETTO:-0400
TZNAME:EDT
DTSTART:20250309T070000
END:DAYLIGHT
BEGIN:STANDARD
TZOFFSETFROM:-0400
TZOFFSETTO:-0500
TZNAME:EST
DTSTART:20251102T060000
END:STANDARD
BEGIN:DAYLIGHT
TZOFFSETFROM:-0500
TZOFFSETTO:-0400
TZNAME:EDT
DTSTART:20260308T070000
END:DAYLIGHT
BEGIN:STANDARD
TZOFFSETFROM:-0400
TZOFFSETTO:-0500
TZNAME:EST
DTSTART:20261101T060000
END:STANDARD
BEGIN:DAYLIGHT
TZOFFSETFROM:-0500
TZOFFSETTO:-0400
TZNAME:EDT
DTSTART:20270314T070000
END:DAYLIGHT
BEGIN:STANDARD
TZOFFSETFROM:-0400
TZOFFSETTO:-0500
TZNAME:EST
DTSTART:20271107T060000
END:STANDARD
END:VTIMEZONE
BEGIN:VEVENT
DTSTART;TZID=America/New_York:20260320T160000
DTEND;TZID=America/New_York:20260320T190000
DTSTAMP:20260425T122021
CREATED:20260307T223549Z
LAST-MODIFIED:20260319T025652Z
UID:25946-1774022400-1774033200@explorebeaufortsc.com
SUMMARY:Habersham Farmers Market
DESCRIPTION:The Habersham Growers & Makers Farmers Market returns Friday March 20th from 4pm-7pm. Join us for live music\,food trucks and your favorite local vendors!!!
URL:https://explorebeaufortsc.com/event/habersham-farmers-market-49/
LOCATION:Habersham Marketplace\, Habersham Marketplace
ORGANIZER;CN="Habersham Farmers Market":MAILTO:noreply@facebookmail.com
END:VEVENT
BEGIN:VEVENT
DTSTART;TZID=America/New_York:20260320T190000
DTEND;TZID=America/New_York:20260320T220000
DTSTAMP:20260425T122021
CREATED:20260110T183138Z
LAST-MODIFIED:20260319T025654Z
UID:25429-1774033200-1774044000@explorebeaufortsc.com
SUMMARY:Dr. Patrick Hawkins - Organ Recital and Masterclass
DESCRIPTION:Friday\, March 20 – 7:00pm RecitalSaturday\, March 21 – 10:00am Masterclass
URL:https://explorebeaufortsc.com/event/dr-patrick-hawkins-organ-recital-and-masterclass/
LOCATION:St. Helena’s Anglican Church Beaufort SC\, St. Helena's Anglican Church Beaufort SC
END:VEVENT
END:VCALENDAR