BEGIN:VCALENDAR
VERSION:2.0
PRODID:-//Explore Beaufort SC - ECPv6.15.20//NONSGML v1.0//EN
CALSCALE:GREGORIAN
METHOD:PUBLISH
X-WR-CALNAME:Explore Beaufort SC
X-ORIGINAL-URL:https://explorebeaufortsc.com
X-WR-CALDESC:Events for Explore Beaufort SC
REFRESH-INTERVAL;VALUE=DURATION:PT1H
X-Robots-Tag:noindex
X-PUBLISHED-TTL:PT1H
BEGIN:VTIMEZONE
TZID:America/New_York
BEGIN:DAYLIGHT
TZOFFSETFROM:-0500
TZOFFSETTO:-0400
TZNAME:EDT
DTSTART:20250309T070000
END:DAYLIGHT
BEGIN:STANDARD
TZOFFSETFROM:-0400
TZOFFSETTO:-0500
TZNAME:EST
DTSTART:20251102T060000
END:STANDARD
BEGIN:DAYLIGHT
TZOFFSETFROM:-0500
TZOFFSETTO:-0400
TZNAME:EDT
DTSTART:20260308T070000
END:DAYLIGHT
BEGIN:STANDARD
TZOFFSETFROM:-0400
TZOFFSETTO:-0500
TZNAME:EST
DTSTART:20261101T060000
END:STANDARD
BEGIN:DAYLIGHT
TZOFFSETFROM:-0500
TZOFFSETTO:-0400
TZNAME:EDT
DTSTART:20270314T070000
END:DAYLIGHT
BEGIN:STANDARD
TZOFFSETFROM:-0400
TZOFFSETTO:-0500
TZNAME:EST
DTSTART:20271107T060000
END:STANDARD
END:VTIMEZONE
BEGIN:VEVENT
DTSTART;TZID=America/New_York:20260321T080000
DTEND;TZID=America/New_York:20260322T150000
DTSTAMP:20260425T105443
CREATED:20260319T025655Z
LAST-MODIFIED:20260319T025655Z
UID:26076-1774080000-1774191600@explorebeaufortsc.com
SUMMARY:Beaufort Water Festival Golf Tournament
DESCRIPTION:Beaufort Annual Water Festival is proud to present our annual Golf Tournament\, held on Fripp Island March 21-22\, sponsored by Med-Trans Corporation.  \nPlease visit our website\, www.bftwaterfestival.com for more information and to register. \nCheck in at 8 am\, shotgun at 9 am. |$450 per 2-man team. Includes golf cart\, range balls\, beverages\, awards\, door prizes\, closest to the pin\, and longest drive prizes.|Applications must be received by March 14\, 2026 and are limited to the first 60 teams. Must be 21 years of age or older to enter. Register at www.bftwaterfestival.com.
URL:https://explorebeaufortsc.com/event/beaufort-water-festival-golf-tournament/
LOCATION:Fripp Island\, SC\, Fripp Island\, SC
ORGANIZER;CN="Annual Beaufort Water Festival":MAILTO:noreply@facebookmail.com
END:VEVENT
BEGIN:VEVENT
DTSTART;TZID=America/New_York:20260321T090000
DTEND;TZID=America/New_York:20260321T180000
DTSTAMP:20260425T105443
CREATED:20260205T015310Z
LAST-MODIFIED:20260319T025655Z
UID:25604-1774083600-1774116000@explorebeaufortsc.com
SUMMARY:Socks to the Flame: Fundraiser for Warrior Sailing
DESCRIPTION:Join us @ The Shed on March 21st for the 2nd Annual‘Socks to the Flame”: A Sock Burning Party & Celebration of Spring Extravaganza\, a fun-filled celebration that honors the rich history of the Maritime Sock Burning tradition! This lively event marks the official start of Spring and boating season\, all while embracing the timeless spirit of defiance and renewal.We are proud to partner with the Warrior Sailing\, a program of the USMMA Sailing Foundation\, Inc. a 501(c)3 public foundation.All proceeds raised during the event will go to support the organizations efforts to provides maritime education for wounded\, ill\, and injured veterans\, to support wellness\, recovery and reintegration. \nSocks to the Flame is a beloved community tradition rooted in maritime lore and created by our dear friend and fellow sailor\, Bob Turner. It’s a joyful way to welcome the warmth and promise of spring while ceremoniously shooing away the chill of winter. \nThe day begins with a Community 5K Run/Walk at 9:00 AM\, inviting runners and walkers of all levels to come together for a great cause. Registration is $35 for Adults and $15 for Youth (ages 15 and under)\, with all proceeds benefiting Warrior Sailing\, supporting veterans through sailing\, education\, and community. \nThe celebration continues in the afternoon with the Maritime Sock Burning Celebration from 3:00–6:00 PM—a time-honored sailor’s tradition symbolizing the official end of winter and the hopeful turn toward brighter\, breezier days ahead. Bring your cold-weather socks\, gather with friends and neighbors\, and join us for this spirited ritual filled with camaraderie\, laughter\, and gratitude for the changing season. \nFood and drink will be available during the Sock Burning celebration (3:00–6:00 PM): \nFrogmore Stew – $15 per person \nAll-You-Can-Eat Oysters – $25 per person \nWine & Beer available for purchase through Windhorse \nWhether you’re running\, walking\, burning socks\, or simply soaking in the atmosphere\, Socks to the Flame is a meaningful and memorable way to celebrate community\, tradition\, and the return of spring.
URL:https://explorebeaufortsc.com/event/socks-to-the-flame-fundraiser-for-warrior-sailing/
LOCATION:809 Paris Ave\, Port Royal\, SC\, United States\, South Carolina\, 809 Paris Ave\, Port Royal\, SC\, United States\, South Carolina
ORGANIZER;CN="Windhorse Gallery & Marketplace":MAILTO:noreply@facebookmail.com
END:VEVENT
BEGIN:VEVENT
DTSTART;TZID=America/New_York:20260321T100000
DTEND;TZID=America/New_York:20260321T130000
DTSTAMP:20260425T105443
CREATED:20260319T025656Z
LAST-MODIFIED:20260319T025656Z
UID:26078-1774087200-1774098000@explorebeaufortsc.com
SUMMARY:Blooms and Brews
DESCRIPTION:Join us at Port Royal Ace Hardware for Blooms & Brews\, a celebration of spring in the garden center! \nOn Saturday\, March 21\, we’re kicking off the season with in-store specials all day and a full lineup of fun events from 10 AM – 3 PM. \n🌼 Event Highlights• Kids scavenger hunt & activity kits• Free beer from Shellring Ale Works (for Ace Rewards members while supplies last)• Raffles & giveaways• Fresh garden inspiration to help you start the season strong \nWhether you’re getting your garden ready\, bringing the kids for some fun\, or just stopping by to enjoy a spring day at Ace\, we’d love to see you. \nCome celebrate the start of spring with us at Port Royal Ace Hardware! 🌿
URL:https://explorebeaufortsc.com/event/blooms-and-brews/
LOCATION:1347 Ribaut Road Suite E\, Port Royal\, SC\, United States\, South Carolina 29935\, 1347 Ribaut Road Suite E\, Port Royal\, SC\, United States\, South Carolina 29935
END:VEVENT
BEGIN:VEVENT
DTSTART;TZID=America/New_York:20260321T100000
DTEND;TZID=America/New_York:20260321T160000
DTSTAMP:20260425T105443
CREATED:20260223T184123Z
LAST-MODIFIED:20260223T184123Z
UID:25821-1774087200-1774108800@explorebeaufortsc.com
SUMMARY:Historic Beaufort Foundation Spring Architects' Tour
DESCRIPTION:Five distinctive homes in Beaufort’s National Historic Landmark District\, on Dataw Island and on St. Helena Island will open to the public to showcase the best in innovative\, contemporary architecture in Historic Beaufort Foundation’s annual Spring Architects’ Tour March 21. \nThe tour is from 10 a.m. until 4 p.m.\, rain or shine. Tickets are $70 per person for HBF members and $75 per person for non-members; tickets are available online at www.historicbeaufort.org. \nThe Spring Architects’ Tour supports HBF’s mission to preserve and protect Beaufort’s historic and architectural heritage. The event is the Lowcountry’s only tour presenting the rare opportunity to peek inside private homes as architects\, builders\, designers and owners share their expertise. \n“We appreciate the homeowners’ willingness to share their properties as part of our Spring Architects’ Tour and in support of Historic Beaufort Foundation\,” said HBF Executive Director Lise Sundrla. “Not only do guests get to look inside the homes\, but the architects\, builders and interior designers will talk about the choices made to create these exceptional homes.” \nThis year’s tour features homes designed by three of Beaufort’s acclaimed architectural firms –Frederick & Frederick Architects\, Hefner Residential Architecture\, and Montgomery Architecture & Planning.   \n“From Historic Beaufort Foundation’s perspective\, this is always a great way to invite the community in to see some amazing home designs in the Lowcountry\,” said Rob Montgomery\, HBF chair. \n“It is a nice event that supports HBF and its mission\, and speaking on behalf of the Board of Trustees\, we are most appreciative of the homeowners who open their homes to the tour. Speaking as an architect included on this year’s tour\, I’m proud to share our work and I look forward to explaining some of the choices we made and challenges we faced in our design\,” he said. \nThis is primarily a self-driven tour. Golf carts and/or trolley service will be available in certain locations.  Also\, as a part of the day’s event this year\, the Dataw Historic Foundation will provide tours of their History Museum and Learning Center and the Sams Plantation Ruins.  \n“We appreciate our partnership with Dataw Island and the Dataw Historic Foundation\,” Sundrla said. “The Sams Plantation ruins include outstanding examples of tabby construction dating back to the late 1700s.” The ruins were listed in the National Register of Historic Places in 2011.
URL:https://explorebeaufortsc.com/event/hbf-spring-architects-tour-2026/
LOCATION:Historic Beaufort Foundation\, Historic Beaufort Foundation
ATTACH;FMTTYPE=image/jpeg:https://explorebeaufortsc.com/wp-content/uploads/2026/02/hbfspringarchitectstour2026.jpg
END:VEVENT
BEGIN:VEVENT
DTSTART;TZID=America/New_York:20260321T110000
DTEND;TZID=America/New_York:20260321T170000
DTSTAMP:20260425T105443
CREATED:20260215T230155Z
LAST-MODIFIED:20260319T025657Z
UID:25701-1774090800-1774112400@explorebeaufortsc.com
SUMMARY:Hilton Head Wingfest
DESCRIPTION:Join us in HHI\, SC on March 21st for an Island Tradition! Saturday’s event will feature 20 to 25 local restaurants cooking their best chicken wings\, with more than 8\,000 pounds served in a fun filled\, family friendly festival atmosphere. The event will include a variety of activities for all ages\, such as a kids’ zone\, a rock climbing wall\, and a bungee jump. \nGuests can cheer on or participate in the Kids’ Wing Bobbing Competition and the Adult Wing Eating Contest. Attendees will also have the opportunity to vote for their favorite wings and watch the winning restaurant be crowned at 4:30 PM. \nAdmission is $10. Children under 11 are free. Food/drink/activities sold separately. Our festival is credit cards only! \nThank you to our Title Sponsor\, Sparklight!
URL:https://explorebeaufortsc.com/event/hilton-head-wingfest-3/
LOCATION:Lowcountry Celebration Park
ORGANIZER;CN="Island Recreation Center":MAILTO:noreply@facebookmail.com
END:VEVENT
BEGIN:VEVENT
DTSTART;TZID=America/New_York:20260321T120000
DTEND;TZID=America/New_York:20260321T180000
DTSTAMP:20260425T105443
CREATED:20260205T015310Z
LAST-MODIFIED:20260319T025658Z
UID:25605-1774094400-1774116000@explorebeaufortsc.com
SUMMARY:Marsh Madness
DESCRIPTION:Join us for our 3rd Annual Marsh Madness – benefiting Port Royal Sound research & conservation!  \nWe’re doing things a bit different this year\, enjoy 2 events in 1 day to celebrate the Port Royal Sound.  \n12-3pm:– Enjoy a FREE salt marsh conservation expo. Meet our partners and learn about marsh conservation efforts in the Port Royal Sound. \n3-6pm:Get tickets to our familiar Marsh Madness oyster roast & bbq!Live bluegrass music with Flatt City\, cornhole & local brews with Lowcountry Taps (cash bar). The night will also include a raffle and merch table.—–Tickets $6021+ Only (Alcohol available for purchase)  \nClick the orange “Book a Program” button on our website for tickets: PortRoyalSoundFoundation.org
URL:https://explorebeaufortsc.com/event/marsh-madness-4/
LOCATION:Port Royal Sound Foundation
ORGANIZER;CN="Port Royal Sound Foundation":MAILTO:noreply@facebookmail.com
END:VEVENT
BEGIN:VEVENT
DTSTART;TZID=America/New_York:20260321T140000
DTEND;TZID=America/New_York:20260321T170000
DTSTAMP:20260425T105443
CREATED:20260110T183138Z
LAST-MODIFIED:20260319T025658Z
UID:25432-1774101600-1774112400@explorebeaufortsc.com
SUMMARY:An Afternoon with Poet Myra Shapiro\, Author of Crossing the Street to Paradis
DESCRIPTION:The nonprofit Pat Conroy Literary Center will host an afternoon with award-winning poet and memoirist Myra Shapiro\, author of Crossing the Street to Paradis\, on Saturday\, March 21\, at 2:00 p.m.\, at the Conroy Center (601 Bladen St.\, Beaufort). Books will be available for sale and signing. Seating is limited for this free event; please call in advance to reserve: 843-379-7025. \nABOUT THE BOOK“Crossing the Street to Paradis is a glorious triumph. It shines like ‘shook foil’ as the strongest\, bravest\, most heartbroken and wildly funny of Shapiro’s work yet. To produce poetry of such magnificence in the ninth decade of a life is not only miraculous\, it’s outrageous and completely inspiring. This is the most Myra Shapiro yet. And\, above all\, there is such a comfortable\, unapologetic\, and loveable human spirit who not only shares her thoughts but dares to shock us with her freedom to Imagine Anything and Everything. She has the radical chutzpah of a great poet!”– Carol Conroy\, author of The Beauty Wars \nFrom the award-winning poet and memoirist Myra Shapiro comes a luminous new collection that traverses love and loss\, age and vitality\, New York streets and Southern roots. Crossing the Street to Paradis is a vibrant tapestry of poems that embrace a life lived deeply—fiercely—and still unfolding. \nThrough moments as intimate as sipping ginger tea with John Donne or remembering the weight of a daughter’s curls\, Shapiro turns the ordinary into the mythic. She writes of marriage and motherhood\, pandemics and Passovers\, rooftop gardens and subway benches\, each line shimmering with wit\, resilience\, and grace. \nIn her 90s and still singing\, Shapiro speaks to what it means to endure\, to remember\, to gather stones from Ireland and words from childhood\, and to find\, in the face of grief and global tumult\, the enduring power of poetry. Perfect for fans of Mary Oliver\, Sharon Olds\, and Billy Collins\, this collection is a triumphant meditation on tenderness\, resistance\, and the joy of still being here. \nABOUT THE POETMyra Shapiro\, born in the Bronx\, returned to New York City after forty-five years in Georgia and Tennessee where she married Harold Shapiro\, raised two daughters and worked as a teacher and librarian. She holds a BA in American Literature (University of Chattanooga) MA in English (Bread Loaf School of English\, Middlebury College) and MFA in Writing (Vermont College). She received the Dylan Thomas Poetry Award from The New School and was a finalist for the Robert H. Winner Award from the Poetry Society of America. She has held fellowships at the Banff Arts Center\, MacDowell Colony\, and Hedgebrook. \nShapiro’s books of poetry are I’ll See You Thursday\, 12 Floors Above the Earth\, When the World Walks Toward You\, and her memoir\, Four Sublets: Becoming a Poet in New York. Her poems have appeared in many periodicals and anthologies\, and twice\, in Best American Poetry. She serves on the Board of Directors of Poets House and teaches poetry workshops for the International Women’s Writing Guild.
URL:https://explorebeaufortsc.com/event/an-afternoon-with-poet-myra-shapiro-author-of-crossing-the-street-to-paradis/
LOCATION:601 Bladen Street\, Beaufort\, SC\, United States\, South Carolina 29902\, 601 Bladen Street\, Beaufort\, SC\, United States\, South Carolina 29902
ORGANIZER;CN="Pat Conroy Literary Center":MAILTO:noreply@facebookmail.com
END:VEVENT
BEGIN:VEVENT
DTSTART;TZID=America/New_York:20260321T160000
DTEND;TZID=America/New_York:20260321T190000
DTSTAMP:20260425T105443
CREATED:20260225T004317Z
LAST-MODIFIED:20260319T025658Z
UID:25867-1774108800-1774119600@explorebeaufortsc.com
SUMMARY:Knockout Night 2 Boxing Event
DESCRIPTION:We’re bringing the action back to The Foundry for another thrilling night of sanctioned amateur boxing. Get ready to watch top-tier youth and adult fighters from across the Southeast step into the ring for a night you won’t forget! \nWhether you’re a fighter ready to test your skills or a fan looking for an unforgettable experience\, Knockout Night 2 is the place to be. \nFor Spectators: \nDoors open at 3:00 PM — grab your seats early! \nFirst bout kicks off at 4:00 PM \nFamily-friendly\, high-energy environment with food\, music\, and non-stop action \nCome support local athletes and experience the intensity of live boxing at one of the Lowcountry’s most dynamic fight venues! \n💥 THE FOUNDRY FIGHTING & FITNESS \nBeaufort’s home for unforgettable fight nights. If you’ve been to Beaufort Brawl\, you already know the energy we bring. Knockout Night 2 will keep that legacy alive — and raise the bar even higher. \n👊 Don’t miss your chance to be part of this unforgettable night.Tag your crew. Share the hype. Be there.
URL:https://explorebeaufortsc.com/event/knockout-night-2-boxing-event/
LOCATION:2127 Boundary St\, Ste 18-B\, Beaufort\, SC\, United States\, South Carolina 29902\, 2127 Boundary St\, Ste 18-B\, Beaufort\, SC\, United States\, South Carolina 29902
ORGANIZER;CN="The Foundry":MAILTO:noreply@facebookmail.com
END:VEVENT
BEGIN:VEVENT
DTSTART;TZID=America/New_York:20260321T163000
DTEND;TZID=America/New_York:20260321T183000
DTSTAMP:20260425T105443
CREATED:20260110T183138Z
LAST-MODIFIED:20260319T025658Z
UID:25433-1774110600-1774117800@explorebeaufortsc.com
SUMMARY:Silent Book Club Beaufort
DESCRIPTION:Silent Book Club Beaufort\, a unique take on the traditional book club\, meets at the nonprofit Pat Conroy Literary Center (601 Bladen St.) on third Saturdays from 4:30 to 6:30PM. Co-sponsored by the Conroy Center and the student book club DAYLO (Diversity Awareness Youth Literacy Organization)\, .this community gathering invites book lovers to enjoy their current reads in a welcoming and peaceful atmosphere. \nUnlike traditional book clubs\, Silent Book Club Beaufort has no assigned reading\, no deadlines\, and no discussions required. Whether you prefer ebooks\, audiobooks\, comic books\, textbooks\, or paperbacks\, readers are invited to bring their book of choice\, settle in\, and savor the joy of uninterrupted reading among like-minded individuals. \nSilent Book Club Beaufort also features a book swap: Leave a book\, take a book.  \nThe casual meetups provide an excellent opportunity to discover new book recommendations\, make friends\, and reconnect with the love of reading. Whether you’re a lifelong bookworm or just getting back into reading\, everyone is welcome. Additional dates and locations will be announced via www.instagram.com/silentbookclubbeaufort.
URL:https://explorebeaufortsc.com/event/silent-book-club-beaufort-14/
LOCATION:Pat Conroy Literary Center
ORGANIZER;CN="Pat Conroy Literary Center":MAILTO:noreply@facebookmail.com
END:VEVENT
END:VCALENDAR