BEGIN:VCALENDAR
VERSION:2.0
PRODID:-//Explore Beaufort SC - ECPv6.15.20//NONSGML v1.0//EN
CALSCALE:GREGORIAN
METHOD:PUBLISH
X-ORIGINAL-URL:https://explorebeaufortsc.com
X-WR-CALDESC:Events for Explore Beaufort SC
REFRESH-INTERVAL;VALUE=DURATION:PT1H
X-Robots-Tag:noindex
X-PUBLISHED-TTL:PT1H
BEGIN:VTIMEZONE
TZID:America/New_York
BEGIN:DAYLIGHT
TZOFFSETFROM:-0500
TZOFFSETTO:-0400
TZNAME:EDT
DTSTART:20250309T070000
END:DAYLIGHT
BEGIN:STANDARD
TZOFFSETFROM:-0400
TZOFFSETTO:-0500
TZNAME:EST
DTSTART:20251102T060000
END:STANDARD
BEGIN:DAYLIGHT
TZOFFSETFROM:-0500
TZOFFSETTO:-0400
TZNAME:EDT
DTSTART:20260308T070000
END:DAYLIGHT
BEGIN:STANDARD
TZOFFSETFROM:-0400
TZOFFSETTO:-0500
TZNAME:EST
DTSTART:20261101T060000
END:STANDARD
BEGIN:DAYLIGHT
TZOFFSETFROM:-0500
TZOFFSETTO:-0400
TZNAME:EDT
DTSTART:20270314T070000
END:DAYLIGHT
BEGIN:STANDARD
TZOFFSETFROM:-0400
TZOFFSETTO:-0500
TZNAME:EST
DTSTART:20271107T060000
END:STANDARD
END:VTIMEZONE
BEGIN:VEVENT
DTSTART;TZID=America/New_York:20260321T080000
DTEND;TZID=America/New_York:20260322T150000
DTSTAMP:20260425T105559
CREATED:20260319T025655Z
LAST-MODIFIED:20260319T025655Z
UID:26076-1774080000-1774191600@explorebeaufortsc.com
SUMMARY:Beaufort Water Festival Golf Tournament
DESCRIPTION:Beaufort Annual Water Festival is proud to present our annual Golf Tournament\, held on Fripp Island March 21-22\, sponsored by Med-Trans Corporation.  \nPlease visit our website\, www.bftwaterfestival.com for more information and to register. \nCheck in at 8 am\, shotgun at 9 am. |$450 per 2-man team. Includes golf cart\, range balls\, beverages\, awards\, door prizes\, closest to the pin\, and longest drive prizes.|Applications must be received by March 14\, 2026 and are limited to the first 60 teams. Must be 21 years of age or older to enter. Register at www.bftwaterfestival.com.
URL:https://explorebeaufortsc.com/event/beaufort-water-festival-golf-tournament/
LOCATION:Fripp Island\, SC\, Fripp Island\, SC
ORGANIZER;CN="Annual Beaufort Water Festival":MAILTO:noreply@facebookmail.com
END:VEVENT
BEGIN:VEVENT
DTSTART;TZID=America/New_York:20260322T110000
DTEND;TZID=America/New_York:20260322T160000
DTSTAMP:20260425T105559
CREATED:20260311T180254Z
LAST-MODIFIED:20260319T025700Z
UID:26008-1774177200-1774195200@explorebeaufortsc.com
SUMMARY:The Great Helicopter Egg Drop
DESCRIPTION:Community Easter event where 19\,500 plastic eggs will be dropped from a Helicopter on the Beaufort Academy Football Field on March 22\, 2026.Sunday\, March 22\, 2026 @11am-4pmTICKETS WILL NOT BE AVAILABLE AT THE DOOR\, YOU MUST REGISTER & PAY ONLINE BEFORE ENTRY.On Sunday\, March 22\, 2026 \, we invite the ENTIRE community to join us for the sixth annual Great Helicopter Easter Egg Drop on the Beaufort Academy Football Field.We’re dropping thousands of plastic Easter eggs from a helicopter…yup\, you heard that right – a HELICOPTER! Pre-register your children to participate in one of SIX age-specific egg hunts with over 20\,000 eggs.The Great Helicopter Egg Drop is an Easter Egg Hunt open to the first 1\,000 pre-registered children in our community between the ages of 1-12. There will be many golden eggs with GREAT PRIZES. If your child would like to participate in the egg drop they can pre-register on Eventbrite for $22\, which includes a specific egg drop and unlimited use of the bounce area. Petting zoo is not included this year\, but available for a minimal price. You must pre register your child on Eventbrite to participate in an egg drop time. Egg drop tickets will not be available at the door\, and tend to sell out quick!**We love dogs\, but due to crowds and safety\, please do not bring pets to this event. We have a strict no-pets policy in place for the comfort and safety of all guests. ****PLEASE NOTE THAT PARENTS ARE ONLY ALLOWED ON THE FIELD FOR THE 1-3 AGE GROUP** No child older than 3 is allowed on the field for this drop\, one parent per child is allowed in this group\, and will have a parent bracelet for admission. We ask parents to limit the amount of eggs to 10 per child so there is enough for all.**PARENTS ARE NOT ALLOWED ON THE FIELD FOR AGES 4-12** If your child is 4 years or older or cannot go on the field without you\, please do not register.The fun doesn’t stop at the Egg Drop! We’ll also have an Unlimited Bounce House Area (included in ticket!)\, Barnyard Petting Zoo\, DJ by Sissy the Entertainer\, EASTER BUNNY appearance sponsored by Miler Orthodontics\, various shopping vendors and a great array of FOOD TRUCKS that will serve lunch\, snacks & dessert. Event is from 11am-4pm\, so stay for the DAY!Admission to the festival is FREE\, and open to the public. Even if you don’t have kids\, join us for lunch\, shop with vendors\, stay for lunch and watch the egg drop fun!EGG DROP TIMES * LINE UP 15 MINUTES PRIOR*-11:30am: VIP#1 (Ages 2-12) PURPLE-12:15pm: (Ages 1-3) YELLOW (*1 parent allowed on field)-1:00pm: (Ages 3-5) ORANGE-1:45pm: (Ages 5-7) BLUE-2:30pm: (Ages 7-12) GREEN-3:15pm: VIP #2 (Ages 2-12) REDIf you have any questions about The Great Helicopter Egg Drop\, please email Lisa Gallagher at lgallagher@beaufortacademy.org.**We love dogs\, but due to crowds and safety\, please do not bring pets to this event. We have a strict no-pets policy in place for the comfort and safety of all guests.
URL:https://explorebeaufortsc.com/event/the-great-helicopter-egg-drop/
LOCATION:240 Sams Point Rd\, Beaufort\, SC\, United States\, South Carolina 29907\, 240 Sams Point Rd\, Beaufort\, SC\, United States\, South Carolina 29907
ORGANIZER;CN="Beaufort Academy":MAILTO:noreply@facebookmail.com
END:VEVENT
BEGIN:VEVENT
DTSTART;TZID=America/New_York:20260322T110000
DTEND;TZID=America/New_York:20260322T160000
DTSTAMP:20260425T105559
CREATED:20260319T025659Z
LAST-MODIFIED:20260319T025659Z
UID:26081-1774177200-1774195200@explorebeaufortsc.com
SUMMARY:The 2026 Great Helicopter Easter Egg Drop
DESCRIPTION:Community Easter event where 19\,500 plastic eggs will be dropped from a Helicopter on the Beaufort Academy Football Field on March 22\, 2026. \nSunday\, March 22\, 2026 @11am-4pmTICKETS WILL NOT BE AVAILABLE AT THE DOOR\, YOU MUST REGISTER & PAY ONLINE BEFORE ENTRY. \nOn Sunday\, March 22\, 2026 \, we invite the ENTIRE community to join us for the sixth annual Great Helicopter Easter Egg Drop on the Beaufort Academy Football Field.We’re dropping thousands of plastic Easter eggs from a helicopter…yup\, you heard that right – a HELICOPTER! Pre-register your children to participate in one of SIX age-specific egg hunts with over 20\,000 eggs.The Great Helicopter Egg Drop is an Easter Egg Hunt open to the first 1\,000 pre-registered children in our community between the ages of 1-12. There will be many golden eggs with GREAT PRIZES. If your child would like to participate in the egg drop they can pre-register on Eventbrite for $22\, which includes a specific egg drop and unlimited use of the bounce area. Petting zoo is not included this year\, but available for a minimal price. You must pre register your child on Eventbrite to participate in an egg drop time. Egg drop tickets will not be available at the door\, and tend to sell out quick!  \n**We love dogs\, but due to crowds and safety\, please do not bring pets to this event. We have a strict no-pets policy in place for the comfort and safety of all guests. ** \n**PLEASE NOTE THAT PARENTS ARE ONLY ALLOWED ON THE FIELD FOR THE 1-3 AGE GROUP** No child older than 3 is allowed on the field for this drop\, one parent per child is allowed in this group\, and will have a parent bracelet for admission. We ask parents to limit the amount of eggs to 10 per child so there is enough for all. \n**PARENTS ARE NOT ALLOWED ON THE FIELD FOR AGES 4-12** If your child is 4 years or older or cannot go on the field without you\, please do not register. \nThe fun doesn’t stop at the Egg Drop! We’ll also have an Unlimited Bounce House Area (included in ticket!)\, Barnyard Petting Zoo\, DJ by Sissy the Entertainer\, EASTER BUNNY appearance sponsored by Miler Orthodontics\, various shopping vendors and a great array of FOOD TRUCKS that will serve lunch\, snacks & dessert. Event is from 11am-4pm\, so stay for the DAY! \nAdmission to the festival is FREE\, and open to the public. Even if you don’t have kids\, join us for lunch\, shop with vendors\, stay for lunch and watch the egg drop fun! \nEGG DROP TIMES * LINE UP 15 MINUTES PRIOR*-11:30am: VIP#1 (Ages 2-12) PURPLE-12:15pm: (Ages 1-3) YELLOW (*1 parent allowed on field)-1:00pm: (Ages 3-5) ORANGE-1:45pm: (Ages 5-7) BLUE-2:30pm: (Ages 7-12) GREEN-3:15pm: VIP #2 (Ages 2-12) RED \nIf you have any questions about The Great Helicopter Egg Drop\, please email Lisa Gallagher at lgallagher@beaufortacademy.org. \n**We love dogs\, but due to crowds and safety\, please do not bring pets to this event. We have a strict no-pets policy in place for the comfort and safety of all guests. **
URL:https://explorebeaufortsc.com/event/the-2026-great-helicopter-easter-egg-drop/
LOCATION:240 Sams Point Rd\, Beaufort\, SC 29907-2017\, United States\, 240 Sams Point Rd\, Beaufort\, SC 29907-2017\, United States
ORGANIZER;CN="Eventbrite":MAILTO:noreply@facebookmail.com
END:VEVENT
BEGIN:VEVENT
DTSTART;TZID=America/New_York:20260322T123000
DTEND;TZID=America/New_York:20260322T160000
DTSTAMP:20260425T105559
CREATED:20260225T004317Z
LAST-MODIFIED:20260319T025700Z
UID:25868-1774182600-1774195200@explorebeaufortsc.com
SUMMARY:Tidal Creek Easter Festival
DESCRIPTION:You’re invited to the Tidal Creek Easter Festival! 🌸🐣 \nJoin us on Sunday\, March 22\, 2026 from 12:30–4:00 PM at Waterfront Park in Beaufort for an afternoon of FREE family fun! \nBring the whole crew and enjoy: \n🎈 Inflatables🎨 Face painting & hair coloring🍪 Cookie decorating & craft stations🍧 Snow cones\, popcorn & cotton candy🧺 Easter basket giveaways \n…and so much more! \nThis event is completely FREE and open to the community — so mark your calendar\, invite a friend\, and come celebrate with us. We can’t wait to see you there!
URL:https://explorebeaufortsc.com/event/tidal-creek-easter-festival/
LOCATION:Henry C Chambers Waterfront Park
ORGANIZER;CN="Tidal Creek Fellowship":MAILTO:noreply@facebookmail.com
END:VEVENT
BEGIN:VEVENT
DTSTART;TZID=America/New_York:20260322T130000
DTEND;TZID=America/New_York:20260322T150000
DTSTAMP:20260425T105559
CREATED:20260311T180256Z
LAST-MODIFIED:20260319T025700Z
UID:26009-1774184400-1774191600@explorebeaufortsc.com
SUMMARY:Easter Party
DESCRIPTION:You’re invited to a free\, fun-filled Easter celebration for the whole family! Along with an Easter Egg Hunt\, enjoy games and activities for all ages – cornhole and yard games for adults\, plus bounce houses\, obstacle courses\, chalk art\, tattoos\, and more for kids. A live DJ will keep the party going with a family dance party! \nFree hot dogs\, chips\, cookies\, and drinks will be available for everyone. \nSunday\, March 22 | 1:00–3:00pm | Lowcountry Community Church
URL:https://explorebeaufortsc.com/event/easter-party/
LOCATION:801 Buckwalter Pkwy\, Bluffton\, SC\, United States\, South Carolina 29910
ORGANIZER;CN="LowCountry Community Church":MAILTO:noreply@facebookmail.com
END:VEVENT
END:VCALENDAR