BEGIN:VCALENDAR
VERSION:2.0
PRODID:-//Explore Beaufort SC - ECPv6.15.20//NONSGML v1.0//EN
CALSCALE:GREGORIAN
METHOD:PUBLISH
X-WR-CALNAME:Explore Beaufort SC
X-ORIGINAL-URL:https://explorebeaufortsc.com
X-WR-CALDESC:Events for Explore Beaufort SC
REFRESH-INTERVAL;VALUE=DURATION:PT1H
X-Robots-Tag:noindex
X-PUBLISHED-TTL:PT1H
BEGIN:VTIMEZONE
TZID:America/New_York
BEGIN:DAYLIGHT
TZOFFSETFROM:-0500
TZOFFSETTO:-0400
TZNAME:EDT
DTSTART:20250309T070000
END:DAYLIGHT
BEGIN:STANDARD
TZOFFSETFROM:-0400
TZOFFSETTO:-0500
TZNAME:EST
DTSTART:20251102T060000
END:STANDARD
BEGIN:DAYLIGHT
TZOFFSETFROM:-0500
TZOFFSETTO:-0400
TZNAME:EDT
DTSTART:20260308T070000
END:DAYLIGHT
BEGIN:STANDARD
TZOFFSETFROM:-0400
TZOFFSETTO:-0500
TZNAME:EST
DTSTART:20261101T060000
END:STANDARD
BEGIN:DAYLIGHT
TZOFFSETFROM:-0500
TZOFFSETTO:-0400
TZNAME:EDT
DTSTART:20270314T070000
END:DAYLIGHT
BEGIN:STANDARD
TZOFFSETFROM:-0400
TZOFFSETTO:-0500
TZNAME:EST
DTSTART:20271107T060000
END:STANDARD
END:VTIMEZONE
BEGIN:VEVENT
DTSTART;TZID=America/New_York:20260329T100000
DTEND;TZID=America/New_York:20260329T170000
DTSTAMP:20260425T105324
CREATED:20260326T211405Z
LAST-MODIFIED:20260326T211405Z
UID:26153-1774778400-1774803600@explorebeaufortsc.com
SUMMARY:3rd Annual Chalk It Up Festival in Downtown
DESCRIPTION:Beaufort is about to burst into color\, and the excitement is building. On Saturday and Sunday\, March 28–29\, Chalk It Up! returns as a joyful celebration of creativity\, community\, and the power of art to bring people together.\n\n\nHosted by the Freedman Arts District\, this free\, family-friendly festival transforms ordinary pavement into an extraordinary canvas\, inviting residents and visitors alike to witness imagination come alive in real time.\n\n\nBeginning at 10 a.m. Saturday and continuing through 5 p.m. Sunday\, nationally recognized chalk artists will spend two inspiring days crafting breathtaking\, large-scale works of art directly on the pavement beside Tabby Place on Port Republic Street. Guests will not only see art unfold before their eyes\, they will experience the creative process\, meet the artists\, and feel the energy that happens when a community gathers around beauty and expression.\n\n\n\nTraditional craft artisans will demonstrate their skills on Saturday\, while Sunday will feature a spirited chalk art competition among local middle and high school students.\n\nThroughout the weekend\, live music from beloved area performers will fill the air with rhythm and celebration.\n\nFor artists and audiences alike\, Chalk It Up! is more than an event\, it is a shared moment of wonder.\n\nVisiting artist Jennifer Ripassa describes street painting as performance art\, where pavement becomes a stage and chalk becomes a tool for transformation\, turning blank concrete into something vivid\, meaningful\, and alive.\n\nMaster chalk artist Lisa Sandrowicz shares a similar vision\, emphasizing connection\, inspiration\, and the importance of nurturing the next generation of artists so that creativity continues to flourish in communities everywhere.\n\nBe sure to come downtown and enjoy the fun as dozens of artists from all over the USA converge on Beaufort to create their art and join everyone in having a good time.\n\nThe annual event is free and open to the public. Tabby Place is located at 913 Port Republic Street in downtown Beaufort\, SC.
URL:https://explorebeaufortsc.com/event/3rd-annual-chalk-it-up-festival-in-downtown-2/
LOCATION:Tabby Place at the Beaufort Inn\, 913 Port Republic Street\, Beaufort\, SC\, 29902\, United States
ATTACH;FMTTYPE=image/png:https://explorebeaufortsc.com/wp-content/uploads/2026/03/chalkitup20261.png
ORGANIZER;CN="Freedman Arts District":MAILTO:noreply@facebookmail.com
END:VEVENT
BEGIN:VEVENT
DTSTART;TZID=America/New_York:20260329T120000
DTEND;TZID=America/New_York:20260329T140000
DTSTAMP:20260425T105324
CREATED:20260228T182633Z
LAST-MODIFIED:20260228T182633Z
UID:25899-1774785600-1774792800@explorebeaufortsc.com
SUMMARY:Needle Felting Workshop at Marshview Mercantile
DESCRIPTION:Join instructor Tracy Winslow for a fun\, fuzzy adventure as we dive into needle felting for beginners!\nYou’ll craft your very own Spring Mouse—no knitting\, crocheting\, or sewing experience needed. If you can poke a needle into fluff\, you’re golden.\n\nThis sweet little mouse project stands about 4×4 inches when finished (depending on how enthusiastically you felt it). The wool comes straight from a specialty-bred flock in North Dakota\, so you’re working with the good stuff—no mystery fibers here. \nWe’ll provide everything you need\, including the wool\, needles\, and instructions.\nPerfect for beginners\, gift-givers\, and anyone who loves turning fluff into friends. \n\nMarch 29\, 2026\, 12-2p\nMarshview Mercantile\n2631 Boundary Street\, Beaufort\, SC\n\nRegister: \nhttps://marshviewmercantile.commentsold.com/products/spring-mouse-needle-felting-mar-29-12-2p
URL:https://explorebeaufortsc.com/event/needle-felting-workshop-at-marshview-mercantile/
LOCATION:Marshview Mercantile\, 2631 Boundary St\, Beaufort\, SC\, 29906\, US
ATTACH;FMTTYPE=image/jpeg:https://explorebeaufortsc.com/wp-content/uploads/2026/02/marshviewneedlefelting.jpg
END:VEVENT
END:VCALENDAR