BEGIN:VCALENDAR
VERSION:2.0
PRODID:-//Explore Beaufort SC - ECPv6.15.20//NONSGML v1.0//EN
CALSCALE:GREGORIAN
METHOD:PUBLISH
X-ORIGINAL-URL:https://explorebeaufortsc.com
X-WR-CALDESC:Events for Explore Beaufort SC
REFRESH-INTERVAL;VALUE=DURATION:PT1H
X-Robots-Tag:noindex
X-PUBLISHED-TTL:PT1H
BEGIN:VTIMEZONE
TZID:America/New_York
BEGIN:DAYLIGHT
TZOFFSETFROM:-0500
TZOFFSETTO:-0400
TZNAME:EDT
DTSTART:20250309T070000
END:DAYLIGHT
BEGIN:STANDARD
TZOFFSETFROM:-0400
TZOFFSETTO:-0500
TZNAME:EST
DTSTART:20251102T060000
END:STANDARD
BEGIN:DAYLIGHT
TZOFFSETFROM:-0500
TZOFFSETTO:-0400
TZNAME:EDT
DTSTART:20260308T070000
END:DAYLIGHT
BEGIN:STANDARD
TZOFFSETFROM:-0400
TZOFFSETTO:-0500
TZNAME:EST
DTSTART:20261101T060000
END:STANDARD
BEGIN:DAYLIGHT
TZOFFSETFROM:-0500
TZOFFSETTO:-0400
TZNAME:EDT
DTSTART:20270314T070000
END:DAYLIGHT
BEGIN:STANDARD
TZOFFSETFROM:-0400
TZOFFSETTO:-0500
TZNAME:EST
DTSTART:20271107T060000
END:STANDARD
END:VTIMEZONE
BEGIN:VEVENT
DTSTART;TZID=America/New_York:20260403T170000
DTEND;TZID=America/New_York:20260403T200000
DTSTAMP:20260425T092152
CREATED:20260326T215615Z
LAST-MODIFIED:20260328T155149Z
UID:26171-1775235600-1775246400@explorebeaufortsc.com
SUMMARY:Cruisin' in Beaufort
DESCRIPTION:Join us on Friday\, April 3\, from 5–8 PM as downtown shifts into high gear with a classic car show\, live music from Anna Barnes\, a kids DJ dance party\, and games for the whole family. Stroll Bay Street while checking out some incredible cars\, shop your favorite local stores\, and grab a bite to eat at one of our downtown restaurants. \nKeep an eye out for fun activities happening throughout the district and plenty of ways for families to enjoy a night out downtown. From shiny chrome and classic rides to music and dancing for the kids\, there will be something for everyone to enjoy. \nBecause there’s no better way to cruise into the weekend than by supporting local businesses and celebrating the community that makes Downtown Beaufort so special.
URL:https://explorebeaufortsc.com/event/cruisin-in-beaufort/
LOCATION:Downtown Beaufort\, Beaufort\, South Carolina
END:VEVENT
END:VCALENDAR