BEGIN:VCALENDAR
VERSION:2.0
PRODID:-//Explore Beaufort SC - ECPv6.15.20//NONSGML v1.0//EN
CALSCALE:GREGORIAN
METHOD:PUBLISH
X-ORIGINAL-URL:https://explorebeaufortsc.com
X-WR-CALDESC:Events for Explore Beaufort SC
REFRESH-INTERVAL;VALUE=DURATION:PT1H
X-Robots-Tag:noindex
X-PUBLISHED-TTL:PT1H
BEGIN:VTIMEZONE
TZID:America/New_York
BEGIN:DAYLIGHT
TZOFFSETFROM:-0500
TZOFFSETTO:-0400
TZNAME:EDT
DTSTART:20250309T070000
END:DAYLIGHT
BEGIN:STANDARD
TZOFFSETFROM:-0400
TZOFFSETTO:-0500
TZNAME:EST
DTSTART:20251102T060000
END:STANDARD
BEGIN:DAYLIGHT
TZOFFSETFROM:-0500
TZOFFSETTO:-0400
TZNAME:EDT
DTSTART:20260308T070000
END:DAYLIGHT
BEGIN:STANDARD
TZOFFSETFROM:-0400
TZOFFSETTO:-0500
TZNAME:EST
DTSTART:20261101T060000
END:STANDARD
BEGIN:DAYLIGHT
TZOFFSETFROM:-0500
TZOFFSETTO:-0400
TZNAME:EDT
DTSTART:20270314T070000
END:DAYLIGHT
BEGIN:STANDARD
TZOFFSETFROM:-0400
TZOFFSETTO:-0500
TZNAME:EST
DTSTART:20271107T060000
END:STANDARD
END:VTIMEZONE
BEGIN:VEVENT
DTSTART;TZID=America/New_York:20260408T140000
DTEND;TZID=America/New_York:20260408T150000
DTSTAMP:20260425T092110
CREATED:20260408T014756Z
LAST-MODIFIED:20260408T014756Z
UID:26455-1775656800-1775660400@explorebeaufortsc.com
SUMMARY:Play "Revealing the Revolution" Marker Scavenger Hunt
DESCRIPTION:A free\, self-guided historical marker scavenger hunt across Beaufort County.Pick up a game brochure at any BeaufortBranch Library or Bookmobile\,visits the RevWar themed markers\, find answers\, complete your gameboard\, win PRIZES! Turn in your completed sheet at any Branch Library or mail it in. Prizes will be distributed by July 31. It’s FUN\, it’s FREE\, it’s all about HISTORY! \nhttps://www.facebook.com/events/1414536227078650/?event_time_id=1414536240411982
URL:https://explorebeaufortsc.com/event/play-revealing-the-revolution-marker-scavenger-hunt/
LOCATION:Beaufort County\, Beaufort County
END:VEVENT
BEGIN:VEVENT
DTSTART;TZID=America/New_York:20260408T170000
DTEND;TZID=America/New_York:20260408T193000
DTSTAMP:20260425T092110
CREATED:20260408T014757Z
LAST-MODIFIED:20260408T014757Z
UID:26457-1775667600-1775676600@explorebeaufortsc.com
SUMMARY:Spring into Good Health
DESCRIPTION:Whale Branch Early College High School Invites Community to “Spring into Good Health” Event \nBeaufort\, SC — Whale Branch Early College High School is proud to invite families\, friends\, and community members to a special Cluster Event: “Spring into Good Health.” This exciting\, family-friendly event will take place on Wednesday\, April 8\, 2026\, from 5:00 PM to 7:30 PM on the school’s campus. \nGuests can look forward to an evening filled with fun\, fellowship\, and wellness-focused activities for all ages. The event will feature a variety of engaging experiences designed to promote healthy living while bringing the community together in a positive and energetic atmosphere. \nAttendees will enjoy:– Interactive activities for the entire family \n– Opportunities to learn about healthy lifestyles \n– Food and refreshments \n– A welcoming environment to connect with others in the community \nAll activities will be held in the courtyard by the main gymnasium\, providing a central and accessible location for guests to gather and participate. \nThis event is open to the public\, and everyone is encouraged to attend. Come out and celebrate health\, happiness\, and community spirit with Whale Branch Early College High School! \nFor more information\, please contact our Parent Liaison Mr. Thaddeus Smith at the school directly.
URL:https://explorebeaufortsc.com/event/spring-into-good-health/
LOCATION:Whale Branch Early College High School\, Whale Branch Early College High School
END:VEVENT
BEGIN:VEVENT
DTSTART;TZID=America/New_York:20260408T183000
DTEND;TZID=America/New_York:20260408T203000
DTSTAMP:20260425T092110
CREATED:20260326T215617Z
LAST-MODIFIED:20260408T014757Z
UID:26178-1775673000-1775680200@explorebeaufortsc.com
SUMMARY:Beginner Sushi Class - Port Royal\, South Carolina
DESCRIPTION:Join us at Shellring Ale Works for a fun Wednesday night with local chef Justin Patton!We’ve been teaching since 2011 and have had over 16k ppl take the class in 18 states.🍣Join us and learn how to make perfect sushi rice\, all the sauces you love at the sushi bar\, where to shop/what to buy\, and how to safely and confidently serve raw fish at home. You’ll be served a snack by the chef upon arrival\, and you’ll make your very own sushi roll near the end of class. Your instructor will email you a cheat sheet of notes after class with tips\, tricks & recipes included! \nYour first drink is ON THE HOUSE!!! 🍺
URL:https://explorebeaufortsc.com/event/beginner-sushi-class-port-royal-south-carolina/
LOCATION:Shellring Ale Works\, 1111 11th street\, Port Royal\, SC\, 29935\, US
ORGANIZER;CN="Birmingham Sushi Class":MAILTO:noreply@facebookmail.com
END:VEVENT
END:VCALENDAR