BEGIN:VCALENDAR
VERSION:2.0
PRODID:-//Explore Beaufort SC - ECPv6.15.20//NONSGML v1.0//EN
CALSCALE:GREGORIAN
METHOD:PUBLISH
X-ORIGINAL-URL:https://explorebeaufortsc.com
X-WR-CALDESC:Events for Explore Beaufort SC
REFRESH-INTERVAL;VALUE=DURATION:PT1H
X-Robots-Tag:noindex
X-PUBLISHED-TTL:PT1H
BEGIN:VTIMEZONE
TZID:America/New_York
BEGIN:DAYLIGHT
TZOFFSETFROM:-0500
TZOFFSETTO:-0400
TZNAME:EDT
DTSTART:20250309T070000
END:DAYLIGHT
BEGIN:STANDARD
TZOFFSETFROM:-0400
TZOFFSETTO:-0500
TZNAME:EST
DTSTART:20251102T060000
END:STANDARD
BEGIN:DAYLIGHT
TZOFFSETFROM:-0500
TZOFFSETTO:-0400
TZNAME:EDT
DTSTART:20260308T070000
END:DAYLIGHT
BEGIN:STANDARD
TZOFFSETFROM:-0400
TZOFFSETTO:-0500
TZNAME:EST
DTSTART:20261101T060000
END:STANDARD
BEGIN:DAYLIGHT
TZOFFSETFROM:-0500
TZOFFSETTO:-0400
TZNAME:EDT
DTSTART:20270314T070000
END:DAYLIGHT
BEGIN:STANDARD
TZOFFSETFROM:-0400
TZOFFSETTO:-0500
TZNAME:EST
DTSTART:20271107T060000
END:STANDARD
END:VTIMEZONE
BEGIN:VEVENT
DTSTART;TZID=America/New_York:20260411T083000
DTEND;TZID=America/New_York:20260411T113000
DTSTAMP:20260425T094328
CREATED:20260319T025708Z
LAST-MODIFIED:20260408T014759Z
UID:26092-1775896200-1775907000@explorebeaufortsc.com
SUMMARY:Beaufort Water Festival Archery Tournament
DESCRIPTION:Please join us for our first ever archery tournament. We are excited to host this new event. Sponsored by Mitchell Brothers Incorporated.  \nhttps://www.bftwaterfestival.com/archery-tournament.html#/
URL:https://explorebeaufortsc.com/event/beaufort-water-festival-archery-tournament/
LOCATION:206 Springfield Road\, 206 Springfield Road
ORGANIZER;CN="Annual Beaufort Water Festival":MAILTO:noreply@facebookmail.com
END:VEVENT
BEGIN:VEVENT
DTSTART;TZID=America/New_York:20260411T093000
DTEND;TZID=America/New_York:20260411T163000
DTSTAMP:20260425T094328
CREATED:20260225T004319Z
LAST-MODIFIED:20260408T014800Z
UID:25874-1775899800-1775925000@explorebeaufortsc.com
SUMMARY:Pinckney Island NWR 50th Anniversary Celebration
DESCRIPTION:Pinckney Island National Wildlife Refuge (NWR) will mark its golden anniversary with a special community celebration honoring five decades of wildlife conservation\, habitat protection\, and migratory bird stewardship. The free public event will take place from 9:30-4pm on Saturday\, April 11\, 2026\, at the 4\,053-acre refuge located between Hilton Head Island and the South Carolina mainland. The gates will open at 9:00 am for a rare drive in opportunity.The event is free and provides fun\, educational activities for all ages and interests.And…FOOD TRUCKS! \nAnniversary event highlights include: \nMusical Performance with Interactive Songwriting – Award-winning children’s musician Roger Day has devoted his life to making sure that future generations sing loud\, jump high\, and most importantly\, dream big. Learn about nature through his Marsh Mud Madness music and gain an understanding of the art of songwriting. \nHistorical Tours – Exploration of the island’s fascinating past\, from prehistoric settlements to plantation era modern conservation. \nBike Tours – Cycling excursions along the refuge’s scenic trail system; limited adult-size bikes provided or you may bring your own. \nGuided Bird and Butterfly Walks \nLive Bird Demonstrations – learn about a variety of birds with a close-up experience. \nFamily Fun Walk – Take the 1.5 mile adventure and enjoy some interactive animal activities along the way. \nNature Yoga – Start the morning off with a peaceful union and harmony between the mind\, body\, and spirit. \nNature Photography Walk – enjoy a guided hike while learning a few tips and tricks for capturing wildlife images.
URL:https://explorebeaufortsc.com/event/pinckney-island-nwr-50th-anniversary-celebration/
LOCATION:Pinckney Island National Wildlife Refuge\, Pinckney Island National Wildlife Refuge
END:VEVENT
BEGIN:VEVENT
DTSTART;TZID=America/New_York:20260411T100000
DTEND;TZID=America/New_York:20260411T113000
DTSTAMP:20260425T094328
CREATED:20260205T015310Z
LAST-MODIFIED:20260408T014800Z
UID:25611-1775901600-1775907000@explorebeaufortsc.com
SUMMARY:FREE Master Naturalist Tour
DESCRIPTION:Take a tour of the Port Royal Cypress Wetlands with Master Naturalist Jill Moore. Jill\, a certified master naturalist and founder of Moore2Life\, provides nature-based programs to local residents\, communities\, and tourists here in the magnificent Lowcountry – a setting unlike any place on Earth. With research showing that people function best when they have access to and a connection with nature\, Jill is committed to helping people discover a passion and appreciation for the unique area that surrounds us. \nTours are free to the public! Please RSVP here: https://friendsofportroyalcypresswetlands.org/tours/  \nhttps://www.facebook.com/events/1267325138570748/?event_time_id=1268761638427098
URL:https://explorebeaufortsc.com/event/free-master-naturalist-tour-23/
LOCATION:1700 Paris Ave\, Port Royal\, SC\, United States\, South Carolina 29935\, 1700 Paris Ave\, Port Royal\, SC\, United States\, South Carolina 29935
ORGANIZER;CN="Friends of Port Royal Cypress Wetlands":MAILTO:noreply@facebookmail.com
END:VEVENT
BEGIN:VEVENT
DTSTART;TZID=America/New_York:20260411T100000
DTEND;TZID=America/New_York:20260411T140000
DTSTAMP:20260425T094328
CREATED:20260319T025708Z
LAST-MODIFIED:20260408T014800Z
UID:26095-1775901600-1775916000@explorebeaufortsc.com
SUMMARY:Native Plant Sale at the Maritime Center
DESCRIPTION:Join us for our 2nd Native Plant Sale🌿🌳🌼Great variety of plants & educational vendors! \nChoose from over 30 species of grasses\, trees and flowers – all native to our Lowcountry environment.  \nPlanting native plants in South Carolina is beneficial for the environment\, wildlife\, and the community.  \nPlants will range from $10-$20\, cash/credit card accepted.
URL:https://explorebeaufortsc.com/event/native-plant-sale-at-the-maritime-center-2/
LOCATION:310 Okatie Hwy\, Okatie\, SC\, United States\, South Carolina 29909\, 310 Okatie Hwy\, Okatie\, SC\, United States\, South Carolina 29909
ORGANIZER;CN="Port Royal Sound Foundation":MAILTO:noreply@facebookmail.com
END:VEVENT
BEGIN:VEVENT
DTSTART;TZID=America/New_York:20260411T100000
DTEND;TZID=America/New_York:20260411T130000
DTSTAMP:20260425T094328
CREATED:20260319T025708Z
LAST-MODIFIED:20260408T014800Z
UID:26094-1775901600-1775912400@explorebeaufortsc.com
SUMMARY:Jude Connally Trunk Show at Beverly's Off Bay
DESCRIPTION:✨ Join Us at Beverly’s for a Trunk Show with Jude Connally ✨ \nGrab your girlfriends and make a day of it! We’re hosting a special trunk show featuring the effortless\, feel-good styles of Jude Connally\, and one of her brand specialists will be in-store bringing the line and helping you find your perfect fit! \n📅 Saturday\, April 11 | 10:00–5:00📍 Beverly’s Off Bay | 219 Scott Street\, Beaufort SC \nKnown for polished silhouettes\, vibrant prints\, and their signature Jude Cloth\, these pieces are lightweight\, wrinkle-resistant\, ultra-comfortable\, and made to move with you (and pack like a dream ✈️). It’s easy\, elevated style designed for real life. \nThis is the perfect chance to explore more from the line\, try on fresh styles\, ask questions\, and discover those go-to pieces you’ll wear on repeat. \nCall your friends\, clear your calendar\, and come shop with us 💕
URL:https://explorebeaufortsc.com/event/jude-connally-trunk-show-at-beverlys-off-bay/
LOCATION:219 Scott St\, Beaufort\, SC\, United States\, South Carolina\, 219 Scott St\, Beaufort\, SC\, United States\, South Carolina
ORGANIZER;CN="Beverly's Off Bay":MAILTO:noreply@facebookmail.com
END:VEVENT
BEGIN:VEVENT
DTSTART;TZID=America/New_York:20260411T100000
DTEND;TZID=America/New_York:20260411T160000
DTSTAMP:20260425T094328
CREATED:20260328T155151Z
LAST-MODIFIED:20260408T014800Z
UID:26362-1775901600-1775923200@explorebeaufortsc.com
SUMMARY:Family Day at the Beaufort History Museum
DESCRIPTION:Join us on Saturday\, April 11\, from 10 a.m. to 4 p.m. for “Family Day at the Museum” in the courtyard of the Beaufort History Museum\, located in the Arsenal at 713 Craven Street in Beaufort\, S.C.  \nExperience the 18th century firsthand with interactivedemonstrations\, battlefield simulations\, live cannon fire\, and the immersive film Beaufort on the Brink of Revolution.  \nAdmission is free and open to the public. \nThis event were financed in part from a $125\,000 grant the museum received from the SC American Revolution Sestercentennial Commission (SC250.) The contents and opinions do not necessarily reflect the views or policies of SC250\, nor does the mentionof trade names or commercial products constitute endorsement or recommendation by SC250.
URL:https://explorebeaufortsc.com/event/family-day-at-the-beaufort-history-museum/
LOCATION:The Arsenal\, 713 Craven St\, Beaufort\, SC\, United States\, South Carolina 29902\, The Arsenal\, 713 Craven St\, Beaufort\, SC\, United States\, South Carolina 29902
ORGANIZER;CN="Beaufort History Museum":MAILTO:noreply@facebookmail.com
END:VEVENT
BEGIN:VEVENT
DTSTART;TZID=America/New_York:20260411T103000
DTEND;TZID=America/New_York:20260411T123000
DTSTAMP:20260425T094328
CREATED:20260328T155939Z
LAST-MODIFIED:20260328T155939Z
UID:26385-1775903400-1775910600@explorebeaufortsc.com
SUMMARY:Sweetgrass Basket Making Class at Marshview Mercantile
DESCRIPTION:There’s something magical about learning a skill that’s been passed down through generations. Our Sweetgrass Basket Class is more than just a lesson — it’s a day of smiles\, connection\, and honoring a beautiful Lowcountry tradition.\n\nIf this sounds like your vibe\, join our next class.\nApril 11\, 10:30-12;30\nMarshview Mercantile\, 2631 Boundary Street\, Beaufort\n\nRegister: \nhttps://marshviewmercantile.commentsold.com/products/sweetgrass-basket-class-april-11-1030-1230
URL:https://explorebeaufortsc.com/event/sweetgrass-basket-making-class-at-marshview-mercantile-2/
LOCATION:Marshview Mercantile\, 2631 Boundary St\, Beaufort\, SC\, 29906\, US
ATTACH;FMTTYPE=image/jpeg:https://explorebeaufortsc.com/wp-content/uploads/2026/03/marshviewsweetgrassbasketclass2.jpg
END:VEVENT
BEGIN:VEVENT
DTSTART;TZID=America/New_York:20260411T110000
DTEND;TZID=America/New_York:20260411T140000
DTSTAMP:20260425T094328
CREATED:20260319T025710Z
LAST-MODIFIED:20260408T014800Z
UID:26096-1775905200-1775916000@explorebeaufortsc.com
SUMMARY:Family Day at Station 300
DESCRIPTION:Join Nexus Care of Beaufort County for a Saturday of family fun! Come to Station 300 Bowling on Saturday\, April 11\, starting at 11:00 am. Nexus Care will cover the first 73 Beaufort County Residents with a free 2 hours of bowling with shoe rental! First Come First Served.
URL:https://explorebeaufortsc.com/event/family-day-at-station-300/
LOCATION:25 Innovation Dr\, Bluffton\, SC 29910-5159\, United States\, 25 Innovation Dr\, Bluffton\, SC 29910-5159\, United States
END:VEVENT
BEGIN:VEVENT
DTSTART;TZID=America/New_York:20260411T120000
DTEND;TZID=America/New_York:20260411T160000
DTSTAMP:20260425T094329
CREATED:20260408T014800Z
LAST-MODIFIED:20260408T014800Z
UID:26463-1775908800-1775923200@explorebeaufortsc.com
SUMMARY:Membership Meet and Greet
DESCRIPTION:Membership in the Jonathan Green Maritime Cultural Center has special privileges. On Saturday\, April 11\, 2026 from 12-4\, members are invited for a special meet and greet with Jonathan Green\, private tours and talks about the exhibits. Refreshments will be served. \nIf you are not a member\, it’s not too late! Join at the link below or scan the QR code. \nhttps://www.zeffy.com/en-US/ticketing/jonathan-green-maritime-cultural-center-memberships
URL:https://explorebeaufortsc.com/event/membership-meet-and-greet/
LOCATION:1211 Harrington St. Beaufort\, SC 29902\, 1211 Harrington St. Beaufort\, SC 29902
END:VEVENT
BEGIN:VEVENT
DTSTART;TZID=America/New_York:20260411T140000
DTEND;TZID=America/New_York:20260411T160000
DTSTAMP:20260425T094329
CREATED:20260319T025710Z
LAST-MODIFIED:20260408T014800Z
UID:26098-1775916000-1775923200@explorebeaufortsc.com
SUMMARY:An Afternoon with Joy Corley
DESCRIPTION:The nonprofit Pat Conroy Literary Center will host an outside event with childrens book author Joy Corley\, and featuring the star of the book-Percy!. Books will be available for sale and signing. Seating is limited for this free event; please call in advance to reserve: 843-379-7025. \nABOUT THE BOOK:Percy Does Yoga… Not! Percy is an 80 pound pit bull who knows NOTHING about personal space. His goal on any given day is to lay on you\, beside you and to be as close to you as possible\, regardless of how uncomfortable you may be! This is a true story of Percy coming to understand “me vs we” time and how we can learn to give each other space and grace at the same time. \nABOUT THE AUTHOR:Joy Corley\, earned her Bachelor’s Degree at the University of South Carolina. She worked in many different capacities in the field of social work until retiring in 2021\, after 24 years as a Care Coordinator at Beaufort Memorial Hospital.  \nJoy became a lover of children’s books after her son Clay was born in 1982. She always wanted to write a children’s book and was just looking for the right inspiration whenever Percy came into her life.  \nAlways an animal lover\, Percy became the new character in a long list of characters in the household she shares with her husband\, Rick and 5 other rescues. Joy also enjoys reading\, being a volunteer with the South Carolina Department of Natural Resources Sea Turtle Program and Beaufort County County Animal Services
URL:https://explorebeaufortsc.com/event/an-afternoon-with-joy-corley/
LOCATION:601 Bladen Street\, Beaufort\, SC\, United States\, South Carolina 29902\, 601 Bladen Street\, Beaufort\, SC\, United States\, South Carolina 29902
ORGANIZER;CN="Pat Conroy Literary Center":MAILTO:noreply@facebookmail.com
END:VEVENT
BEGIN:VEVENT
DTSTART;TZID=America/New_York:20260411T140000
DTEND;TZID=America/New_York:20260411T170000
DTSTAMP:20260425T094329
CREATED:20260408T014801Z
LAST-MODIFIED:20260408T014801Z
UID:26466-1775916000-1775926800@explorebeaufortsc.com
SUMMARY:The Masters $10K Challenge
DESCRIPTION:For The Masters\, we’re hosting an Indoor Golf Challenge at Egret & Iron on Saturday\, April 11 from 2–5 PM. Come hang\, watch the tournament\, and take your shot. \n🏆 What’s on the line: \n💰 $10\,000 Hole-in-One (presented by Champion Insurance Agency)🎯 Closest-to-the-Pin for new Wedges🎟️ RBC Heritage Ticket Giveaway (multiple tickets to win) \n🍗 Free wings served up by Brody’s Bar & Grill \nWhether you’re chasing the cash or just looking for a great spot to watch the Masters with friends\, this is one of those days you don’t want to miss.
URL:https://explorebeaufortsc.com/event/the-masters-10k-challenge/
LOCATION:2139 Boundary St. Suite 118\, Beaufort\, SC\, United States\, South Carolina 29902\, 2139 Boundary St. Suite 118\, Beaufort\, SC\, United States\, South Carolina 29902
END:VEVENT
BEGIN:VEVENT
DTSTART;TZID=America/New_York:20260411T190000
DTEND;TZID=America/New_York:20260411T220000
DTSTAMP:20260425T094329
CREATED:20260326T215618Z
LAST-MODIFIED:20260408T014801Z
UID:26188-1775934000-1775944800@explorebeaufortsc.com
SUMMARY:Spring Fling Ballroom Dance Party 🌸
DESCRIPTION:Bring on the Blossoms! Our Spring Fling Ballroom Dance Party is Saturday\, April 11th 🌷 \nSpring Fling Ballroom Dance Party 🌸〰️ Saturday\, April 11th 〰️ \n◽️7:00 – 7:30 PM Beginner Argentine Tango lesson◽️7:30 – 10:00 PM Social Dancing◽️Our playlist features a mix of Ballroom\, Latin\, Swing\, Salsa\, Bachata\, and Argentine Tango◽️Light refreshments & iced tea◽️Admission: $20 (online or at the door)◽️Open to the public (ages 18+)◽️Singles & couples welcome◽️Attire: Petals & Pastels \n➡️ Get tickets: https://www.revolutionballroom.com/SpringFling \nEvent Location:Revolution Ballroom2121 Boundary StSuite 207Beaufort\, SC 29902 \n📲 843-338-2870www.RevolutionBallroom.com
URL:https://explorebeaufortsc.com/event/spring-fling-ballroom-dance-party-%f0%9f%8c%b8/
LOCATION:2121 Boundary St\, Suite 207\, Beaufort\, SC\, United States\, South Carolina 29902\, 2121 Boundary St\, Suite 207\, Beaufort\, SC\, United States\, South Carolina 29902
ORGANIZER;CN="Revolution Ballroom":MAILTO:noreply@facebookmail.com
END:VEVENT
BEGIN:VEVENT
DTSTART;TZID=America/New_York:20260411T193000
DTEND;TZID=America/New_York:20260411T220000
DTSTAMP:20260425T094329
CREATED:20260110T183138Z
LAST-MODIFIED:20260408T014801Z
UID:25434-1775935800-1775944800@explorebeaufortsc.com
SUMMARY:Beaufort Theatre Company Presents: Into the Woods
DESCRIPTION:Get lost in a magical forest of fairy tales with Beaufort Theatre Company’s enchanting production of Into the Woods! This beloved Stephen Sondheim musical weaves together timeless stories—Cinderella\, Jack and the Beanstalk\, Little Red Riding Hood\, and more—with witty lyrics\, lush music\, and a deeper message about wishes\, consequences\, and community. Don’t miss this spellbinding journey that’s as heartfelt and funny as it is thought-provoking—a perfect night out for theatre lovers of all ages!​Tickets:Adult $35Senior/Military $30Student $20 \nhttps://www.facebook.com/events/733138872836487/?event_time_id=733138889503152
URL:https://explorebeaufortsc.com/event/beaufort-theatre-company-presents-into-the-woods/
LOCATION:801 Carteret St\, Beaufort\, SC\, United States\, South Carolina 29902\, 801 Carteret St\, Beaufort\, SC\, United States\, South Carolina 29902
ORGANIZER;CN="USCB Center for the Arts":MAILTO:noreply@facebookmail.com
END:VEVENT
END:VCALENDAR