BEGIN:VCALENDAR
VERSION:2.0
PRODID:-//Explore Beaufort SC - ECPv6.15.20//NONSGML v1.0//EN
CALSCALE:GREGORIAN
METHOD:PUBLISH
X-ORIGINAL-URL:https://explorebeaufortsc.com
X-WR-CALDESC:Events for Explore Beaufort SC
REFRESH-INTERVAL;VALUE=DURATION:PT1H
X-Robots-Tag:noindex
X-PUBLISHED-TTL:PT1H
BEGIN:VTIMEZONE
TZID:America/New_York
BEGIN:DAYLIGHT
TZOFFSETFROM:-0500
TZOFFSETTO:-0400
TZNAME:EDT
DTSTART:20250309T070000
END:DAYLIGHT
BEGIN:STANDARD
TZOFFSETFROM:-0400
TZOFFSETTO:-0500
TZNAME:EST
DTSTART:20251102T060000
END:STANDARD
BEGIN:DAYLIGHT
TZOFFSETFROM:-0500
TZOFFSETTO:-0400
TZNAME:EDT
DTSTART:20260308T070000
END:DAYLIGHT
BEGIN:STANDARD
TZOFFSETFROM:-0400
TZOFFSETTO:-0500
TZNAME:EST
DTSTART:20261101T060000
END:STANDARD
BEGIN:DAYLIGHT
TZOFFSETFROM:-0500
TZOFFSETTO:-0400
TZNAME:EDT
DTSTART:20270314T070000
END:DAYLIGHT
BEGIN:STANDARD
TZOFFSETFROM:-0400
TZOFFSETTO:-0500
TZNAME:EST
DTSTART:20271107T060000
END:STANDARD
END:VTIMEZONE
BEGIN:VEVENT
DTSTART;TZID=America/New_York:20260412T130000
DTEND;TZID=America/New_York:20260412T160000
DTSTAMP:20260425T094328
CREATED:20260328T160535Z
LAST-MODIFIED:20260328T160535Z
UID:26391-1775998800-1776009600@explorebeaufortsc.com
SUMMARY:Sourdough Starter Workshop at Marshview Mercantile
DESCRIPTION:Join our hands-on Sourdough Starter Workshop and learn how to create and care for your own sourdough starter- the heart of every great loaf!\n\n\n\nNo experience needed- just bring your own curiosity (and maybe an apron). Leave with the knowledge\, confidence\, and starter to begin your sourdough journey at home! \nIn addition to the loaf of bread you make during class\, you will receive these supplies to take home:\n*starter – fed\n*32 ounce mason jar\,\n*two bowls\, one mixing bowl\, one banneton bowl\n*tea towel\n*bench scraper \nApril 12\, 1-4p \nMarshview Mercantile\n2631 Boundary Street\, Beaufort\nRegister: \nhttps://marshviewmercantile.commentsold.com/products/sourdough-starter-workshop-april-12-1-4p
URL:https://explorebeaufortsc.com/event/sourdough-starter-workshop-at-marshview-mercantile-2/
LOCATION:Marshview Mercantile\, 2631 Boundary St\, Beaufort\, SC\, 29906\, US
ATTACH;FMTTYPE=image/jpeg:https://explorebeaufortsc.com/wp-content/uploads/2026/03/marshviewsourdoughstarter-scaled.jpg
END:VEVENT
BEGIN:VEVENT
DTSTART;TZID=America/New_York:20260412T150000
DTEND;TZID=America/New_York:20260412T180000
DTSTAMP:20260425T094328
CREATED:20260110T183139Z
LAST-MODIFIED:20260408T014801Z
UID:25435-1776006000-1776016800@explorebeaufortsc.com
SUMMARY:Beaufort Theatre Company Presents: Into the Woods
DESCRIPTION:Get lost in a magical forest of fairy tales with Beaufort Theatre Company’s enchanting production of Into the Woods! This beloved Stephen Sondheim musical weaves together timeless stories—Cinderella\, Jack and the Beanstalk\, Little Red Riding Hood\, and more—with witty lyrics\, lush music\, and a deeper message about wishes\, consequences\, and community. Don’t miss this spellbinding journey that’s as heartfelt and funny as it is thought-provoking—a perfect night out for theatre lovers of all ages!​Tickets:Adult $35Senior/Military $30Student $20 \nhttps://www.facebook.com/events/733138872836487/?event_time_id=733138886169819
URL:https://explorebeaufortsc.com/event/beaufort-theatre-company-presents-into-the-woods-2/
LOCATION:801 Carteret St\, Beaufort\, SC\, United States\, South Carolina 29902\, 801 Carteret St\, Beaufort\, SC\, United States\, South Carolina 29902
ORGANIZER;CN="USCB Center for the Arts":MAILTO:noreply@facebookmail.com
END:VEVENT
END:VCALENDAR