BEGIN:VCALENDAR
VERSION:2.0
PRODID:-//Explore Beaufort SC - ECPv6.15.20//NONSGML v1.0//EN
CALSCALE:GREGORIAN
METHOD:PUBLISH
X-ORIGINAL-URL:https://explorebeaufortsc.com
X-WR-CALDESC:Events for Explore Beaufort SC
REFRESH-INTERVAL;VALUE=DURATION:PT1H
X-Robots-Tag:noindex
X-PUBLISHED-TTL:PT1H
BEGIN:VTIMEZONE
TZID:America/New_York
BEGIN:DAYLIGHT
TZOFFSETFROM:-0500
TZOFFSETTO:-0400
TZNAME:EDT
DTSTART:20250309T070000
END:DAYLIGHT
BEGIN:STANDARD
TZOFFSETFROM:-0400
TZOFFSETTO:-0500
TZNAME:EST
DTSTART:20251102T060000
END:STANDARD
BEGIN:DAYLIGHT
TZOFFSETFROM:-0500
TZOFFSETTO:-0400
TZNAME:EDT
DTSTART:20260308T070000
END:DAYLIGHT
BEGIN:STANDARD
TZOFFSETFROM:-0400
TZOFFSETTO:-0500
TZNAME:EST
DTSTART:20261101T060000
END:STANDARD
BEGIN:DAYLIGHT
TZOFFSETFROM:-0500
TZOFFSETTO:-0400
TZNAME:EDT
DTSTART:20270314T070000
END:DAYLIGHT
BEGIN:STANDARD
TZOFFSETFROM:-0400
TZOFFSETTO:-0500
TZNAME:EST
DTSTART:20271107T060000
END:STANDARD
END:VTIMEZONE
BEGIN:VEVENT
DTSTART;TZID=America/New_York:20260416T100000
DTEND;TZID=America/New_York:20260419T180000
DTSTAMP:20260425T092110
CREATED:20260415T225039Z
LAST-MODIFIED:20260415T225039Z
UID:26531-1776333600-1776621600@explorebeaufortsc.com
SUMMARY:Exclusive Sales Event\, Yemassee Le Creuset: Beyond the Box
DESCRIPTION:Discover unbeatable savings at Yemassee’s exclusive Beyond the Box Sale\, featuring deep discounts on select out of the box cookware in Cast Iron\, Stoneware\, Enamel on Steel and more. \nPlus enjoy 25% off storewide savings\, and a gift with $250 purchase!
URL:https://explorebeaufortsc.com/event/exclusive-sales-event-yemassee-le-creuset-beyond-the-box/
LOCATION:18 Lane St\, Yemassee\, SC 29945-2252\, United States\, 18 Lane St\, Yemassee\, SC 29945-2252\, United States
END:VEVENT
BEGIN:VEVENT
DTSTART;TZID=America/New_York:20260417T090000
DTEND;TZID=America/New_York:20260417T120000
DTSTAMP:20260425T092110
CREATED:20260326T215620Z
LAST-MODIFIED:20260415T225040Z
UID:26192-1776416400-1776427200@explorebeaufortsc.com
SUMMARY:Saltwater Fishing Clinic
DESCRIPTION:Join Certified Fishing Instructors\, SCDNR\, and Nemours staff for a fun filled fishing clinic at Nemours Plantation. We’ll teach you the basics to get started saltwater fishing with all tackle and equipment provided for the duration of the clinic. Kids 6 and older plus adults are welcomed to participate. Participants 16 or older must have a valid SC saltwater fishing license. \nMorning Clinic: 9AM-12PMAfternoon Clinic: 1-4PM
URL:https://explorebeaufortsc.com/event/saltwater-fishing-clinic/
LOCATION:161 Nemours Plantation Rd\, Yemassee\, SC 29945\, United States\, 161 Nemours Plantation Rd\, Yemassee\, SC 29945\, United States
ORGANIZER;CN="South Carolina Department of Natural Resources":MAILTO:noreply@facebookmail.com
END:VEVENT
BEGIN:VEVENT
DTSTART;TZID=America/New_York:20260417T110000
DTEND;TZID=America/New_York:20260417T140000
DTSTAMP:20260425T092110
CREATED:20260415T225040Z
LAST-MODIFIED:20260415T225040Z
UID:26536-1776423600-1776434400@explorebeaufortsc.com
SUMMARY:SCAA Award Presentation
DESCRIPTION:Founded in 1986\, the South Carolina Academy of Authors serves as the state’s literary hall of fame\, and 2026 marks the 40th anniversary of the academy. Pat Conroy was among the first inductee. The first inductees did not receive any commemoration\, but since then each honoree gets an engraved crystal book. the SCAA board voted to award the Pat Conroy Literary Center the award in appreciation of what would have been Pat’s nearly forty years ago. \nPlease join us\, along with several SCAA Board of Governors\, for this special presentation.
URL:https://explorebeaufortsc.com/event/scaa-award-presentation/
LOCATION:601 Bladen Street\, Beaufort\, SC\, United States\, South Carolina 29902\, 601 Bladen Street\, Beaufort\, SC\, United States\, South Carolina 29902
ORGANIZER;CN="Pat Conroy Literary Center":MAILTO:noreply@facebookmail.com
END:VEVENT
BEGIN:VEVENT
DTSTART;TZID=America/New_York:20260417T160000
DTEND;TZID=America/New_York:20260417T190000
DTSTAMP:20260425T092110
CREATED:20260415T225040Z
LAST-MODIFIED:20260415T225040Z
UID:26537-1776441600-1776452400@explorebeaufortsc.com
SUMMARY:Habersham Growers & Makers Market
DESCRIPTION:Join us on Friday April 17th from 4pm-7pm for a fun night of shopping\, food and live music!! \n13 Market st. Beaufort\, SC
URL:https://explorebeaufortsc.com/event/habersham-growers-makers-market/
LOCATION:Habersham Marketplace\, Habersham Marketplace
ORGANIZER;CN="Habersham Farmers Market":MAILTO:noreply@facebookmail.com
END:VEVENT
BEGIN:VEVENT
DTSTART;TZID=America/New_York:20260417T193000
DTEND;TZID=America/New_York:20260417T220000
DTSTAMP:20260425T092110
CREATED:20260110T183139Z
LAST-MODIFIED:20260408T014803Z
UID:25437-1776454200-1776463200@explorebeaufortsc.com
SUMMARY:Beaufort Theatre Company Presents: Into the Woods
DESCRIPTION:Get lost in a magical forest of fairy tales with Beaufort Theatre Company’s enchanting production of Into the Woods! This beloved Stephen Sondheim musical weaves together timeless stories—Cinderella\, Jack and the Beanstalk\, Little Red Riding Hood\, and more—with witty lyrics\, lush music\, and a deeper message about wishes\, consequences\, and community. Don’t miss this spellbinding journey that’s as heartfelt and funny as it is thought-provoking—a perfect night out for theatre lovers of all ages!​Tickets:Adult $35Senior/Military $30Student $20 \nhttps://www.facebook.com/events/733138872836487/?event_time_id=733138892836485
URL:https://explorebeaufortsc.com/event/beaufort-theatre-company-presents-into-the-woods-3/
LOCATION:801 Carteret St\, Beaufort\, SC\, United States\, South Carolina 29902\, 801 Carteret St\, Beaufort\, SC\, United States\, South Carolina 29902
ORGANIZER;CN="USCB Center for the Arts":MAILTO:noreply@facebookmail.com
END:VEVENT
END:VCALENDAR