BEGIN:VCALENDAR
VERSION:2.0
PRODID:-//Explore Beaufort SC - ECPv6.15.20//NONSGML v1.0//EN
CALSCALE:GREGORIAN
METHOD:PUBLISH
X-ORIGINAL-URL:https://explorebeaufortsc.com
X-WR-CALDESC:Events for Explore Beaufort SC
REFRESH-INTERVAL;VALUE=DURATION:PT1H
X-Robots-Tag:noindex
X-PUBLISHED-TTL:PT1H
BEGIN:VTIMEZONE
TZID:America/New_York
BEGIN:DAYLIGHT
TZOFFSETFROM:-0500
TZOFFSETTO:-0400
TZNAME:EDT
DTSTART:20250309T070000
END:DAYLIGHT
BEGIN:STANDARD
TZOFFSETFROM:-0400
TZOFFSETTO:-0500
TZNAME:EST
DTSTART:20251102T060000
END:STANDARD
BEGIN:DAYLIGHT
TZOFFSETFROM:-0500
TZOFFSETTO:-0400
TZNAME:EDT
DTSTART:20260308T070000
END:DAYLIGHT
BEGIN:STANDARD
TZOFFSETFROM:-0400
TZOFFSETTO:-0500
TZNAME:EST
DTSTART:20261101T060000
END:STANDARD
BEGIN:DAYLIGHT
TZOFFSETFROM:-0500
TZOFFSETTO:-0400
TZNAME:EDT
DTSTART:20270314T070000
END:DAYLIGHT
BEGIN:STANDARD
TZOFFSETFROM:-0400
TZOFFSETTO:-0500
TZNAME:EST
DTSTART:20271107T060000
END:STANDARD
END:VTIMEZONE
BEGIN:VEVENT
DTSTART;TZID=America/New_York:20260416T100000
DTEND;TZID=America/New_York:20260419T180000
DTSTAMP:20260425T093223
CREATED:20260415T225039Z
LAST-MODIFIED:20260415T225039Z
UID:26531-1776333600-1776621600@explorebeaufortsc.com
SUMMARY:Exclusive Sales Event\, Yemassee Le Creuset: Beyond the Box
DESCRIPTION:Discover unbeatable savings at Yemassee’s exclusive Beyond the Box Sale\, featuring deep discounts on select out of the box cookware in Cast Iron\, Stoneware\, Enamel on Steel and more. \nPlus enjoy 25% off storewide savings\, and a gift with $250 purchase!
URL:https://explorebeaufortsc.com/event/exclusive-sales-event-yemassee-le-creuset-beyond-the-box/
LOCATION:18 Lane St\, Yemassee\, SC 29945-2252\, United States\, 18 Lane St\, Yemassee\, SC 29945-2252\, United States
END:VEVENT
BEGIN:VEVENT
DTSTART;TZID=America/New_York:20260418T070000
DTEND;TZID=America/New_York:20260418T100000
DTSTAMP:20260425T093223
CREATED:20260205T015311Z
LAST-MODIFIED:20260415T225040Z
UID:25617-1776495600-1776506400@explorebeaufortsc.com
SUMMARY:The Flying Frog 5k/10k and First Annual Frog Fest
DESCRIPTION:Hello Beaufort!1.27.26 \nHello everyone\, \nThank you so much for the overwhelming interest in performing at Frog Fest as part of the Flying Frog 5K/10K. We truly appreciate the time\, enthusiasm\, and talent that so many of you shared with us. \nAt this time\, we’ve reached our maximum number of bands for this year’s event. That said\, the response has been incredible\, and we’re hopeful that Frog Fest will be such a success that we’ll be able to expand the lineup and include even more bands next year. \nThank you again for your support and interest—we’re grateful to be part of such a talented local music community and hope to connect with many of you in the future. \nWishing everyone continued success\, \nThe Frogs at The Beaufort Executive Airport
URL:https://explorebeaufortsc.com/event/the-flying-frog-5k-10k-and-first-annual-frog-fest/
LOCATION:39 Airport Cir\, Beaufort\, SC 29907-1523\, United States
END:VEVENT
BEGIN:VEVENT
DTSTART;TZID=America/New_York:20260418T074500
DTEND;TZID=America/New_York:20260418T104500
DTSTAMP:20260425T093223
CREATED:20260415T225040Z
LAST-MODIFIED:20260415T225040Z
UID:26538-1776498300-1776509100@explorebeaufortsc.com
SUMMARY:Bird walk
DESCRIPTION:We meet in the Wild Birds Unlimited parking lot at 7:45\, decide on a location\, and the walk begins at 8:00am! We look forward to finding birds with you!  \n$5 per person\, stop by the store to sign up soon!
URL:https://explorebeaufortsc.com/event/bird-walk-4/
LOCATION:2139 Boundary St. Suite 106\, Beaufort\, SC 29902\, 2139 Boundary St. Suite 106\, Beaufort\, SC 29902
END:VEVENT
BEGIN:VEVENT
DTSTART;TZID=America/New_York:20260418T080000
DTEND;TZID=America/New_York:20260419T220000
DTSTAMP:20260425T093223
CREATED:20260415T225041Z
LAST-MODIFIED:20260415T225041Z
UID:26540-1776499200-1776636000@explorebeaufortsc.com
SUMMARY:GNMC Pickleball Classic Tournament
DESCRIPTION:Want to play fun\, competitive pickleball and help your neighbors in need of medical care? If so\, the GNMC (Good Neighbor Medical Clinic) Pickleball Classic is for you! \nJoin us as we host our 5th Annual GNMC Pickleball Classic Tournament on April 18 and 19\, 2026 at the Beaufort Yacht & Sailing Club and help provide needed funding and awareness to the work GNMC does in our community. Did you know that last year\, GNMC provided $4.8 million in services to over 700 patients right here in Beaufort? \nAdditional Event InformationRegistration is $85 (includes 2 events)Register here: https://swishtournaments.com/product/good-neighbor-medical-clinic/Registration ends April 14\, 2026. \nThis fun event will include:– Ability to order a FREE Tournament T-shirt delivered to your home– Lunch for players– Amazing auction available online and at the event \nSCHEDULE 6 Courts | Staggered Division FormatStart times are approximate and subject to change. \nSaturday – April 18 \nWomen’s Doubles (Morning)8:00 AM – Check-In Opens9:00 AM – Pool Play Begins • 3.0 Division • 4.0 DivisionApprox. 11:30 AM – 3.5 Division Pool Play Begins \nBrackets follow completion of pool play.Awards follow final matches. \nMen’s Doubles (Afternoon)12:30 PM – Check-In Opens1:30 PM – Pool Play Begins • 3.0 Division • 4.0 DivisionApprox. 4:00 PM – 3.5 Division Pool Play Begins \nBrackets follow completion of pool play.Awards follow the final matches. \nSunday – April 19 \nMixed Doubles8:00 AM – Check-In Opens9:00 AM – Pool Play Begins • 3.0 Division • 4.0 DivisionApprox. 11:30 AM – 3.5 Division Pool Play Begins \nBrackets follow completion of pool play.Awards follow the final matches. \nSkills: 3.0\, 3.5\, 4.0\, 4.5 \nSkill and Age brackets will be determined after registration deadline.Tournament Director has the right to combine skill/age brackets based on skill/age team numbers. Divisions will be played as either round robin or double elimination depending on bracket size after registration closes. \nNo Membership in any association is required for registration.
URL:https://explorebeaufortsc.com/event/gnmc-pickleball-classic-tournament-2/
LOCATION:Beaufort Yacht & Sailing Club\, Beaufort Yacht & Sailing Club
END:VEVENT
BEGIN:VEVENT
DTSTART;TZID=America/New_York:20260418T080000
DTEND;TZID=America/New_York:20260418T110000
DTSTAMP:20260425T093223
CREATED:20260415T225041Z
LAST-MODIFIED:20260415T225041Z
UID:26539-1776499200-1776510000@explorebeaufortsc.com
SUMMARY:Frogfest 2026
DESCRIPTION:In celebration of South Carolina Aviation Week\, Beaufort County Airports is hosting the First Annual Frogfest 2026. It will be held Saturday\, April 18\, at Beaufort Executive Airport\, 39 Airport Circle\, Lady’s Island. \nFrogfest 2026 is open to the public and will kick off with the Flying Frog 5K/10K\, a runway race with all proceeds going to support OPFOB. The event also includes music\, food\, fun and airplanes. The event is $10\, however children 12 and younger are free. The event cost is included for registered Flying Frog 5K/10K runners.  \nRegistration Options \nThe Flying Frog 5k under 12$25Registration ends 4/16/26The Flying Frog 5k – Student ages 12-17$30Price increases after 3/31/26The Flying Frog 5k$35Price increases after 3/31/26The Flying Frog 10k $45Price increases after 3/31/26Register today for the Flying Frog 5K/10K. https://runsignup.com/Race/SC/LadysIsland/TheFlyingFrog5K?fbclid=IwY2xjawP8Vu1leHRuA2FlbQIxMABicmlkETF1WWVFdEQ4Zzk2U2Zmd3Rlc3J0YwZhcHBfaWQQMjIyMDM5MTc4ODIwMDg5MgABHleSa1t14v5Xy3QxW9_ntKpx3jNMdPNM7vrDNO_dPblB-36IA_49YI-ZGIH-_aem_UY3cEfl3VmfH_U7i26o01w&utm_medium=email&utm_source=govdelivery \n Please note: Registration is not refundable.
URL:https://explorebeaufortsc.com/event/frogfest-2026/
LOCATION:39 Airport Circle\, Beaufort\, SC\, United States\, South Carolina 29907\, 39 Airport Circle\, Beaufort\, SC\, United States\, South Carolina 29907
ORGANIZER;CN="Beaufort Executive Airport":MAILTO:noreply@facebookmail.com
END:VEVENT
BEGIN:VEVENT
DTSTART;TZID=America/New_York:20260418T100000
DTEND;TZID=America/New_York:20260418T160000
DTSTAMP:20260425T093223
CREATED:20260319T025712Z
LAST-MODIFIED:20260415T225041Z
UID:26099-1776506400-1776528000@explorebeaufortsc.com
SUMMARY:Frog Fest 4/18/2026 at Beaufort Executive Airport
DESCRIPTION:Distant Sounds is proud to join 8 other bands playing for no fee at the first annual Frog Fest on Sat 4/18 to benefit OPFOB\, a veterans retreat near Ridgeland.Music kicks off at 10:00 am with Chris Jones\, and runs till about 4:00 pm.Distant Sounds will be on stage roughly 12:30 to 1:00 pm.All proceeds go to OPFOB – come out for music\, food and beer\, and support our veterans and first responders! \nTickets only $10 for Frog Fest\, and kids under 12 are free.Bring your lawn chairs.Free parking.Runners in the 8am Flying Frog 5/10k are given free admission to Frog Fest.
URL:https://explorebeaufortsc.com/event/frog-fest-4-18-2026-at-beaufort-executive-airport/
LOCATION:Beaufort Executive Airport\, 39 Airport Circle\, Beaufort\, SC\, 29907\, US
ORGANIZER;CN="Distant Sounds":MAILTO:noreply@facebookmail.com
END:VEVENT
BEGIN:VEVENT
DTSTART;TZID=America/New_York:20260418T103000
DTEND;TZID=America/New_York:20260418T120000
DTSTAMP:20260425T093223
CREATED:20260408T014803Z
LAST-MODIFIED:20260415T225041Z
UID:26474-1776508200-1776513600@explorebeaufortsc.com
SUMMARY:Indigo Dye Workshop - RSVP Required
DESCRIPTION:Click the orange “Book A Program” button on our website to RSVPportroyalsoundfoundation.org \n$15 per participant (Plus fees) \nLearn about the history of indigo usage and how to dye fabrics using “Shibori” techniques. All participants will be provided one flour sack towel to dye. \nYou may bring in one t-shirt per participant. This shirt must be made of 100% cotton and pre-washed with no fabric softener prior to the program. If these directions are not followed\, your shirt will not be dyed. \nThis activity will be hosted partially outdoors and may be cancelled due to weather. Please wear clothes fit for the weather conditions and that can be stained\, as you will be working with dye. \nAge: 10+ ONLY\, children must be accompanied by an adult. \nhttps://www.facebook.com/events/1702634254430835/?event_time_id=1702634261097501
URL:https://explorebeaufortsc.com/event/indigo-dye-workshop-rsvp-required-3/
LOCATION:310 Okatie Hwy\, Okatie\, SC\, United States\, South Carolina 29909\, 310 Okatie Hwy\, Okatie\, SC\, United States\, South Carolina 29909
ORGANIZER;CN="Port Royal Sound Foundation":MAILTO:noreply@facebookmail.com
END:VEVENT
BEGIN:VEVENT
DTSTART;TZID=America/New_York:20260418T103000
DTEND;TZID=America/New_York:20260418T120000
DTSTAMP:20260425T093223
CREATED:20260408T014804Z
LAST-MODIFIED:20260415T225041Z
UID:26475-1776508200-1776513600@explorebeaufortsc.com
SUMMARY:Eco Boat Tour with Beaufort Dolphin Adventures
DESCRIPTION:Join Beaufort Dolphin Adventures for a boat tour from the Maritime Center to experience the Port Royal Sound up close. On these tours we’ll look for dolphins and wildlife while seeing and learning about our vibrant salt marsh ecosystem and waterways. We’ll also touch on some of the Sound’s colorful history. These 90-minute trips aregeared towards all ages.  \nPricing: $40 Adults\, $20 Children 12 to 3\, Infants 2 and Under are Free. \nTickets & information available here:www.beaufortdolphinadventures.com/port-royal-sound-foundation
URL:https://explorebeaufortsc.com/event/eco-boat-tour-with-beaufort-dolphin-adventures/
LOCATION:310 Okatie Hwy\, Okatie\, SC\, United States\, South Carolina 29909\, 310 Okatie Hwy\, Okatie\, SC\, United States\, South Carolina 29909
ORGANIZER;CN="Port Royal Sound Foundation":MAILTO:noreply@facebookmail.com
END:VEVENT
BEGIN:VEVENT
DTSTART;TZID=America/New_York:20260418T110000
DTEND;TZID=America/New_York:20260418T140000
DTSTAMP:20260425T093223
CREATED:20260307T223806Z
LAST-MODIFIED:20260415T225041Z
UID:25958-1776510000-1776520800@explorebeaufortsc.com
SUMMARY:2026 Soft Shell Crab Festival
DESCRIPTION:This year’s Soft Shell Crab Festival will be held on Saturday\, April 18\, 2026 along Paris Avenue. A beloved Lowcountry spring tradition\, the festival celebrates the soft shell crab season with fresh local seafood\, live music\, arts & crafts vendors\, children’s activities\, and much more.
URL:https://explorebeaufortsc.com/event/2026-soft-shell-crab-festival/
LOCATION:Port Royal SC
ORGANIZER;CN="Old Village Association of Port Royal":MAILTO:noreply@facebookmail.com
END:VEVENT
BEGIN:VEVENT
DTSTART;TZID=America/New_York:20260418T193000
DTEND;TZID=America/New_York:20260418T220000
DTSTAMP:20260425T093223
CREATED:20260110T183139Z
LAST-MODIFIED:20260408T014804Z
UID:25438-1776540600-1776549600@explorebeaufortsc.com
SUMMARY:Beaufort Theatre Company Presents: Into the Woods
DESCRIPTION:Get lost in a magical forest of fairy tales with Beaufort Theatre Company’s enchanting production of Into the Woods! This beloved Stephen Sondheim musical weaves together timeless stories—Cinderella\, Jack and the Beanstalk\, Little Red Riding Hood\, and more—with witty lyrics\, lush music\, and a deeper message about wishes\, consequences\, and community. Don’t miss this spellbinding journey that’s as heartfelt and funny as it is thought-provoking—a perfect night out for theatre lovers of all ages!​Tickets:Adult $35Senior/Military $30Student $20 \nhttps://www.facebook.com/events/733138872836487/?event_time_id=733138879503153
URL:https://explorebeaufortsc.com/event/beaufort-theatre-company-presents-into-the-woods-4/
LOCATION:801 Carteret St\, Beaufort\, SC\, United States\, South Carolina 29902\, 801 Carteret St\, Beaufort\, SC\, United States\, South Carolina 29902
ORGANIZER;CN="USCB Center for the Arts":MAILTO:noreply@facebookmail.com
END:VEVENT
BEGIN:VEVENT
DTSTART;TZID=America/New_York:20260418T193000
DTEND;TZID=America/New_York:20260418T214500
DTSTAMP:20260425T093223
CREATED:20260415T225041Z
LAST-MODIFIED:20260415T225041Z
UID:26543-1776540600-1776548700@explorebeaufortsc.com
SUMMARY:Always…Patsy Cline
DESCRIPTION:Do you remember the first time you heard Patsy Cline?That voice\, those stories\, the songs that never really left you. Now her story comes to life on our stage in Always… Patsy Cline\, a heartfelt\, toe-tapping tribute to one of country music’s most unforgettable voices. Featuring classics like “Crazy\,” “Walkin’ After Midnight\,” and more\, this must-see production runs April 11\, 12\, 17–19.Starring Elaine O’Connell Lake as Patsy Cline and Melissa Florence as Louise\, this is a night of music and storytelling you won’t want to miss. Proudly sponsored by our friends at Beaufort Memorial Hospital. Get your tickets now at uscbcenterforthearts.com. Adult $35\, Senior/Military $30\, Student/Child plus tax and fees
URL:https://explorebeaufortsc.com/event/alwayspatsy-cline/
LOCATION:801 Carteret St\, Beaufort\, SC\, 801 Carteret St\, Beaufort\, SC
ORGANIZER;CN="USCB Center for the Arts":MAILTO:noreply@facebookmail.com
END:VEVENT
END:VCALENDAR