BEGIN:VCALENDAR
VERSION:2.0
PRODID:-//Explore Beaufort SC - ECPv6.15.20//NONSGML v1.0//EN
CALSCALE:GREGORIAN
METHOD:PUBLISH
X-ORIGINAL-URL:https://explorebeaufortsc.com
X-WR-CALDESC:Events for Explore Beaufort SC
REFRESH-INTERVAL;VALUE=DURATION:PT1H
X-Robots-Tag:noindex
X-PUBLISHED-TTL:PT1H
BEGIN:VTIMEZONE
TZID:America/New_York
BEGIN:DAYLIGHT
TZOFFSETFROM:-0500
TZOFFSETTO:-0400
TZNAME:EDT
DTSTART:20250309T070000
END:DAYLIGHT
BEGIN:STANDARD
TZOFFSETFROM:-0400
TZOFFSETTO:-0500
TZNAME:EST
DTSTART:20251102T060000
END:STANDARD
BEGIN:DAYLIGHT
TZOFFSETFROM:-0500
TZOFFSETTO:-0400
TZNAME:EDT
DTSTART:20260308T070000
END:DAYLIGHT
BEGIN:STANDARD
TZOFFSETFROM:-0400
TZOFFSETTO:-0500
TZNAME:EST
DTSTART:20261101T060000
END:STANDARD
BEGIN:DAYLIGHT
TZOFFSETFROM:-0500
TZOFFSETTO:-0400
TZNAME:EDT
DTSTART:20270314T070000
END:DAYLIGHT
BEGIN:STANDARD
TZOFFSETFROM:-0400
TZOFFSETTO:-0500
TZNAME:EST
DTSTART:20271107T060000
END:STANDARD
END:VTIMEZONE
BEGIN:VEVENT
DTSTART;TZID=America/New_York:20260416T100000
DTEND;TZID=America/New_York:20260419T180000
DTSTAMP:20260425T092152
CREATED:20260415T225039Z
LAST-MODIFIED:20260415T225039Z
UID:26531-1776333600-1776621600@explorebeaufortsc.com
SUMMARY:Exclusive Sales Event\, Yemassee Le Creuset: Beyond the Box
DESCRIPTION:Discover unbeatable savings at Yemassee’s exclusive Beyond the Box Sale\, featuring deep discounts on select out of the box cookware in Cast Iron\, Stoneware\, Enamel on Steel and more. \nPlus enjoy 25% off storewide savings\, and a gift with $250 purchase!
URL:https://explorebeaufortsc.com/event/exclusive-sales-event-yemassee-le-creuset-beyond-the-box/
LOCATION:18 Lane St\, Yemassee\, SC 29945-2252\, United States\, 18 Lane St\, Yemassee\, SC 29945-2252\, United States
END:VEVENT
BEGIN:VEVENT
DTSTART;TZID=America/New_York:20260418T080000
DTEND;TZID=America/New_York:20260419T220000
DTSTAMP:20260425T092152
CREATED:20260415T225041Z
LAST-MODIFIED:20260415T225041Z
UID:26540-1776499200-1776636000@explorebeaufortsc.com
SUMMARY:GNMC Pickleball Classic Tournament
DESCRIPTION:Want to play fun\, competitive pickleball and help your neighbors in need of medical care? If so\, the GNMC (Good Neighbor Medical Clinic) Pickleball Classic is for you! \nJoin us as we host our 5th Annual GNMC Pickleball Classic Tournament on April 18 and 19\, 2026 at the Beaufort Yacht & Sailing Club and help provide needed funding and awareness to the work GNMC does in our community. Did you know that last year\, GNMC provided $4.8 million in services to over 700 patients right here in Beaufort? \nAdditional Event InformationRegistration is $85 (includes 2 events)Register here: https://swishtournaments.com/product/good-neighbor-medical-clinic/Registration ends April 14\, 2026. \nThis fun event will include:– Ability to order a FREE Tournament T-shirt delivered to your home– Lunch for players– Amazing auction available online and at the event \nSCHEDULE 6 Courts | Staggered Division FormatStart times are approximate and subject to change. \nSaturday – April 18 \nWomen’s Doubles (Morning)8:00 AM – Check-In Opens9:00 AM – Pool Play Begins • 3.0 Division • 4.0 DivisionApprox. 11:30 AM – 3.5 Division Pool Play Begins \nBrackets follow completion of pool play.Awards follow final matches. \nMen’s Doubles (Afternoon)12:30 PM – Check-In Opens1:30 PM – Pool Play Begins • 3.0 Division • 4.0 DivisionApprox. 4:00 PM – 3.5 Division Pool Play Begins \nBrackets follow completion of pool play.Awards follow the final matches. \nSunday – April 19 \nMixed Doubles8:00 AM – Check-In Opens9:00 AM – Pool Play Begins • 3.0 Division • 4.0 DivisionApprox. 11:30 AM – 3.5 Division Pool Play Begins \nBrackets follow completion of pool play.Awards follow the final matches. \nSkills: 3.0\, 3.5\, 4.0\, 4.5 \nSkill and Age brackets will be determined after registration deadline.Tournament Director has the right to combine skill/age brackets based on skill/age team numbers. Divisions will be played as either round robin or double elimination depending on bracket size after registration closes. \nNo Membership in any association is required for registration.
URL:https://explorebeaufortsc.com/event/gnmc-pickleball-classic-tournament-2/
LOCATION:Beaufort Yacht & Sailing Club\, Beaufort Yacht & Sailing Club
END:VEVENT
BEGIN:VEVENT
DTSTART;TZID=America/New_York:20260419T120000
DTEND;TZID=America/New_York:20260419T140000
DTSTAMP:20260425T092152
CREATED:20260328T160936Z
LAST-MODIFIED:20260328T160936Z
UID:26397-1776600000-1776607200@explorebeaufortsc.com
SUMMARY:Hedgehog Beginner Needle Felting Class at Marshview Mercantile
DESCRIPTION:Ever wanted to turn a fluffy cloud of wool into a tiny woodland roommate? Perfect. That’s exactly what we’re doing. \nIn this beginner-friendly workshop\, you’ll take a humble puff of roving and transform it into an absurdly adorable hedgehog. \nYou’ll be guided through shaping\, firming\, adding sweet little features\, and giving your hedgehog its sweet personality. \nAll supplies & tools provided. \nThis class involves enthusiastic\, repetitive poking of wool. It is oddly soothing and slightly addictive. \nCome make a tiny friend. Therapy but fluffier. \n\nApril 19\, 12-2p\n2631 Boundary Street\, Beaufort\nRegister: \nhttps://marshviewmercantile.commentsold.com/products/hedgehog-beginner-needle-felting
URL:https://explorebeaufortsc.com/event/hedgehog-beginner-needle-felting-class-at-marshview-mercantile/
LOCATION:Marshview Mercantile\, 2631 Boundary St\, Beaufort\, SC\, 29906\, US
ATTACH;FMTTYPE=image/jpeg:https://explorebeaufortsc.com/wp-content/uploads/2026/03/marshviewhedgehog.jpg
END:VEVENT
BEGIN:VEVENT
DTSTART;TZID=America/New_York:20260419T150000
DTEND;TZID=America/New_York:20260419T180000
DTSTAMP:20260425T092152
CREATED:20260110T183139Z
LAST-MODIFIED:20260408T014804Z
UID:25439-1776610800-1776621600@explorebeaufortsc.com
SUMMARY:Beaufort Theatre Company Presents: Into the Woods
DESCRIPTION:Get lost in a magical forest of fairy tales with Beaufort Theatre Company’s enchanting production of Into the Woods! This beloved Stephen Sondheim musical weaves together timeless stories—Cinderella\, Jack and the Beanstalk\, Little Red Riding Hood\, and more—with witty lyrics\, lush music\, and a deeper message about wishes\, consequences\, and community. Don’t miss this spellbinding journey that’s as heartfelt and funny as it is thought-provoking—a perfect night out for theatre lovers of all ages!​Tickets:Adult $35Senior/Military $30Student $20 \nhttps://www.facebook.com/events/733138872836487/?event_time_id=733138882836486
URL:https://explorebeaufortsc.com/event/beaufort-theatre-company-presents-into-the-woods-5/
LOCATION:801 Carteret St\, Beaufort\, SC\, United States\, South Carolina 29902\, 801 Carteret St\, Beaufort\, SC\, United States\, South Carolina 29902
ORGANIZER;CN="USCB Center for the Arts":MAILTO:noreply@facebookmail.com
END:VEVENT
END:VCALENDAR