BEGIN:VCALENDAR
VERSION:2.0
PRODID:-//Explore Beaufort SC - ECPv6.15.20//NONSGML v1.0//EN
CALSCALE:GREGORIAN
METHOD:PUBLISH
X-ORIGINAL-URL:https://explorebeaufortsc.com
X-WR-CALDESC:Events for Explore Beaufort SC
REFRESH-INTERVAL;VALUE=DURATION:PT1H
X-Robots-Tag:noindex
X-PUBLISHED-TTL:PT1H
BEGIN:VTIMEZONE
TZID:America/New_York
BEGIN:DAYLIGHT
TZOFFSETFROM:-0500
TZOFFSETTO:-0400
TZNAME:EDT
DTSTART:20250309T070000
END:DAYLIGHT
BEGIN:STANDARD
TZOFFSETFROM:-0400
TZOFFSETTO:-0500
TZNAME:EST
DTSTART:20251102T060000
END:STANDARD
BEGIN:DAYLIGHT
TZOFFSETFROM:-0500
TZOFFSETTO:-0400
TZNAME:EDT
DTSTART:20260308T070000
END:DAYLIGHT
BEGIN:STANDARD
TZOFFSETFROM:-0400
TZOFFSETTO:-0500
TZNAME:EST
DTSTART:20261101T060000
END:STANDARD
BEGIN:DAYLIGHT
TZOFFSETFROM:-0500
TZOFFSETTO:-0400
TZNAME:EDT
DTSTART:20270314T070000
END:DAYLIGHT
BEGIN:STANDARD
TZOFFSETFROM:-0400
TZOFFSETTO:-0500
TZNAME:EST
DTSTART:20271107T060000
END:STANDARD
END:VTIMEZONE
BEGIN:VEVENT
DTSTART;TZID=America/New_York:20260501T170000
DTEND;TZID=America/New_York:20260501T220000
DTSTAMP:20260425T092110
CREATED:20260225T004321Z
LAST-MODIFIED:20260415T225048Z
UID:25879-1777654800-1777672800@explorebeaufortsc.com
SUMMARY:Taste of Beaufort Day 1
DESCRIPTION:The annual Taste of Beaufort Festival returns to the beautiful Henry C. Chambers Waterfront Park — and Friday night is where the celebration begins. \nFrom 5:00–10:00pm\, experience an unforgettable evening filled with the best culinary dishes from across the Lowcountry. From coastal classics to chef-inspired creations\, Beaufort’s restaurants will be serving up samplings that make this festival a true foodie’s dream. \nEnjoy live entertainment throughout the evening:5:00pm – Welcome from our Emcee5:15pm – 7:00pm – Cody Webb7:30pm – 9:45pm – Deas-Guyz \nPlus\, explore the Craft Market (12:00pm–6:00pm) featuring local artisans and unique finds. \nBring your appetite. Bring your friends. And ring in the weekend with flavor\, music\, and waterfront views.
URL:https://explorebeaufortsc.com/event/taste-of-beaufort-day-1/
LOCATION:Henry C Chambers Waterfront Park
ORGANIZER;CN="Taste of Beaufort":MAILTO:noreply@facebookmail.com
END:VEVENT
BEGIN:VEVENT
DTSTART;TZID=America/New_York:20260501T170000
DTEND;TZID=America/New_York:20260501T200000
DTSTAMP:20260425T092110
CREATED:20260408T014807Z
LAST-MODIFIED:20260415T225048Z
UID:26490-1777654800-1777665600@explorebeaufortsc.com
SUMMARY:First Friday Burger Night at Sister Sister
DESCRIPTION:First Friday Burger Night at Sister Sister — every first Friday of the month\, starting May 1st. \nSister Sister Smash Burgers on house-made milk buns — available 5–8pm only. You’ll have to stay tuned to see what we’ve got planned\, but we can promise one thing– if there’s bacon — it will be Nueske’s. \nAnd if you haven’t been able to catch us during our regular hours\, First Friday is your chance — we’ll be open late with our full menu all evening. \nSettle into the patio\, grab a glass\, snack on cheese and charcuterie\, and make a night of it.Full menu all day 11–8. Market & deli open. Wine. Always wine. Local Beers. Craft Sodas.  \n403 Carteret St.\, Downtown Beaufort. \nhttps://www.facebook.com/events/2242705709631984/?event_time_id=2242705712965317
URL:https://explorebeaufortsc.com/event/first-friday-burger-night-at-sister-sister/
LOCATION:403 Carteret St.\, Beaufort\, SC\, United States\, South Carolina 29902\, 403 Carteret St.\, Beaufort\, SC\, United States\, South Carolina 29902
END:VEVENT
BEGIN:VEVENT
DTSTART;TZID=America/New_York:20260501T180000
DTEND;TZID=America/New_York:20260501T210000
DTSTAMP:20260425T092110
CREATED:20260408T014807Z
LAST-MODIFIED:20260415T225048Z
UID:26491-1777658400-1777669200@explorebeaufortsc.com
SUMMARY:PEARLS TO PLUFF MUD
DESCRIPTION:Pearls to Pluff Mud is Cross Schools’ signature annual gala\, now celebrating its 20th year. This themed evening brings together families and community leaders from across the Lowcountry for an unforgettable night of dinner\, live entertainment\, and both silent and live auctions. It has become one of the most anticipated spring events in the region and a meaningful opportunity to gather\, celebrate\, and connect.Learn more about the event at PearlsPluffmud.org
URL:https://explorebeaufortsc.com/event/pearls-to-pluff-mud/
LOCATION:Port Royal Sound Foundation
ORGANIZER;CN="Cross Schools":MAILTO:noreply@facebookmail.com
END:VEVENT
END:VCALENDAR