BEGIN:VCALENDAR
VERSION:2.0
PRODID:-//Explore Beaufort SC - ECPv6.15.20//NONSGML v1.0//EN
CALSCALE:GREGORIAN
METHOD:PUBLISH
X-WR-CALNAME:Explore Beaufort SC
X-ORIGINAL-URL:https://explorebeaufortsc.com
X-WR-CALDESC:Events for Explore Beaufort SC
REFRESH-INTERVAL;VALUE=DURATION:PT1H
X-Robots-Tag:noindex
X-PUBLISHED-TTL:PT1H
BEGIN:VTIMEZONE
TZID:America/New_York
BEGIN:DAYLIGHT
TZOFFSETFROM:-0500
TZOFFSETTO:-0400
TZNAME:EDT
DTSTART:20250309T070000
END:DAYLIGHT
BEGIN:STANDARD
TZOFFSETFROM:-0400
TZOFFSETTO:-0500
TZNAME:EST
DTSTART:20251102T060000
END:STANDARD
BEGIN:DAYLIGHT
TZOFFSETFROM:-0500
TZOFFSETTO:-0400
TZNAME:EDT
DTSTART:20260308T070000
END:DAYLIGHT
BEGIN:STANDARD
TZOFFSETFROM:-0400
TZOFFSETTO:-0500
TZNAME:EST
DTSTART:20261101T060000
END:STANDARD
BEGIN:DAYLIGHT
TZOFFSETFROM:-0500
TZOFFSETTO:-0400
TZNAME:EDT
DTSTART:20270314T070000
END:DAYLIGHT
BEGIN:STANDARD
TZOFFSETFROM:-0400
TZOFFSETTO:-0500
TZNAME:EST
DTSTART:20271107T060000
END:STANDARD
END:VTIMEZONE
BEGIN:VEVENT
DTSTART;TZID=America/New_York:20260508T173000
DTEND;TZID=America/New_York:20260508T203000
DTSTAMP:20260425T105314
CREATED:20260326T215623Z
LAST-MODIFIED:20260415T225050Z
UID:26204-1778261400-1778272200@explorebeaufortsc.com
SUMMARY:70th Annual Beaufort Water Festival Fishing Tournament Captain’s Meeting
DESCRIPTION:All boats should send a representative to the meeting at Beaufort Boat & Dock Supply in Port Royal on May 8 at 5:30pm. The meeting will be the deadline for all entries\, plus a chance to get bait and last minute tackle!Weigh ins are May 9\, 2026 or May 16\, 2026 with the banquet scheduled for May 17th at 2 pm at Live Oaks Park. Check out the link below to register!  \nhttps://www.bftwaterfestival.com/fishing-tournament.html#/
URL:https://explorebeaufortsc.com/event/70th-annual-beaufort-water-festival-fishing-tournament-captains-meeting/
LOCATION:Beaufort Boat & Dock Supply\, Beaufort Boat & Dock Supply
ORGANIZER;CN="Annual Beaufort Water Festival":MAILTO:noreply@facebookmail.com
END:VEVENT
END:VCALENDAR