BEGIN:VCALENDAR
VERSION:2.0
PRODID:-//Explore Beaufort SC - ECPv6.15.20//NONSGML v1.0//EN
CALSCALE:GREGORIAN
METHOD:PUBLISH
X-ORIGINAL-URL:https://explorebeaufortsc.com
X-WR-CALDESC:Events for Explore Beaufort SC
REFRESH-INTERVAL;VALUE=DURATION:PT1H
X-Robots-Tag:noindex
X-PUBLISHED-TTL:PT1H
BEGIN:VTIMEZONE
TZID:America/New_York
BEGIN:DAYLIGHT
TZOFFSETFROM:-0500
TZOFFSETTO:-0400
TZNAME:EDT
DTSTART:20250309T070000
END:DAYLIGHT
BEGIN:STANDARD
TZOFFSETFROM:-0400
TZOFFSETTO:-0500
TZNAME:EST
DTSTART:20251102T060000
END:STANDARD
BEGIN:DAYLIGHT
TZOFFSETFROM:-0500
TZOFFSETTO:-0400
TZNAME:EDT
DTSTART:20260308T070000
END:DAYLIGHT
BEGIN:STANDARD
TZOFFSETFROM:-0400
TZOFFSETTO:-0500
TZNAME:EST
DTSTART:20261101T060000
END:STANDARD
BEGIN:DAYLIGHT
TZOFFSETFROM:-0500
TZOFFSETTO:-0400
TZNAME:EDT
DTSTART:20270314T070000
END:DAYLIGHT
BEGIN:STANDARD
TZOFFSETFROM:-0400
TZOFFSETTO:-0500
TZNAME:EST
DTSTART:20271107T060000
END:STANDARD
END:VTIMEZONE
BEGIN:VEVENT
DTSTART;TZID=America/New_York:20260509T090000
DTEND;TZID=America/New_York:20260509T120000
DTSTAMP:20260425T105717
CREATED:20260415T225050Z
LAST-MODIFIED:20260415T225050Z
UID:26579-1778317200-1778328000@explorebeaufortsc.com
SUMMARY:Saltwater Pier Fishing Clinic at Hunting Island State Park
DESCRIPTION:Our Fishing Clinics are introductory classes to saltwater fishing. The pier fishing clinics will teach you skills on how to tie fishing knots\, how to rig a rod and reel\, casting\, and the best part is everyone will get to try their hand at pier fishing. \nKids from ages 6 to adults are welcome\, so come out and play\, enjoy the outdoors\, and make this a Fishing Fun Day! \nYou must RSVP to attend.
URL:https://explorebeaufortsc.com/event/saltwater-pier-fishing-clinic-at-hunting-island-state-park-2/
LOCATION:Hunting Island State Park\, Beaufort\, SC\, 29920\, US
ORGANIZER;CN="South Carolina Department of Natural Resources":MAILTO:noreply@facebookmail.com
END:VEVENT
BEGIN:VEVENT
DTSTART;TZID=America/New_York:20260509T100000
DTEND;TZID=America/New_York:20260509T170000
DTSTAMP:20260425T105717
CREATED:20260225T004321Z
LAST-MODIFIED:20260415T225050Z
UID:25881-1778320800-1778346000@explorebeaufortsc.com
SUMMARY:Mayfest 2026
DESCRIPTION:Mayfest 2026!! May 9th 10am-5pm EST!!  \nGet ready for our community’s free admission event in Old Town Bluffton\, SC. Come out and enjoy over 160 vendors/artists\, 30+ food trucks from around the area and two stages featuring music from local bands that will not disappoint!! \nMartin Family Park Stage10-11am – Bluffton School of Dance11-1pm – Exit 82-4:30pm – Peach Patrol \nBridge Street Stage10:30-12:45pm – DJ Luke1-3:30pm – The String Surfers3:45-5pm – DJ Luke back on!! \nA few tips to help you enjoy your experience at Mayfest: \n🚗 Parking at M.C. Riley and Red Cedar Elementary with shuttle services!👟 A good pair of walking-shoes will serve you well\, your feet with thank you later!🪑The event will take place at our beautiful parks\, so bring a comfy chair and relax!🕶Sunglasses will block the sun and allow you to see more than 160 Artists and Food Vendors!🧴Don’t forget bug spray!Who enjoys bugs anyways?!☀️ Sunscreen will be your friend\, especially on a Saturday in May.Don’t be a lobster!🐾 Friendly dogs are welcome\, but please\, keep them on a leash.☂️ Inclement weather plan. More details as we get closer to the event!
URL:https://explorebeaufortsc.com/event/mayfest-2026/
LOCATION:Old Town\, Old Town
ORGANIZER;CN="Bluffton Mayfest":MAILTO:noreply@facebookmail.com
END:VEVENT
BEGIN:VEVENT
DTSTART;TZID=America/New_York:20260509T100000
DTEND;TZID=America/New_York:20260509T160000
DTSTAMP:20260425T105717
CREATED:20260408T014808Z
LAST-MODIFIED:20260415T225050Z
UID:26496-1778320800-1778342400@explorebeaufortsc.com
SUMMARY:Port Royal 2nd Saturday Shop & Stroll & Pet Adoption
DESCRIPTION:Join us for a fun-filled day at the Paris Avenue 2nd Saturday Shop & Stroll & Pet Adoption! Spend your Saturday exploring local shops\, discovering unique finds\, and enjoying the charm of our community while strolling down Paris Avenue. \nAs you browse and support small businesses\, you’ll also have the opportunity to meet adorable pets looking for their forever homes. Whether you’re shopping\, sipping\, or simply soaking in the atmosphere\, there’s something for everyone—families\, friends\, and animal lovers alike. \nCome out\, connect with the community\, and maybe even leave with a new furry friend. It’s the perfect way to spend a Saturday!
URL:https://explorebeaufortsc.com/event/port-royal-2nd-saturday-shop-stroll-pet-adoption/
LOCATION:Paris Ave\, Port Royal\, SC 29935\, United States
END:VEVENT
BEGIN:VEVENT
DTSTART;TZID=America/New_York:20260509T100000
DTEND;TZID=America/New_York:20260509T170000
DTSTAMP:20260425T105717
CREATED:20260415T225051Z
LAST-MODIFIED:20260415T225051Z
UID:26581-1778320800-1778346000@explorebeaufortsc.com
SUMMARY:Krewe Trunk Show at Beverly's Off Bay
DESCRIPTION:Join us for a special Krewe Trunk Show at Beverly’s Off Bay! \n✨ May 9 | Saturday\, 10–5 PM | 219 Scott St. \nCome sip\, shop\, and celebrate with us! We’re featuring gorgeous Krewe sunglasses- perfect for refreshing your summer style. Enjoy sipping on champagne while you browse\, and don’t miss your chance to win a free pair of Krewe sunglasses in our giveaway!  \nMake it part of your perfect day: swing by Beverly’s before heading out for your downtown date night\, girls’ night out\, or evening plans. We can’t wait to see you & share one of our favorite lines with you\, Beaufort! ✨
URL:https://explorebeaufortsc.com/event/krewe-trunk-show-at-beverlys-off-bay/
LOCATION:Beverly’s Off Bay\, Beverly's Off Bay
ORGANIZER;CN="Beverly's Off Bay":MAILTO:noreply@facebookmail.com
END:VEVENT
BEGIN:VEVENT
DTSTART;TZID=America/New_York:20260509T120000
DTEND;TZID=America/New_York:20260509T153000
DTSTAMP:20260425T105717
CREATED:20260319T025719Z
LAST-MODIFIED:20260415T225051Z
UID:26103-1778328000-1778340600@explorebeaufortsc.com
SUMMARY:6th Annual Beaufort County Bike Show
DESCRIPTION:Beaufort County Bike Show – 9 May 2026 (Rain Date 23 May 2026) \nGet ready for an awesome day of bikes\, food\, and fun!📍 Location: 3116 Trask Parkway🕛 Gates Open: 12:00 PM – 3:30 PM🎪 What to Expect:✅ Tons of vendors🍔 Delicious food🎉 Fun for the whole family with a bounce house for the kids \nCome out and enjoy the sights\, sounds\, and community vibes. Whether you ride\, or just want to check them out and have a great time—you don’t want to miss this! \nRev Up for the 6th Annual Beaufort County Bike Show! \nJoin us for an exciting day celebrating bikes of all styles at our 6th Annual Beaufort County Bike Show! Register to compete in one of the following classes:🏆 Custom Class🏆 Antique (25+ years old) Class🏆 Bagger Class🏆 Cruiser Class🏆 Sportbike Class🏆 Open Production Class🏆 People’s Choice ClassGot a unique chopper\, trike\, or production ride? The Open Production Class might be your perfect fit! (Some class restrictions apply.) \n🎟 Spectator admission is FREE!🔥 Event Highlights:✔️ Awards & Prizes✔️ Food & Drinks✔️ Apparel & Merchandise✔️ Live Entertainment✔️ Family Friendly Activities✔️ Bounce Houses \nWant to be a vendor? Contact us for details! Sponsorships are also available with promotional opportunities. \n🚨 Gates open to the General Public at 12 PM.🚨 All participants must be set up by 12 PM. \nDon’t miss out—gear up and ride in for a day of fun\, competition\, and community! 🚴‍♂️🏍
URL:https://explorebeaufortsc.com/event/6th-annual-beaufort-county-bike-show/
LOCATION:3116 Trask Parkway\, Beaufort\, SC\, United States\, South Carolina 29906\, 3116 Trask Parkway\, Beaufort\, SC\, United States\, South Carolina 29906
ORGANIZER;CN="Wingmen Motorcycle Club Beaufort County Chapter":MAILTO:noreply@facebookmail.com
END:VEVENT
BEGIN:VEVENT
DTSTART;TZID=America/New_York:20260509T180000
DTEND;TZID=America/New_York:20260509T210000
DTSTAMP:20260425T105717
CREATED:20260408T014808Z
LAST-MODIFIED:20260415T225051Z
UID:26499-1778349600-1778360400@explorebeaufortsc.com
SUMMARY:Lowcountry Chapter CCA Banquet
DESCRIPTION:Join Lowcountry Chapter CCA for an evening dedicated to conservation\, community\, and South Carolina’s coastal fisheries. \n📍 Location: Beaufort Academy\, 240 Same Point Rd. Beaufort\, SC📅 Date: Saturday\, May 9\, 2026⏰ Time: 6-10pm \nThis event will feature great food\, raffles\, auctions\, and the chance to connect with fellow anglers and conservation-minded supporters — all while helping fund CCA SC’s mission to protect and restore our coastal resources. \n🎟️ Tickets & tables: https://ccasouthcarolina.com/chapter/lowcountry/ \nWe hope to see you there!
URL:https://explorebeaufortsc.com/event/lowcountry-chapter-cca-banquet/
LOCATION:Beaufort Academy\, Beaufort Academy
ORGANIZER;CN="Coastal Conservation Association South Carolina":MAILTO:noreply@facebookmail.com
END:VEVENT
BEGIN:VEVENT
DTSTART;TZID=America/New_York:20260509T190000
DTEND;TZID=America/New_York:20260509T220000
DTSTAMP:20260425T105717
CREATED:20260408T014809Z
LAST-MODIFIED:20260415T225051Z
UID:26500-1778353200-1778364000@explorebeaufortsc.com
SUMMARY:Wild Nights - May Ballroom Dance Party
DESCRIPTION:🌿✨ Wild Nights ✨🌿 \nGet ready to dance under the canopy! Wild Nights is a jungle-themed ballroom dance party where elegance meets the untamed. Dress in your favorite animal prints or jungle green. Come wild. Dance free. 🐆💚🌺 \nWild Nights Ballroom Dance Party 🐆〰️ Saturday\, May 9th 〰️ \n◽️ 7:00 – 7:30 PM Beginner Salsa lesson◽️ 7:30 – 10:00 PM Social Dancing◽️ Our playlist features a mix of Ballroom\, Latin\, Swing\, Salsa\, Bachata\, and Argentine Tango◽️ Light refreshments & iced tea◽️ Admission: $20 (online or at the door)◽️ Open to the public (ages 18+)◽️ Singles & couples welcome◽️ Attire: Animal Prints or Jungle Green \n🎟️ Get Tickets: www.RevolutionBallroom.com/WildNights \nEvent Location:Revolution Ballroom2121 Boundary StSuite 207Beaufort\, SC 29902
URL:https://explorebeaufortsc.com/event/wild-nights-may-ballroom-dance-party/
LOCATION:2121 Boundary St\, Suite 207\, Beaufort\, SC\, United States\, South Carolina 29902\, 2121 Boundary St\, Suite 207\, Beaufort\, SC\, United States\, South Carolina 29902
ORGANIZER;CN="Revolution Ballroom":MAILTO:noreply@facebookmail.com
END:VEVENT
BEGIN:VEVENT
DTSTART;TZID=America/New_York:20260509T190000
DTEND;TZID=America/New_York:20260509T220000
DTSTAMP:20260425T105717
CREATED:20260415T225051Z
LAST-MODIFIED:20260415T225051Z
UID:26584-1778353200-1778364000@explorebeaufortsc.com
SUMMARY:5th Annual Concert for the Heroes
DESCRIPTION:Get ready for an unforgettable night at OPFOB as we bring some of country music’s biggest names to the Lowcountry—all to support our nation’s veterans\, active-duty service members\, and first responders. \nThis year’s lineup includes:🎤 Lee Brice🎤 Jerrod Niemann🎤 Craig Campbell🎤 Rick Trevino \nThis concert isn’t just a show—it directly fuels OPFOB’s mission to combat veteran and first responder suicide through community\, connection\, and outdoor engagement. \nTickets are selling fast you don’t want to miss this amazing evening. \nVIP sells out every year—don’t wait to secure your spot. \nJoin us for a powerful night of music and patriotism under the Lowcountry sky. Let’s stand together For Those Who Serve.
URL:https://explorebeaufortsc.com/event/5th-annual-concert-for-the-heroes/
LOCATION:328 Lakeview Dr\, Ridgeland\, SC 29936-4448\, United States
ORGANIZER;CN="OPFOB":MAILTO:noreply@facebookmail.com
END:VEVENT
END:VCALENDAR