BEGIN:VCALENDAR
VERSION:2.0
PRODID:-//Explore Beaufort SC - ECPv6.15.20//NONSGML v1.0//EN
CALSCALE:GREGORIAN
METHOD:PUBLISH
X-ORIGINAL-URL:https://explorebeaufortsc.com
X-WR-CALDESC:Events for Explore Beaufort SC
REFRESH-INTERVAL;VALUE=DURATION:PT1H
X-Robots-Tag:noindex
X-PUBLISHED-TTL:PT1H
BEGIN:VTIMEZONE
TZID:America/New_York
BEGIN:DAYLIGHT
TZOFFSETFROM:-0500
TZOFFSETTO:-0400
TZNAME:EDT
DTSTART:20250309T070000
END:DAYLIGHT
BEGIN:STANDARD
TZOFFSETFROM:-0400
TZOFFSETTO:-0500
TZNAME:EST
DTSTART:20251102T060000
END:STANDARD
BEGIN:DAYLIGHT
TZOFFSETFROM:-0500
TZOFFSETTO:-0400
TZNAME:EDT
DTSTART:20260308T070000
END:DAYLIGHT
BEGIN:STANDARD
TZOFFSETFROM:-0400
TZOFFSETTO:-0500
TZNAME:EST
DTSTART:20261101T060000
END:STANDARD
BEGIN:DAYLIGHT
TZOFFSETFROM:-0500
TZOFFSETTO:-0400
TZNAME:EDT
DTSTART:20270314T070000
END:DAYLIGHT
BEGIN:STANDARD
TZOFFSETFROM:-0400
TZOFFSETTO:-0500
TZNAME:EST
DTSTART:20271107T060000
END:STANDARD
END:VTIMEZONE
BEGIN:VEVENT
DTSTART;TZID=America/New_York:20260514T120000
DTEND;TZID=America/New_York:20260514T123000
DTSTAMP:20260425T122103
CREATED:20260415T225051Z
LAST-MODIFIED:20260415T225051Z
UID:26587-1778760000-1778761800@explorebeaufortsc.com
SUMMARY:Mobile Symposium: Bluffton Legends & Lore
DESCRIPTION:Mobile Symposium: Bluffton Legends & Lore – Lecture Series with Glen Umberger\, the Town of Bluffton’s Historic PreservationistMay is Historic Preservation Month\, and to celebrate our community’s rich history\, the Town will host a series of talks throughout the month! \nTalks are held every Thursday in May from 12 to 12:30 PM at the Town of Bluffton Welcome Center (111 Calhoun Street\, Bluffton\, SC). \nMay 7 – The Squire Pope Carriage HouseMay 14 – Who Was Squire Pope?May 21 – The Church of the CrossMay 28 – The Burning of Bluffton \nhttps://www.facebook.com/events/1689565802039745/?event_time_id=1689565805373078
URL:https://explorebeaufortsc.com/event/mobile-symposium-bluffton-legends-lore-2/
LOCATION:111 Calhoun St\, Bluffton\, SC 29910\, United States\, 111 Calhoun St\, Bluffton\, SC 29910\, United States
ORGANIZER;CN="Town of Bluffton Government":MAILTO:noreply@facebookmail.com
END:VEVENT
END:VCALENDAR