BEGIN:VCALENDAR
VERSION:2.0
PRODID:-//Explore Beaufort SC - ECPv6.15.20//NONSGML v1.0//EN
CALSCALE:GREGORIAN
METHOD:PUBLISH
X-WR-CALNAME:Explore Beaufort SC
X-ORIGINAL-URL:https://explorebeaufortsc.com
X-WR-CALDESC:Events for Explore Beaufort SC
REFRESH-INTERVAL;VALUE=DURATION:PT1H
X-Robots-Tag:noindex
X-PUBLISHED-TTL:PT1H
BEGIN:VTIMEZONE
TZID:America/New_York
BEGIN:DAYLIGHT
TZOFFSETFROM:-0500
TZOFFSETTO:-0400
TZNAME:EDT
DTSTART:20250309T070000
END:DAYLIGHT
BEGIN:STANDARD
TZOFFSETFROM:-0400
TZOFFSETTO:-0500
TZNAME:EST
DTSTART:20251102T060000
END:STANDARD
BEGIN:DAYLIGHT
TZOFFSETFROM:-0500
TZOFFSETTO:-0400
TZNAME:EDT
DTSTART:20260308T070000
END:DAYLIGHT
BEGIN:STANDARD
TZOFFSETFROM:-0400
TZOFFSETTO:-0500
TZNAME:EST
DTSTART:20261101T060000
END:STANDARD
BEGIN:DAYLIGHT
TZOFFSETFROM:-0500
TZOFFSETTO:-0400
TZNAME:EDT
DTSTART:20270314T070000
END:DAYLIGHT
BEGIN:STANDARD
TZOFFSETFROM:-0400
TZOFFSETTO:-0500
TZNAME:EST
DTSTART:20271107T060000
END:STANDARD
END:VTIMEZONE
BEGIN:VEVENT
DTSTART;TZID=America/New_York:20260515T170000
DTEND;TZID=America/New_York:20260515T200000
DTSTAMP:20260425T105401
CREATED:20260311T180326Z
LAST-MODIFIED:20260415T225051Z
UID:26019-1778864400-1778875200@explorebeaufortsc.com
SUMMARY:Town of Bluffton Movie Nights in the Park - Lilo & Stitch
DESCRIPTION:Bring your friends\, family\, and neighbors to the Town of Bluffton Movie Nights in the park featuring🎞️: \nLilo & Stitch- Friday\, May 15\, 2026 (Martin Family Park) \nMusic and bounce houses begin at 5:00 pm\, and the movie starts at 6:00 pm\, rain or shine. This event is FREE\, but concessions/food trucks will be available for purchase. \nDon’t forget your blanket\, chairs\, and movie munchies!🍿See you at the movies\, Bluffton!
URL:https://explorebeaufortsc.com/event/town-of-bluffton-movie-nights-in-the-park-lilo-stitch/
LOCATION:Martin Family Park Historic Bluffton SC
ORGANIZER;CN="Town of Bluffton Government":MAILTO:noreply@facebookmail.com
END:VEVENT
BEGIN:VEVENT
DTSTART;TZID=America/New_York:20260515T190000
DTEND;TZID=America/New_York:20260515T200000
DTSTAMP:20260425T105401
CREATED:20260225T004321Z
LAST-MODIFIED:20260415T225052Z
UID:25882-1778871600-1778875200@explorebeaufortsc.com
SUMMARY:Beaufort Children's Theatre Presents: Seussical Jr.
DESCRIPTION:Get whisked away on a whimsical adventure with Beaufort Children’s Theatre’s Seussical Jr.! This colorful\, family‑friendly musical brings together your favorite Dr. Seuss characters—From Horton the elephant to the mischievous Whos of Whoville—in a playful tale of imagination\, friendship\, and believing in yourself. Packed with catchy songs\, vibrant costumes\, and lots of rhymes\, Seussical Jr. is a joyful celebration of creativity that’s perfect for audiences young and old!​Tickets:Adult $24Senior/Military $20Student $16 \nhttps://www.facebook.com/events/644718068640675/?event_time_id=644718085307340
URL:https://explorebeaufortsc.com/event/beaufort-childrens-theatre-presents-seussical-jr/
LOCATION:801 Carteret St\, Beaufort\, SC 29902-4601\, United States\, 801 Carteret St\, Beaufort\, SC 29902-4601\, United States
ORGANIZER;CN="USCB Center for the Arts":MAILTO:noreply@facebookmail.com
END:VEVENT
END:VCALENDAR