BEGIN:VCALENDAR
VERSION:2.0
PRODID:-//Explore Beaufort SC - ECPv6.15.20//NONSGML v1.0//EN
CALSCALE:GREGORIAN
METHOD:PUBLISH
X-WR-CALNAME:Explore Beaufort SC
X-ORIGINAL-URL:https://explorebeaufortsc.com
X-WR-CALDESC:Events for Explore Beaufort SC
REFRESH-INTERVAL;VALUE=DURATION:PT1H
X-Robots-Tag:noindex
X-PUBLISHED-TTL:PT1H
BEGIN:VTIMEZONE
TZID:America/New_York
BEGIN:DAYLIGHT
TZOFFSETFROM:-0500
TZOFFSETTO:-0400
TZNAME:EDT
DTSTART:20250309T070000
END:DAYLIGHT
BEGIN:STANDARD
TZOFFSETFROM:-0400
TZOFFSETTO:-0500
TZNAME:EST
DTSTART:20251102T060000
END:STANDARD
BEGIN:DAYLIGHT
TZOFFSETFROM:-0500
TZOFFSETTO:-0400
TZNAME:EDT
DTSTART:20260308T070000
END:DAYLIGHT
BEGIN:STANDARD
TZOFFSETFROM:-0400
TZOFFSETTO:-0500
TZNAME:EST
DTSTART:20261101T060000
END:STANDARD
BEGIN:DAYLIGHT
TZOFFSETFROM:-0500
TZOFFSETTO:-0400
TZNAME:EDT
DTSTART:20270314T070000
END:DAYLIGHT
BEGIN:STANDARD
TZOFFSETFROM:-0400
TZOFFSETTO:-0500
TZNAME:EST
DTSTART:20271107T060000
END:STANDARD
END:VTIMEZONE
BEGIN:VEVENT
DTSTART;TZID=America/New_York:20260520T140000
DTEND;TZID=America/New_York:20260520T150000
DTSTAMP:20260425T104913
CREATED:20260408T014810Z
LAST-MODIFIED:20260415T225052Z
UID:26505-1779285600-1779289200@explorebeaufortsc.com
SUMMARY:Play "Revealing the Revolution" Marker Scavenger Hunt
DESCRIPTION:A free\, self-guided historical marker scavenger hunt across Beaufort County.Pick up a game brochure at any BeaufortBranch Library or Bookmobile\,visits the RevWar themed markers\, find answers\, complete your gameboard\, win PRIZES! Turn in your completed sheet at any Branch Library or mail it in. Prizes will be distributed by July 31. It’s FUN\, it’s FREE\, it’s all about HISTORY! \nhttps://www.facebook.com/events/1414536227078650/?event_time_id=1414536257078647
URL:https://explorebeaufortsc.com/event/play-revealing-the-revolution-marker-scavenger-hunt-7/
LOCATION:Beaufort County\, Beaufort County
END:VEVENT
END:VCALENDAR