BEGIN:VCALENDAR
VERSION:2.0
PRODID:-//Explore Beaufort SC - ECPv6.15.20//NONSGML v1.0//EN
CALSCALE:GREGORIAN
METHOD:PUBLISH
X-WR-CALNAME:Explore Beaufort SC
X-ORIGINAL-URL:https://explorebeaufortsc.com
X-WR-CALDESC:Events for Explore Beaufort SC
REFRESH-INTERVAL;VALUE=DURATION:PT1H
X-Robots-Tag:noindex
X-PUBLISHED-TTL:PT1H
BEGIN:VTIMEZONE
TZID:America/New_York
BEGIN:DAYLIGHT
TZOFFSETFROM:-0500
TZOFFSETTO:-0400
TZNAME:EDT
DTSTART:20250309T070000
END:DAYLIGHT
BEGIN:STANDARD
TZOFFSETFROM:-0400
TZOFFSETTO:-0500
TZNAME:EST
DTSTART:20251102T060000
END:STANDARD
BEGIN:DAYLIGHT
TZOFFSETFROM:-0500
TZOFFSETTO:-0400
TZNAME:EDT
DTSTART:20260308T070000
END:DAYLIGHT
BEGIN:STANDARD
TZOFFSETFROM:-0400
TZOFFSETTO:-0500
TZNAME:EST
DTSTART:20261101T060000
END:STANDARD
BEGIN:DAYLIGHT
TZOFFSETFROM:-0500
TZOFFSETTO:-0400
TZNAME:EDT
DTSTART:20270314T070000
END:DAYLIGHT
BEGIN:STANDARD
TZOFFSETFROM:-0400
TZOFFSETTO:-0500
TZNAME:EST
DTSTART:20271107T060000
END:STANDARD
END:VTIMEZONE
BEGIN:VEVENT
DTSTART;TZID=America/New_York:20260524T171500
DTEND;TZID=America/New_York:20260524T201500
DTSTAMP:20260425T104912
CREATED:20260326T215626Z
LAST-MODIFIED:20260415T225053Z
UID:26208-1779642900-1779653700@explorebeaufortsc.com
SUMMARY:Drivin n Cryin
DESCRIPTION:Celebrating their 35th Anniversary together\, Atlanta-based folk rock act\, Drivin n Cryin\, have spent most of their career on tour. Don’t miss the amazing chance to catch them in the Lowcountry.
URL:https://explorebeaufortsc.com/event/drivin-n-cryin/
LOCATION:1111 11th street\, Port Royal\, SC\, 1111 11th street\, Port Royal\, SC
ORGANIZER;CN="Shellring Ale Works":MAILTO:noreply@facebookmail.com
END:VEVENT
END:VCALENDAR