BEGIN:VCALENDAR
VERSION:2.0
PRODID:-//Explore Beaufort SC - ECPv6.15.20//NONSGML v1.0//EN
CALSCALE:GREGORIAN
METHOD:PUBLISH
X-ORIGINAL-URL:https://explorebeaufortsc.com
X-WR-CALDESC:Events for Explore Beaufort SC
REFRESH-INTERVAL;VALUE=DURATION:PT1H
X-Robots-Tag:noindex
X-PUBLISHED-TTL:PT1H
BEGIN:VTIMEZONE
TZID:America/New_York
BEGIN:DAYLIGHT
TZOFFSETFROM:-0500
TZOFFSETTO:-0400
TZNAME:EDT
DTSTART:20250309T070000
END:DAYLIGHT
BEGIN:STANDARD
TZOFFSETFROM:-0400
TZOFFSETTO:-0500
TZNAME:EST
DTSTART:20251102T060000
END:STANDARD
BEGIN:DAYLIGHT
TZOFFSETFROM:-0500
TZOFFSETTO:-0400
TZNAME:EDT
DTSTART:20260308T070000
END:DAYLIGHT
BEGIN:STANDARD
TZOFFSETFROM:-0400
TZOFFSETTO:-0500
TZNAME:EST
DTSTART:20261101T060000
END:STANDARD
BEGIN:DAYLIGHT
TZOFFSETFROM:-0500
TZOFFSETTO:-0400
TZNAME:EDT
DTSTART:20270314T070000
END:DAYLIGHT
BEGIN:STANDARD
TZOFFSETFROM:-0400
TZOFFSETTO:-0500
TZNAME:EST
DTSTART:20271107T060000
END:STANDARD
END:VTIMEZONE
BEGIN:VEVENT
DTSTART;TZID=America/New_York:20260605T100000
DTEND;TZID=America/New_York:20260605T153000
DTSTAMP:20260425T122143
CREATED:20260408T014810Z
LAST-MODIFIED:20260415T225053Z
UID:26509-1780653600-1780673400@explorebeaufortsc.com
SUMMARY:FREE Wills Clinic
DESCRIPTION:Get your simple FREE Will!Register by calling CHP at 843-745-7055. Proud to partner with the Center for Heirs’ Property Preservation and Lowcountry Gullah on this vital outreach!
URL:https://explorebeaufortsc.com/event/free-wills-clinic-2/
LOCATION:Lowcountry Outreach\, Lowcountry Outreach
ORGANIZER;CN="Lowcountry Legal Volunteers":MAILTO:noreply@facebookmail.com
END:VEVENT
BEGIN:VEVENT
DTSTART;TZID=America/New_York:20260605T210000
DTEND;TZID=America/New_York:20260606T220000
DTSTAMP:20260425T122143
CREATED:20260408T014811Z
LAST-MODIFIED:20260415T225053Z
UID:26511-1780693200-1780783200@explorebeaufortsc.com
SUMMARY:Mr. & Miss Juneteenth Scholarship Pageant
DESCRIPTION:�����Come see our Kings & Queens shine with this year’s theme\, “Young\, Gifted\, & Black”  \nTickets are now on sale to the 2026 Mr. & Miss Juneteenth Scholarship Pageant!  \nSeating is limited so please have guests purchase as soon as possible. Once all tickets are sold there will be no more available.  \nDates: Friday June 5th\, Black Excellence Talent Competition  \n-AND- \nSaturday\, June 6th\, Crowning Ceremony NightLocation: United Church\, 1801 Duke Street \nhttps://www.eventbrite.com/e/mr-miss-juneteenth-scholarship-pageant-tickets-1986719973923
URL:https://explorebeaufortsc.com/event/mr-miss-juneteenth-scholarship-pageant/
LOCATION:1801 Duke Street\, 1801 Duke Street
END:VEVENT
END:VCALENDAR