BEGIN:VCALENDAR
VERSION:2.0
PRODID:-//Explore Beaufort SC - ECPv6.15.20//NONSGML v1.0//EN
CALSCALE:GREGORIAN
METHOD:PUBLISH
X-ORIGINAL-URL:https://explorebeaufortsc.com
X-WR-CALDESC:Events for Explore Beaufort SC
REFRESH-INTERVAL;VALUE=DURATION:PT1H
X-Robots-Tag:noindex
X-PUBLISHED-TTL:PT1H
BEGIN:VTIMEZONE
TZID:America/New_York
BEGIN:DAYLIGHT
TZOFFSETFROM:-0500
TZOFFSETTO:-0400
TZNAME:EDT
DTSTART:20250309T070000
END:DAYLIGHT
BEGIN:STANDARD
TZOFFSETFROM:-0400
TZOFFSETTO:-0500
TZNAME:EST
DTSTART:20251102T060000
END:STANDARD
BEGIN:DAYLIGHT
TZOFFSETFROM:-0500
TZOFFSETTO:-0400
TZNAME:EDT
DTSTART:20260308T070000
END:DAYLIGHT
BEGIN:STANDARD
TZOFFSETFROM:-0400
TZOFFSETTO:-0500
TZNAME:EST
DTSTART:20261101T060000
END:STANDARD
BEGIN:DAYLIGHT
TZOFFSETFROM:-0500
TZOFFSETTO:-0400
TZNAME:EDT
DTSTART:20270314T070000
END:DAYLIGHT
BEGIN:STANDARD
TZOFFSETFROM:-0400
TZOFFSETTO:-0500
TZNAME:EST
DTSTART:20271107T060000
END:STANDARD
END:VTIMEZONE
BEGIN:VEVENT
DTSTART;TZID=America/New_York:20260605T210000
DTEND;TZID=America/New_York:20260606T220000
DTSTAMP:20260425T121226
CREATED:20260408T014811Z
LAST-MODIFIED:20260415T225053Z
UID:26511-1780693200-1780783200@explorebeaufortsc.com
SUMMARY:Mr. & Miss Juneteenth Scholarship Pageant
DESCRIPTION:�����Come see our Kings & Queens shine with this year’s theme\, “Young\, Gifted\, & Black”  \nTickets are now on sale to the 2026 Mr. & Miss Juneteenth Scholarship Pageant!  \nSeating is limited so please have guests purchase as soon as possible. Once all tickets are sold there will be no more available.  \nDates: Friday June 5th\, Black Excellence Talent Competition  \n-AND- \nSaturday\, June 6th\, Crowning Ceremony NightLocation: United Church\, 1801 Duke Street \nhttps://www.eventbrite.com/e/mr-miss-juneteenth-scholarship-pageant-tickets-1986719973923
URL:https://explorebeaufortsc.com/event/mr-miss-juneteenth-scholarship-pageant/
LOCATION:1801 Duke Street\, 1801 Duke Street
END:VEVENT
BEGIN:VEVENT
DTSTART;TZID=America/New_York:20260606T090000
DTEND;TZID=America/New_York:20260606T120000
DTSTAMP:20260425T121226
CREATED:20260319T025721Z
LAST-MODIFIED:20260415T225053Z
UID:26104-1780736400-1780747200@explorebeaufortsc.com
SUMMARY:Jump into Summer -Kids Waterslide Event
DESCRIPTION:Town of Bluffton Hosts its 5th Annual Jump Into Summer Event. \nJune 6\, 2026\, 9:00 AM to 12:00 PM at Oscar Frazier Park – Field of Dreams (7 Recreation Court\, Bluffton\, SC) \nEnjoy waterslides\, video games on a Jumbotron\, lawn games\, and great music from Jeff “T-Bone” Taylor from 104.9 The Surf. There will also be concessions (for purchase) and prizes for participants! \nDon’t forget to wear your bathing suit! This is a FREE public event.
URL:https://explorebeaufortsc.com/event/jump-into-summer-kids-waterslide-event/
LOCATION:Oscar Frazier Park
ORGANIZER;CN="Town of Bluffton Government":MAILTO:noreply@facebookmail.com
END:VEVENT
BEGIN:VEVENT
DTSTART;TZID=America/New_York:20260606T090000
DTEND;TZID=America/New_York:20260606T120000
DTSTAMP:20260425T121226
CREATED:20260326T215626Z
LAST-MODIFIED:20260415T225053Z
UID:26210-1780736400-1780747200@explorebeaufortsc.com
SUMMARY:20th Annual Beaufort River Swim & Run
DESCRIPTION:Saturday\, June 6\, 2026 Event Options \n3.2-Mile Beaufort River Swim1-Mile Swim3.2-Mile Swim/5K Run1-Mile Swim/5K RunOr Relay Option (Timed Event but No Awards Given)ALL PROCEEDS BENEFIT THE WARDLE FAMILY YMCA’S LEARN TO SWIM PROGRAM! \nInterested in sponsoring or donating to the 2026 Beaufort River Swim\, please contact Perri Flaherty at p.flaherty@wardleflamilyymca.org or (843) 379-1365. \nSwim Race Course: Our 3.2 mile course is the unique estuary called the Beaufort River\, starting at the Safe Harbor Port Royal Landing Marina\, winding around the curve\, and finishing at the day dock\, adjacent to the Beaufort Waterfront Park\, with spectators watching the finish line. The course is approximately 3.2 miles swimming with the tide. The water temp is mild to warm\, usually mid 70’s. The surface wave conditions range from calm to choppy at times depending upon the weather. Our 1 mile course follows this same path\, but begins at the Beaufort Memorial Hospital Dock. Both swims finish at the same location. \nPacket Pick-Up:Race bags will be available for pick up on Friday\, June 5th at the YMCA at Port Royal from 3:00pm-7:00pm (1801 Richmond Ave\, Port Royal\, SC 29935) or day of race at the Downtown Marina during check-in. See details in email sent out prior to race day.​ \nRace Day:Meet at the Downtown Safe Harbor Beaufort Marina (1006 Bay Street\, Beaufort\, SC 29902) starting at 6:00 am. This is the end point for both swims as well as the staging area for swim/run events. Both swims require all swimmers to check in prior to boarding the buses. Swimmers should NOT meet at the starting point. YMCA staff will transport swimmers via bus to their respective starting points (Safe Harbor Port Royal Marina for the 3.2-Mile swimmers and the Beaufort Memorial Hospital dock for the 1-Mile swimmers).YMCA staff will bring your numbered race bag back to the downtown marina where swimmers can retrieve it after the race (please do not leave valuables in your race bag). \nAll 3.2 Mile Race entrants must be checked-in by 7:15am. Check in begins at 6:00am. Please allow at least 15 minutes to check-in on race day! Even if you have already picked up your race bag\, you must check-in on race day to receive your chip timer and body markings. You must wear the assigned swim cap in your race bag. Last bus for 3.2-mile swimmers leaves the downtown Beaufort Marina parking lot at 8:30am. \nCheck in for the 1 Mile Swim starts at 6:30am. Please allow at least 15 minutes to check-in on race day! Even if you have already picked up your race bag\, you must check-in on race day to receive your chip timer and body markings.You must wear the assigned swim cap in your race bag. Last bus for 1 Mile swimmers leaves the downtown Beaufort Marina parking lot at 9:00am. \n5K Run:Please note that the race course will be altered this year due to the closure of the waterfront area. You can sprint\, you can jog\, or you can walk this 5K and enjoy the scenery. Due to renovations of the waterfront park\, the route will be slightly different than in previous years.You will leave the parking area along the brick path behind the shops and run along it until you reach the Woods Memorial swing bridge\, cross the bridge and turn right down Meridian Road\, turn around at the marked turn station and return the way you came. The race will require runners to exit the transition zone over to the brick path directly behind the buildings. Runners will return the same way they came finishing the race under the arch in the parking lot.Please note that due to the nature of this race\, Woods Memorial Bridge is not closed down and runners will be on the sidewalk. There is a small chance the bridge can open during this time\, and runners will be required to stop. \nNote that there is NO same day registration –registration ends Wednesday June 3\, 2026 at 8:00pm EST. \nSwimming Information-Please read through detailed instructions included in the race bag! \n1 Mile Swim participants must be at least 10 years old.3.2 Mile swim participants must be at least 13 years old.Equipment and headphones are not permitted due to safety protocolsWet-suits are allowed in either swim but will make you ineligible for awards.You must swim up to\, onto and run/walk up the boat ramp and over the timing mat to finish the race.There will also be a portable shower area\, small towels and water available for all swimmers.Both swims will be WITH the tide. Large yellow buoys will mark the swim route. The finish at the boat ramp is marked with a large string of pool ‘noodles’ as well as event safety personnel on SUP\, kayaks and lifeguards on the day dock.Participants registered after April 28th are NOT guaranteed to receive a t-shirt; available on a first come\, first serve basis for registrants after April 28th. \nAwards:Awards presentation will be held 2 hours after the swim start for swimmers and 2.5 hours after the swim start for swim/ runners at the downtown marina parking lot area.  \nBobbleheads:3.2 mile Beaufort River Swim: Top Female & Male finishers plus top age group finishers1 mile swim: Top Female and Male finishers3.2 miles swim & 5k Run: Top Female and Male finishers1 mile swim & 5k Run: Top Female and Male finishersRace Safety: The Beaufort Search and Rescue Squadron will be providing the primary safety for our event.A fleet of kayakers and other safety vessels will monitor the course to ensure the swimmers’ safety.Swimmers must follow directions of safety personnel. Please review swim course and running course prior to the event! No headphones/ear bunds/swim enhancing equipment are allowed during the swim portion of the race.  \nFees:Entry Fee is non-refundable including in the event of inclement weather\, water conditions or issues beyond our control. In the event of a cancellation\, Beaufort Search & Rescue will make the final call. Swimmers will still be able to pick up their race bags in the event of a cancellation.
URL:https://explorebeaufortsc.com/event/20th-annual-beaufort-river-swim-run/
LOCATION:Beaufort Waterfront Park
ORGANIZER;CN="Wardle Family YMCA":MAILTO:noreply@facebookmail.com
END:VEVENT
BEGIN:VEVENT
DTSTART;TZID=America/New_York:20260606T130000
DTEND;TZID=America/New_York:20260606T160000
DTSTAMP:20260425T121226
CREATED:20260311T180333Z
LAST-MODIFIED:20260415T225053Z
UID:26020-1780750800-1780761600@explorebeaufortsc.com
SUMMARY:2026 Music Festival of the Lowcountry
DESCRIPTION:We are thrilled to bring the 3rd Annual Music Festival of the Lowcountry back to beautiful Henry C. Chambers Waterfront Park in Beaufort\, SC!!  \nWe are thrilled to announce that the event is ✅free to attend\, once again!  \nFollow us and stay tuned to updates coming soon!
URL:https://explorebeaufortsc.com/event/2026-music-festival-of-the-lowcountry/
LOCATION:Henry C. Chambers Waterfront Park \, Beaufort\, SC\, United States\, South Carolina 29902\, Henry C. Chambers Waterfront Park \, Beaufort\, SC\, United States\, South Carolina 29902
ORGANIZER;CN="Music Festival of the Lowcountry":MAILTO:noreply@facebookmail.com
END:VEVENT
END:VCALENDAR