BEGIN:VCALENDAR
VERSION:2.0
PRODID:-//Explore Beaufort SC - ECPv6.15.20//NONSGML v1.0//EN
CALSCALE:GREGORIAN
METHOD:PUBLISH
X-ORIGINAL-URL:https://explorebeaufortsc.com
X-WR-CALDESC:Events for Explore Beaufort SC
REFRESH-INTERVAL;VALUE=DURATION:PT1H
X-Robots-Tag:noindex
X-PUBLISHED-TTL:PT1H
BEGIN:VTIMEZONE
TZID:America/New_York
BEGIN:DAYLIGHT
TZOFFSETFROM:-0500
TZOFFSETTO:-0400
TZNAME:EDT
DTSTART:20250309T070000
END:DAYLIGHT
BEGIN:STANDARD
TZOFFSETFROM:-0400
TZOFFSETTO:-0500
TZNAME:EST
DTSTART:20251102T060000
END:STANDARD
BEGIN:DAYLIGHT
TZOFFSETFROM:-0500
TZOFFSETTO:-0400
TZNAME:EDT
DTSTART:20260308T070000
END:DAYLIGHT
BEGIN:STANDARD
TZOFFSETFROM:-0400
TZOFFSETTO:-0500
TZNAME:EST
DTSTART:20261101T060000
END:STANDARD
BEGIN:DAYLIGHT
TZOFFSETFROM:-0500
TZOFFSETTO:-0400
TZNAME:EDT
DTSTART:20270314T070000
END:DAYLIGHT
BEGIN:STANDARD
TZOFFSETFROM:-0400
TZOFFSETTO:-0500
TZNAME:EST
DTSTART:20271107T060000
END:STANDARD
END:VTIMEZONE
BEGIN:VEVENT
DTSTART;TZID=America/New_York:20260620T103000
DTEND;TZID=America/New_York:20260620T120000
DTSTAMP:20260425T121226
CREATED:20260408T014812Z
LAST-MODIFIED:20260415T225054Z
UID:26517-1781951400-1781956800@explorebeaufortsc.com
SUMMARY:Eco Boat Tour with Beaufort Dolphin Adventures
DESCRIPTION:Join Beaufort Dolphin Adventures for a boat tour from the Maritime Center to experience the Port Royal Sound up close. On these tours we’ll look for dolphins and wildlife while seeing and learning about our vibrant salt marsh ecosystem and waterways. We’ll also touch on some of the Sound’s colorful history. These 90-minute trips aregeared towards all ages.  \nPricing: $40 Adults\, $20 Children 12 to 3\, Infants 2 and Under are Free. \nTickets & information available here:www.beaufortdolphinadventures.com/port-royal-sound-foundation
URL:https://explorebeaufortsc.com/event/eco-boat-tour-with-beaufort-dolphin-adventures-3/
LOCATION:310 Okatie Hwy\, Okatie\, SC\, United States\, South Carolina 29909\, 310 Okatie Hwy\, Okatie\, SC\, United States\, South Carolina 29909
ORGANIZER;CN="Port Royal Sound Foundation":MAILTO:noreply@facebookmail.com
END:VEVENT
END:VCALENDAR