BEGIN:VCALENDAR
VERSION:2.0
PRODID:-//Explore Beaufort SC - ECPv6.15.20//NONSGML v1.0//EN
CALSCALE:GREGORIAN
METHOD:PUBLISH
X-ORIGINAL-URL:https://explorebeaufortsc.com
X-WR-CALDESC:Events for Explore Beaufort SC
REFRESH-INTERVAL;VALUE=DURATION:PT1H
X-Robots-Tag:noindex
X-PUBLISHED-TTL:PT1H
BEGIN:VTIMEZONE
TZID:America/New_York
BEGIN:DAYLIGHT
TZOFFSETFROM:-0500
TZOFFSETTO:-0400
TZNAME:EDT
DTSTART:20250309T070000
END:DAYLIGHT
BEGIN:STANDARD
TZOFFSETFROM:-0400
TZOFFSETTO:-0500
TZNAME:EST
DTSTART:20251102T060000
END:STANDARD
BEGIN:DAYLIGHT
TZOFFSETFROM:-0500
TZOFFSETTO:-0400
TZNAME:EDT
DTSTART:20260308T070000
END:DAYLIGHT
BEGIN:STANDARD
TZOFFSETFROM:-0400
TZOFFSETTO:-0500
TZNAME:EST
DTSTART:20261101T060000
END:STANDARD
BEGIN:DAYLIGHT
TZOFFSETFROM:-0500
TZOFFSETTO:-0400
TZNAME:EDT
DTSTART:20270314T070000
END:DAYLIGHT
BEGIN:STANDARD
TZOFFSETFROM:-0400
TZOFFSETTO:-0500
TZNAME:EST
DTSTART:20271107T060000
END:STANDARD
END:VTIMEZONE
BEGIN:VEVENT
DTSTART;TZID=America/New_York:20260630T093000
DTEND;TZID=America/New_York:20260630T100000
DTSTAMP:20260425T173534
CREATED:20260110T183140Z
LAST-MODIFIED:20260415T225055Z
UID:25445-1782811800-1782813600@explorebeaufortsc.com
SUMMARY:Story Time 2026
DESCRIPTION:Join us at the Maritime Center to take a trip through our natural world and watch animals come alive through the pages of a book! Stick around after the story for a fun activity or animal encounter. \nFree to attend! \nNo registration – just show up \nStory time is once a month but during the summer\, June-August\, it is every Tuesday.  \nhttps://www.facebook.com/events/1638989597081637/?event_time_id=1638989707081626
URL:https://explorebeaufortsc.com/event/story-time-2026-10/
LOCATION:310 Okatie Hwy\, Okatie\, SC\, United States\, South Carolina 29909\, 310 Okatie Hwy\, Okatie\, SC\, United States\, South Carolina 29909
ORGANIZER;CN="Port Royal Sound Foundation":MAILTO:noreply@facebookmail.com
END:VEVENT
BEGIN:VEVENT
DTSTART;TZID=America/New_York:20260718T090000
DTEND;TZID=America/New_York:20260718T120000
DTSTAMP:20260425T173534
CREATED:20260311T180355Z
LAST-MODIFIED:20260415T225055Z
UID:26023-1784365200-1784376000@explorebeaufortsc.com
SUMMARY:Slide Out of July - Kids Waterslide Event
DESCRIPTION:Town of Bluffton Hosts its 5th Annual Slide Out of July Event. \nJuly 18\, 2026\, 9:00 AM to 12:00 PM at Buckwalter Place Park – Amphitheater (20 Carecore Drive\, Bluffton\, SC) \nEnjoy waterslides\, video games on a Jumbotron\, lawn games\, and great music from Jeff “T-Bone” Taylor from 104.9 The Surf. There will also be concessions (for purchase) and prizes for participants! \nDon’t forget to wear your bathing suit! This is a FREE public event.
URL:https://explorebeaufortsc.com/event/slide-out-of-july-kids-waterslide-event/
LOCATION:20 Carecore Drive Bluffton\, SC 29910\, 20 Carecore Drive Bluffton\, SC 29910
ORGANIZER;CN="Town of Bluffton Government":MAILTO:noreply@facebookmail.com
END:VEVENT
BEGIN:VEVENT
DTSTART;TZID=America/New_York:20260905T110000
DTEND;TZID=America/New_York:20260906T190000
DTSTAMP:20260425T173534
CREATED:20260110T183140Z
LAST-MODIFIED:20260415T225055Z
UID:25446-1788606000-1788721200@explorebeaufortsc.com
SUMMARY:Savannah World Oddities Expo
DESCRIPTION:Welcome to WOE’s 2nd annual Savannah event —prepare yourself for an experience like no other! \n🗓️ Saturday & Sunday\, September 5th & 6th📍Savannah Convention Center🦇 Hall D🎟️ VIP 10am-7pm🎟️ General Admission 11am-7pmChildren 12 and under are free! \n👁🎪Welcome to the World Oddities Expo- a traveling celebration of all things weird\, intriguing\, and magically macabre! We’re combining our love of art\, history\, science and entertainment wrapped into one incredible event! Shop till you drop from dozens of eclectic vendors and small businesses. Grab a ticket to the Deformed Exhibit to indulge in rare\, preserved specimens that defy the laws of nature! Take a workshop in WOE labs and try your hand at taxidermy\, rat skeleton articulation\, or create a miniature diorama terrarium and more! Visit our Main Stage for amazing live performances throughout the day\, as well as surprise guest speakers for free seminars! Whether you’re into oddities\, art\, fashion\, science\, or the culture- this is your space to celebrate what makes you unique!  \n💀👻DEFORMED EXHIBITVisit our touring\, one-of-a-kind Deformed Exhibit featuring real\, rare specimens with medical anomalies! Snag a combo general admission ticket or a combo VIP ticket for those who want early access to shop before the crowds. \n🦋🔬WOE LABSReady to kickstart your new favorite hobby but aren’t quite sure how to start? Take a class at WOE Labs and enter a world where learning and creativity collide! Our knowledgeable and experienced instructors are there to guide you step by step. Don’t stress- all experience levels are welcomed! Classes vary from city to city. \n✨️🎭 LIVE ENTERTAINMENT We curate only the best and most talented performers to take the WOE stage! You’ll find everything from contortion\, odes to sideshow\, clowns\, as well as a few things you’ve never seen before! Don’t miss these jaw dropping performances at the WOE Main Stage throughout the day! \n🎟️ ➡️ Get your tickets NOW at WORLDODDITIESEXPO.COM
URL:https://explorebeaufortsc.com/event/savannah-world-oddities-expo/
LOCATION:Savannah Convention Center
END:VEVENT
BEGIN:VEVENT
DTSTART;TZID=America/New_York:20260925T100000
DTEND;TZID=America/New_York:20260927T200000
DTSTAMP:20260425T173534
CREATED:20260225T004322Z
LAST-MODIFIED:20260415T225055Z
UID:25883-1790330400-1790539200@explorebeaufortsc.com
SUMMARY:Savannah Tattoo Arts Festival
DESCRIPTION:Come get the ultimate tattoo festival experience at the 5th Annual Savannah Tattoo Arts Festival. Tattoos\, piercing\, art and entertainment. \nThere is something for everyone.
URL:https://explorebeaufortsc.com/event/savannah-tattoo-arts-festival/
LOCATION:Savannah Convention Center
END:VEVENT
BEGIN:VEVENT
DTSTART;TZID=America/New_York:20261024T150000
DTEND;TZID=America/New_York:20261024T210000
DTSTAMP:20260425T173534
CREATED:20260319T025729Z
LAST-MODIFIED:20260415T225055Z
UID:26105-1792854000-1792875600@explorebeaufortsc.com
SUMMARY:Haunted Hallows Festival 2026
DESCRIPTION:Haunted Hallows Festival Returns October 24\, 2026 \nBigger. Wilder. Still 100% FREE. \nOctober 24\, 2026 | 3:00 PM – 9:00 PMNaval Heritage Park | Port Royal\, SCFree Admission | Free Games | One Night Only \nMark your calendars and start planning your costume now. \nThe Haunted Hallows Festival is returning to Port Royal for its third year\, and what began as a spirited community gathering has absolutely exploded into a regionally known\, family-centered fall phenomenon. \nOn Saturday\, October 24\, 2026\, from 3:00 PM to 9:00 PM\, Naval Heritage Park will once again transform into a high-energy\, joy-filled celebration of creativity\, costumes\, music\, and community — and admission is completely FREE. \nYes. Free entry.Yes. Free games.No tickets required. \nThis is not your typical “walk around and look at pumpkins” event. \nA Children’s Area That’s Actually Epic \nHaunted Hallows features a completely free Children’s Games Zone packed with hands-on fun and interactive challenges designed to keep young adventurers moving\, laughing\, and fully immersed. \nKids (and yes\, adults too) can participate in the wildly popular Festival Passport Program\, collecting stamps from characters and destinations throughout the park. Complete your journey and earn bragging rights — and maybe a little magic along the way. \nAdd in face painting\, roaming characters\, and nonstop activity\, and you’ve got a children’s area that families drive in for. \nOn-Stage Competitions That Bring the Drama \nThe main stage will once again host crowd-favorite competitions that are equal parts hilarious and unforgettable\, including: \nBest Werewolf Howl \nBest Witchy Cackle \nLoudest Maniacal Laugh \nAnd more spirited surprises \nExpect bold costumes\, theatrical flair\, and plenty of audience participation. \nMassive Vendor Village & Food Truck Court \nBrowse the ever-growing Vendor Village\, packed with artisans\, makers\, creators\, and unique finds you won’t see in big box stores. From handmade goods to spooky treasures\, it’s a shopping experience all its own. \nWhen hunger strikes\, head to the Food Truck Court featuring a diverse lineup of local favorites and festival treats. The only thing you’ll pay for all night is the food you choose and the treasures you can’t resist bringing home. \nEverything else? Free. \nIntroducing: The All-New TEEN ARENA \nAnd now for the game changer. \nIn 2026\, Haunted Hallows unveils its newest addition: the TEEN ARENA. \nThis is not a “stand around while your parents shop” situation. \nTeens… you better bring your brain\, your speed\, AND your brawn. \nCompetitive\, high-energy\, slightly chaotic (in the best way)\, and designed specifically for middle and high school energy levels — the Teen Arena is a whole new experience within the festival. More details are coming soon\, but one thing is clear: \nThis ain’t your run-of-the-mill festival night. \nCostumes Strongly Encouraged \nHaunted Hallows has become known for its creative crowd. Families\, friend groups\, teens\, grandparents — everyone shows up in costume. Whether you go full theatrical or subtle and spooky\, participation is part of the magic. \nOne Night. One Park. No Admission Fee. \nWhat makes Haunted Hallows truly special is its heart. The festival was created to foster inclusion\, community pride\, and family connection — without financial barriers. In a time when everything seems to come with a price tag\, Haunted Hallows remains proudly free to the public. \nIt’s bold.It’s welcoming.It’s wildly fun. \nAnd it’s back — bigger than ever. \nSaturday\, October 24\, 20263:00 PM – 9:00 PMNaval Heritage Park\, Port Royal\, SC \nOne day only. \nFor updates\, schedules\, and Teen Arena announcements\, follow Haunted Hallows on social media. \nClear your schedule.Charge your phone.Plan your costume. \nPort Royal gets a little louder on October 24. 🎃🔥
URL:https://explorebeaufortsc.com/event/haunted-hallows-festival-2026/
LOCATION:Naval Heritage Park\, Naval Heritage Park
END:VEVENT
END:VCALENDAR