BEGIN:VCALENDAR
VERSION:2.0
PRODID:-//Explore Beaufort SC - ECPv6.15.20//NONSGML v1.0//EN
CALSCALE:GREGORIAN
METHOD:PUBLISH
X-WR-CALNAME:Explore Beaufort SC
X-ORIGINAL-URL:https://explorebeaufortsc.com
X-WR-CALDESC:Events for Explore Beaufort SC
REFRESH-INTERVAL;VALUE=DURATION:PT1H
X-Robots-Tag:noindex
X-PUBLISHED-TTL:PT1H
BEGIN:VTIMEZONE
TZID:America/New_York
BEGIN:DAYLIGHT
TZOFFSETFROM:-0500
TZOFFSETTO:-0400
TZNAME:EDT
DTSTART:20250309T070000
END:DAYLIGHT
BEGIN:STANDARD
TZOFFSETFROM:-0400
TZOFFSETTO:-0500
TZNAME:EST
DTSTART:20251102T060000
END:STANDARD
BEGIN:DAYLIGHT
TZOFFSETFROM:-0500
TZOFFSETTO:-0400
TZNAME:EDT
DTSTART:20260308T070000
END:DAYLIGHT
BEGIN:STANDARD
TZOFFSETFROM:-0400
TZOFFSETTO:-0500
TZNAME:EST
DTSTART:20261101T060000
END:STANDARD
BEGIN:DAYLIGHT
TZOFFSETFROM:-0500
TZOFFSETTO:-0400
TZNAME:EDT
DTSTART:20270314T070000
END:DAYLIGHT
BEGIN:STANDARD
TZOFFSETFROM:-0400
TZOFFSETTO:-0500
TZNAME:EST
DTSTART:20271107T060000
END:STANDARD
END:VTIMEZONE
BEGIN:VEVENT
DTSTART;TZID=America/New_York:20260425T083000
DTEND;TZID=America/New_York:20260425T113000
DTSTAMP:20260425T074445
CREATED:20260326T215622Z
LAST-MODIFIED:20260415T225044Z
UID:26199-1777105800-1777116600@explorebeaufortsc.com
SUMMARY:70th Annual Beaufort Water Festival Pickleball Tournament
DESCRIPTION:Come join us for our annual pickleball tournament sponsored by Modern Jewelers\, held this year on Fripp Island on April 25\, 2026.  \nClick the link below to register today!  \nhttps://www.bftwaterfestival.com/pickleball-tournament.html#/
URL:https://explorebeaufortsc.com/event/70th-annual-beaufort-water-festival-pickleball-tournament/
LOCATION:Fripp Island\, Fripp Island
ORGANIZER;CN="Annual Beaufort Water Festival":MAILTO:noreply@facebookmail.com
END:VEVENT
BEGIN:VEVENT
DTSTART;TZID=America/New_York:20260425T100000
DTEND;TZID=America/New_York:20260425T120000
DTSTAMP:20260425T074445
CREATED:20260408T014806Z
LAST-MODIFIED:20260415T225044Z
UID:26484-1777111200-1777118400@explorebeaufortsc.com
SUMMARY:Dollar General Low Cost Rabies Vaccine Clinic 180 Sea Island PKWY Lady's Island
DESCRIPTION:One year Rabies $15. Three year Rabies $25. DHPP/FVRCP $15. FeLV/Bordetella $25. Heartworm test $25. Microchips $25.Come see us for your dog and/or cat’s vaccinations\, heartworm test and microchip\, services provided by a local veterinarian. We would love to see you! For more info check out our website. www.lowcountrypetvaccineclinic.com.
URL:https://explorebeaufortsc.com/event/dollar-general-low-cost-rabies-vaccine-clinic-180-sea-island-pkwy-ladys-island-21/
LOCATION:180 Sea Island Pkwy Ladys Island SC 29907
ORGANIZER;CN="Lowcountry Pet Vaccine Clinic":MAILTO:noreply@facebookmail.com
END:VEVENT
BEGIN:VEVENT
DTSTART;TZID=America/New_York:20260425T100000
DTEND;TZID=America/New_York:20260426T160000
DTSTAMP:20260425T074445
CREATED:20260415T225044Z
LAST-MODIFIED:20260415T225044Z
UID:26557-1777111200-1777219200@explorebeaufortsc.com
SUMMARY:The Art Market at Historic Honey Horn - Hilton Head Island\, SC
DESCRIPTION:Art that Speaks to the SoulApril 25-26Sat 10-5 Sun 10-470 Honey Horn Dr\, Hilton Head Is\, SCImmerse yourself in the tranquil seascapes award-winning artist Rachael Newman.Preview her work at https://rachaelnewmanstudios.com/
URL:https://explorebeaufortsc.com/event/the-art-market-at-historic-honey-horn-hilton-head-island-sc/
LOCATION:Coastal Discovery Museum
END:VEVENT
BEGIN:VEVENT
DTSTART;TZID=America/New_York:20260425T103000
DTEND;TZID=America/New_York:20260425T113000
DTSTAMP:20260425T074445
CREATED:20260326T215622Z
LAST-MODIFIED:20260415T225045Z
UID:26200-1777113000-1777116600@explorebeaufortsc.com
SUMMARY:Reptile Meet and Greet - RSVP Required
DESCRIPTION:Click the orange “Book A Program” button on our website to RSVP: portroyalsoundfoundation.org \n$10 per participant (plus fees) – THIS INCLUDES CHILDREN & ADULTS. \nMeet and greet some animals at the Maritime Center! Join our Naturalists for a fun\, educational program about our Lowcountry reptiles. \nAges 3 & up. Children must be accompanied by an adult. \nhttps://www.facebook.com/events/943686414877924/?event_time_id=943686424877923
URL:https://explorebeaufortsc.com/event/reptile-meet-and-greet-rsvp-required-2/
LOCATION:310 Okatie Hwy\, Okatie\, SC\, United States\, South Carolina 29909\, 310 Okatie Hwy\, Okatie\, SC\, United States\, South Carolina 29909
ORGANIZER;CN="Port Royal Sound Foundation":MAILTO:noreply@facebookmail.com
END:VEVENT
BEGIN:VEVENT
DTSTART;TZID=America/New_York:20260425T110000
DTEND;TZID=America/New_York:20260425T160000
DTSTAMP:20260425T074445
CREATED:20260205T015311Z
LAST-MODIFIED:20260415T225046Z
UID:25622-1777114800-1777132800@explorebeaufortsc.com
SUMMARY:Springfest 2026
DESCRIPTION:🌼 Springfest 2026! 🌸Saturday\, April 25\, 2026 11am-4pm  \nCome shop\, eat\, and have fun with us in historic Port Royal!  \n707 & 709 Paris Ave. Port Royal\, SC 29935 \nLocal artists\, artisans\, and local vendors!  \nFood trucks\, live entertainment\, and more!  \nWe can’t wait to see you!  \nQuestions? Email: portroyalzenden@gmail.com
URL:https://explorebeaufortsc.com/event/springfest-2026/
LOCATION:707 Paris Ave\, Port Royal\, SC\, 707 Paris Ave\, Port Royal\, SC
ORGANIZER;CN="ZenDen":MAILTO:noreply@facebookmail.com
END:VEVENT
BEGIN:VEVENT
DTSTART;TZID=America/New_York:20260425T140000
DTEND;TZID=America/New_York:20260425T153000
DTSTAMP:20260425T074445
CREATED:20260326T215622Z
LAST-MODIFIED:20260415T225047Z
UID:26201-1777125600-1777131000@explorebeaufortsc.com
SUMMARY:An Afternoon with Author Greg Howard
DESCRIPTION:The nonprofit Pat Conroy Literary Center will host an afternoon with Greg Howard\, young adult author of several books including The Whispers\, on Saturday\, April 25\, at 2:00 p.m.\, at the Conroy Center (601 Bladen St.\, Beaufort). Books will be available for sale and signing. Seating is limited for this free event; please call in advance to reserve: 843-379-7025. \nABOUT THE AUTHOR:Greg Howard was born and raised in the South Carolina Lowcountry where his love of stories blossomed at a young age. Originally set on becoming a songwriter\, Greg followed that dream to Nashville\, Tennessee\, where he spent years producing the music of others before eventually returning to his childhood passion of writing stories. Greg writes about LGBTQ characters and issues as his focus is writing the kind of books he wishes he’d had access to as a gay kid growing up in the South. He currently resides in Nashville with his three rescued fur babies–Molly\, Toby\, and Riley. \nABOUT THE BOOK:A middle grade debut that’s a heartrending coming-of-age tale\, perfect for fans of Bridge to Terabithia and Counting By 7s. \nEleven-year-old Riley believes in the whispers\, magical fairies that will grant you wishes if you leave them tributes. Riley has a lot of wishes. He wishes bullies at school would stop picking on him. He wishes Dylan\, his 8th grade crush\, liked him\, and Riley wishes he would stop wetting the bed. But most of all\, Riley wishes for his mom to come back home. She disappeared a few months ago\, and Riley is determined to crack the case. He even meets with a detective\, Frank\, to go over his witness statement time and time again. \nFrustrated with the lack of progress in the investigation\, Riley decides to take matters into his own hands. So he goes on a camping trip with his friend Gary to find the whispers and ask them to bring his mom back home. But Riley doesn’t realize the trip will shake the foundation of everything that he believes in forever.
URL:https://explorebeaufortsc.com/event/an-afternoon-with-author-greg-howard/
LOCATION:601 Bladen Street\, Beaufort\, SC\, United States\, South Carolina 29902\, 601 Bladen Street\, Beaufort\, SC\, United States\, South Carolina 29902
ORGANIZER;CN="Pat Conroy Literary Center":MAILTO:noreply@facebookmail.com
END:VEVENT
BEGIN:VEVENT
DTSTART;TZID=America/New_York:20260425T180000
DTEND;TZID=America/New_York:20260425T210000
DTSTAMP:20260425T074445
CREATED:20260408T014806Z
LAST-MODIFIED:20260415T225048Z
UID:26485-1777140000-1777150800@explorebeaufortsc.com
SUMMARY:Towns in Tune Live Concert Charity Event
DESCRIPTION:We’re excited to announce that Stoneworks Fabrication Center will be the hosting location for the Towns in Tune 2026 Charity Event on April 25th! Join us for an evening of fun\, friends\, & live music for a special cause! Friends of Caroline\, SCETV Lowcountry Studio\, Beaufort City Beaufort SC #townsintuneTickets available now!visit:Www.fochospice.org/towns-in-tune
URL:https://explorebeaufortsc.com/event/towns-in-tune-live-concert-charity-event/
LOCATION:779 Robert Smalls Parkway\, 779 Robert Smalls Parkway
END:VEVENT
BEGIN:VEVENT
DTSTART;TZID=America/New_York:20260426T130000
DTEND;TZID=America/New_York:20260426T150000
DTSTAMP:20260425T074445
CREATED:20260415T234009Z
LAST-MODIFIED:20260415T234042Z
UID:26614-1777208400-1777215600@explorebeaufortsc.com
SUMMARY:Sea Glass Workshop at Marshview Mercantile - Designer's Choice
DESCRIPTION:Sea Glass Designer’s Choice!\n\nChoose a Sea Glass Succulent Garden or a Sea Glass Tree.\nFor the garden\, you will make two plants. You may also paint the pot\, or not. Many colors available- your creative choice. The best part about these plants (besides you made it) is they’ll never die!\n\nBeloved Sea Glass Trees are fun to display year round\, not just Christmas. Choose your favorite team colors or go traditional- we’re here for it! You may choose a 9″ or 12″ tree.\n\nApril 26\, 1-3pm\n\n2631 Boundary Street\, Beaufort \n\n\nRegister: \nhttps://marshviewmercantile.commentsold.com/products/sea-glass-project-your-choice\n\n\n\nScreenshot
URL:https://explorebeaufortsc.com/event/sea-glass-workshop-at-marshview-mercantile-designers-choice/
LOCATION:Marshview Mercantile\, 2631 Boundary St\, Beaufort\, SC\, 29906\, US
ATTACH;FMTTYPE=image/jpeg:https://explorebeaufortsc.com/wp-content/uploads/2026/04/marshviewchoice1.jpg
END:VEVENT
BEGIN:VEVENT
DTSTART;TZID=America/New_York:20260426T160000
DTEND;TZID=America/New_York:20260426T190000
DTSTAMP:20260425T074445
CREATED:20260408T014806Z
LAST-MODIFIED:20260415T225048Z
UID:26488-1777219200-1777230000@explorebeaufortsc.com
SUMMARY:April Concert 2026 #2
DESCRIPTION:Our April Concert Series is just around the corner! We hope to see you at one or both of our performances!
URL:https://explorebeaufortsc.com/event/april-concert-2026-2/
LOCATION:Battery Creek High School\, 1 Blue Dolphin Dr\, Beaufort\, SC\, 29906\, US
ORGANIZER;CN="Lowcountry Wind Symphony":MAILTO:noreply@facebookmail.com
END:VEVENT
BEGIN:VEVENT
DTSTART;TZID=America/New_York:20260429T140000
DTEND;TZID=America/New_York:20260429T150000
DTSTAMP:20260425T074445
CREATED:20260408T014806Z
LAST-MODIFIED:20260415T225048Z
UID:26489-1777471200-1777474800@explorebeaufortsc.com
SUMMARY:Play "Revealing the Revolution" Marker Scavenger Hunt
DESCRIPTION:A free\, self-guided historical marker scavenger hunt across Beaufort County.Pick up a game brochure at any BeaufortBranch Library or Bookmobile\,visits the RevWar themed markers\, find answers\, complete your gameboard\, win PRIZES! Turn in your completed sheet at any Branch Library or mail it in. Prizes will be distributed by July 31. It’s FUN\, it’s FREE\, it’s all about HISTORY! \nhttps://www.facebook.com/events/1414536227078650/?event_time_id=1414536247078648
URL:https://explorebeaufortsc.com/event/play-revealing-the-revolution-marker-scavenger-hunt-4/
LOCATION:Beaufort County\, Beaufort County
END:VEVENT
BEGIN:VEVENT
DTSTART;TZID=America/New_York:20260430T090000
DTEND;TZID=America/New_York:20260430T120000
DTSTAMP:20260425T074445
CREATED:20260415T225048Z
LAST-MODIFIED:20260415T225048Z
UID:26561-1777539600-1777550400@explorebeaufortsc.com
SUMMARY:Lowcountry Coffee & Connections
DESCRIPTION:SCPRSA members: Join us in the Lowcountry on Thursday\, Apr. 30 at 9 a.m. at Urban Brew in Beaufort\, SC. \nThis is a great opportunity to meet new faces\, build meaningful connections and grow your local network. We look forward to seeing you there!
URL:https://explorebeaufortsc.com/event/lowcountry-coffee-connections/
LOCATION:Urban Brew + Co
END:VEVENT
BEGIN:VEVENT
DTSTART;TZID=America/New_York:20260430T113000
DTEND;TZID=America/New_York:20260430T143000
DTSTAMP:20260425T074445
CREATED:20260415T225048Z
LAST-MODIFIED:20260415T225048Z
UID:26563-1777548600-1777559400@explorebeaufortsc.com
SUMMARY:Cemetery Walking Tour
DESCRIPTION:Beaufort National Cemetery is the 13th oldest national cemetery in the United States and is the final resting place for over 30\,000 veterans and eligible family members. Would you like to learn about some of the heroes buried here and their stories? Come join our cemetery walking tour. Volunteer docents will take you on a tour through the 162-year old cemetery and learn about our nation’s history through the stories of those who served and defended it. Tours start at the main flagpole. For more information\, contact the cemetery at 843-524-3925.
URL:https://explorebeaufortsc.com/event/cemetery-walking-tour-35/
LOCATION:1601 Boundary Street\, Beaufort\, SC\, United States\, South Carolina 29902\, 1601 Boundary Street\, Beaufort\, SC\, United States\, South Carolina 29902
ORGANIZER;CN="Beaufort National Cemetery":MAILTO:noreply@facebookmail.com
END:VEVENT
END:VCALENDAR